BEGIN:VCALENDAR
VERSION:2.0
PRODID:-//TEE - ECPv6.15.20//NONSGML v1.0//EN
CALSCALE:GREGORIAN
METHOD:PUBLISH
X-WR-CALNAME:TEE
X-ORIGINAL-URL:https://web.tee.gr
X-WR-CALDESC:Events for TEE
REFRESH-INTERVAL;VALUE=DURATION:PT1H
X-Robots-Tag:noindex
X-PUBLISHED-TTL:PT1H
BEGIN:VTIMEZONE
TZID:Europe/Athens
BEGIN:DAYLIGHT
TZOFFSETFROM:+0200
TZOFFSETTO:+0300
TZNAME:EEST
DTSTART:20250330T010000
END:DAYLIGHT
BEGIN:STANDARD
TZOFFSETFROM:+0300
TZOFFSETTO:+0200
TZNAME:EET
DTSTART:20251026T010000
END:STANDARD
BEGIN:DAYLIGHT
TZOFFSETFROM:+0200
TZOFFSETTO:+0300
TZNAME:EEST
DTSTART:20260329T010000
END:DAYLIGHT
BEGIN:STANDARD
TZOFFSETFROM:+0300
TZOFFSETTO:+0200
TZNAME:EET
DTSTART:20261025T010000
END:STANDARD
BEGIN:DAYLIGHT
TZOFFSETFROM:+0200
TZOFFSETTO:+0300
TZNAME:EEST
DTSTART:20270328T010000
END:DAYLIGHT
BEGIN:STANDARD
TZOFFSETFROM:+0300
TZOFFSETTO:+0200
TZNAME:EET
DTSTART:20271031T010000
END:STANDARD
END:VTIMEZONE
BEGIN:VEVENT
DTSTART;VALUE=DATE:20260422
DTEND;VALUE=DATE:20260426
DTSTAMP:20260423T012128
CREATED:20250707T132132Z
LAST-MODIFIED:20260420T094048Z
UID:10003676-1776816000-1777161599@web.tee.gr
SUMMARY:CUMULUS 2026
DESCRIPTION:Το συνέδριο CUMULUS 2026 θα πραγματοποιηθεί 22 έως 25 Απριλίου 2026\, στο Πανεπιστήμιο Δυτικής Αττικής (εγκαταστάσεις Μοσχάτου)\, συγκεντρώνοντας κορυφαίους ακαδημαϊκούς\, ερευνητές και επαγγελματίες στον τομέα της ψηφιακής διατήρησης\, με στόχο την προστασία της πολιτιστικής και επιστημονικής κληρονομιάς στην ψηφιακή εποχή. \nΗ διοργάνωση του CUMULUS 2026 αναδεικνύει τη συμβολή της Ελλάδας στον τομέα της ψηφιακής διατήρησης και προσφέρει ένα σημαντικό διεθνές φόρουμ για διάλογο\, καινοτομία και συνεργασία. \nΠληροφορίες: https://cumulusathens2026.uniwa.gr/
URL:https://web.tee.gr/event/cumulus-2026/
CATEGORIES:Άλλοι φορείς
END:VEVENT
BEGIN:VEVENT
DTSTART;TZID=Europe/Athens:20260422T080000
DTEND;TZID=Europe/Athens:20260425T170000
DTSTAMP:20260423T012128
CREATED:20260311T082434Z
LAST-MODIFIED:20260311T082514Z
UID:10003885-1776844800-1777136400@web.tee.gr
SUMMARY:Οικονομικό Φόρουμ των Δελφών XI
DESCRIPTION:Συμπληρώνοντας μία δεκαετία διεθνούς και δυναμικής παρουσίας\, το 11ο Οικονομικό Φόρουμ των Δελφών επιστρέφει από 22 έως 25 Απριλίου 2026\, επιβεβαιώνοντας τον ρόλο του ως παγκόσμιου κόμβου στρατηγικού διαλόγου και συνεργασίας\, με την παρουσία και ομιλία του Προέδρου της Δημοκρατίας. Στη φετινή διοργάνωση θα αναδειχθούν οι κρίσιμες προκλήσεις της νέας εποχής και θα διερευνηθούν στρατηγικές κατευθύνσεις για ένα πιο βιώσιμο και ανθεκτικό μέλλον. \nΠόσο ανθεκτικές είναι τελικά οι οικονομίες; Πόσο έτοιμες είναι οι κυβερνήσεις να προχωρήσουν στις στρατηγικές επιλογές που απαιτεί η αντιμετώπιση των κρίσεων; Και κατά πόσο είναι πράγματι θωρακισμένη η διεθνής κοινότητα απέναντι σε αυτές τις απειλές; \nΜε υψηλού επιπέδου προσκεκλημένους από όλο τον κόσμο\, το Οικονομικό Φόρουμ των Δελφών φιλοδοξεί να αποκωδικοποιήσει τις τάσεις που μετασχηματίζουν σήμερα το παγκόσμιο τοπίο και να αναδείξει τις στρατηγικές επιλογές για την αντιμετώπιση των σύνθετων ζητημάτων της νέας εποχής. \nΗ διαχρονική συμβολή του Οικονομικού Φόρουμ των Δελφών στην ενίσχυση της διεθνούς θέσης της Ελλάδας και στην καλλιέργεια συνεργειών μεταξύ ευρωπαϊκών και διεθνών ηγετών\, αναδεικνύει την εμβέλεια\, τον πολυδιάστατο χαρακτήρα της διοργάνωσης\, καθώς και του ρόλου του ως διεθνούς πλατφόρμας διαμόρφωσης πολιτικών και στρατηγικών συμπράξεων. \nΚατά τη διάρκεια των εργασιών αναμένεται να πραγματοποιηθούν ουσιαστικές συζητήσεις γύρω από την αναδιαμόρφωση των διεθνών συσχετισμών\, τις προκλήσεις μιας δίκαιης ενεργειακής μετάβασης\, την ενίσχυση της βιώσιμης οικονομικής ανάπτυξης και την προώθηση ενός κοινωνικά υπεύθυνου μοντέλου ευημερίας. Παράλληλα\, το Φόρουμ ενισχύει τις δυνατότητες θεσμικών και στρατηγικών συνεργασιών μεταξύ κυβερνήσεων\, επιχειρηματικών φορέων και της κοινωνίας των πολιτών. \nΠληροφορίες: https://def-xi.delphiforum.gr/
URL:https://web.tee.gr/event/oikonomiko-foroym-ton-delfon-xi/
CATEGORIES:Άλλοι φορείς
END:VEVENT
BEGIN:VEVENT
DTSTART;TZID=Europe/Athens:20260423T080000
DTEND;TZID=Europe/Athens:20260425T170000
DTSTAMP:20260423T012128
CREATED:20260127T093918Z
LAST-MODIFIED:20260206T095108Z
UID:10003830-1776931200-1777136400@web.tee.gr
SUMMARY:4o Devoxx Greece 2026
DESCRIPTION:Για τέταρτη συνεχόμενη χρονιά το μεγαλύτερο συνέδριο ανάπτυξης λογισμικού στην Ελλάδα\, το Devoxx Greece\, δίνει ραντεβού με τις τελευταίες εξελίξεις στο Μέγαρο Μουσικής Αθηνών. Από τις 23 έως τις 25 Απριλίου 2026\, περισσότεροι από 1.500 επαγγελματίες από όλο τον κόσμο θα συναντηθούν σε μια γιορτή της τεχνολογίας που έχει καταστεί θεσμός για την εγχώρια και διεθνή κοινότητα. \nΣταδιακά και σταθερά\, το συνέδριο γνωρίζει σημαντική ανάπτυξη και προσελκύει επαγγελματίες από όλον τον κόσμο. Στο φετινό πρόγραμμα\, κορυφαίοι ομιλητές από την Ευρώπη\, την Ασία\, την Αφρική και την Αμερική θα παρουσιάσουν ότι νεότερο υπάρχει γύρω από τις σύγχρονες γλώσσες προγραμματισμού\, την τεχνητή νοημοσύνη\, την επεξεργασία μεγάλου όγκου δεδομένων (big data) κ.α. Κατά τη διάρκεια του τριημέρου\, θα πραγματοποιηθούν συνολικά 80 ομιλίες και εργαστήρια σε τέσσερις παράλληλες αίθουσες\, προσφέροντας μια ολοκληρωμένη εμπειρία ανταλλαγής απόψεων και ιδεών\, διεύρυνσης γνώσεων και δικτύωση. \nΓια πρώτη φορά θα λειτουργήσει το Community Corner ένας χώρος στον οποίο θα έχουν παρουσία τα σημαντικότερα tech communities της Αθήνας\, ενώ εγκαινιάζεται η παράλληλη δράση του Mentorship Hub\, συνεδρίες λίγων ατόμων με σκοπό την καθοδήγηση γύρω από την ανάπτυξη καριέρας\, soft skills\, public speaking και πολλά άλλα. \nΟ κ. Παπαπέτρου\, διοργανωτής του συνεδρίου\, δηλώνει:\n“Είμαστε ιδιαίτερα χαρούμενοι που το Devoxx Greece συνεχίζει για τέταρτη χρονιά με σημαντική αύξηση συμμετοχών. Η βάση μας για την επιτυχία του συνεδρίου είναι οι ομιλητές. Για ακόμη μία χρονιά θα φιλοξενήσουμε μερικά από τα πιο δυνατά ονόματα διεθνώς στον κλάδο της ανάπτυξης λογισμικού και εγγυόμαστε ένα πρόγραμμα εξαιρετικά ενδιαφέρον\, με ομιλίες και παρουσιάσεις που μπορούν να καλύψουν ένα ευρύ φάσμα θεμάτων”. \nΓια περισσότερες πληροφορίες σχετικά με την εγγραφή και το πρόγραμμα του συνεδρίου\, οι ενδιαφερόμενοι μπορούν να επισκεφτούν την ιστοσελίδα: \nhttps://devoxx.gr/
URL:https://web.tee.gr/event/4o-devoxx-greece-2026/
LOCATION:Μέγαρο Μουσικής Αθηνών
CATEGORIES:Άλλοι φορείς
END:VEVENT
BEGIN:VEVENT
DTSTART;TZID=Europe/Athens:20260423T080000
DTEND;TZID=Europe/Athens:20260426T170000
DTSTAMP:20260423T012128
CREATED:20260422T111351Z
LAST-MODIFIED:20260422T111351Z
UID:10003921-1776931200-1777222800@web.tee.gr
SUMMARY:22th Athens Digital Arts Festival
DESCRIPTION:Το Διεθνές Φεστιβάλ Ψηφιακών Τεχνών της Ελλάδας\, Athens Digital Arts Festival\,  επιστρέφει για 22η χρονιά μετατρέποντας για τέσσερις μέρες (23 – 26 Απριλίου) την Τεχνόπολη Δήμου Αθηναίων σε έναν ζωντανό ψηφιακό καμβά με έργα που σπάνε τα όρια μεταξύ τέχνης\, τεχνολογίας και επιστήμης δίνοντας τη δυνατότητα συμμετοχής και αλληλεπίδρασης. \nΦέτος πρωταγωνιστικό ρόλο έχει η  ΜΕΤΑ–MORPHOSIS\, ένα ταξίδι σε έναν κόσμο αλλαγής και μετασχηματισμού. Το 22ο φεστιβάλ αναδεικνύει το πώς εξελίσσονται όλα γύρω μας\, πώς οι αλλαγές ενσωματώνονται ή επηρεάζουν την καθημερινότητά μας και αποτελεί το σημείο συνάντησης για καλλιτέχνες\, επιστήμονες\, τεχνολόγους\, ερευνητές\, διανοητές\, μορφές τεχνητής νοημοσύνης. \nΤι θα δουν οι επισκέπτες στο Athens Digital Arts Festival\nInstallations\, Video Art\, Animation\, AR/VR/XR\, Performances\, Music\, Workshops\, Talks\, Web Art\, Digital Image\, Games και ADAF Kids. \nhttps://athens-technopolis.gr/index.php/el/ekdiloseis/details/2026-04-23/1413-22o-athens-digital-arts-festival \n\nΠολυμεσική έκθεση META-MORPHOSIS  \nΗ πολυμεσική και φουτουριστική έκθεση με τίτλο «META-MORPHOSIS | AN IMMERSIVE EXPERIENCE» παρουσιάζεται από τον Διεθνή Αερολιμένα Αθηνών\, σε συνεργασία με το Athens Digital Arts Festival (ADAF)\, στο πλαίσιο της συνεργασίας των δύο φορέων. \nΗ έκθεση έχει ως κεντρικό άξονα τη μεταμόρφωση και εξερευνά τη συνεχή διαδικασία της αλλαγής: εκεί όπου η φύση συναντά την τεχνολογία\, το παρελθόν συνομιλεί με το παρόν και το πραγματικό συγχέεται με το φαντασιακό. Μέσα από μια εντυπωσιακή βίντεο-εγκατάσταση\, ο επισκέπτης καλείται να στοχαστεί πάνω στις περιβαλλοντικές\, κοινωνικές\, πολιτισμικές και τεχνολογικές μεταβολές που επηρεάζουν τον κόσμο γύρω μας. \nΗ εμπειρία μεταφράζει σύνθετες έννοιες\, όπως η κλιματική αλλαγή και η ταχύτατη τεχνολογική εξέλιξη\, σε δυνατές εικόνες και καθηλωτικά ψηφιακά περιβάλλοντα\, ενισχύοντας τον διάλογο και τον προβληματισμό γύρω από το μέλλον. \nΟ χώρος παραμένει ανοικτός καθημερινά καθ’ όλη τη διάρκεια του 24ώρου. \nΕπίπεδο Αναχωρήσεων\, Είσοδος 3\, 2ος όροφος \nΗ έκθεση θα διαρκέσει μέχρι τις 31 Ιουλίου 2026
URL:https://web.tee.gr/event/22th-athens-digital-arts-festival/
LOCATION:Τεχνόπολη Δήμου Αθηναίων\, Αθήνα\, Ελλάδα
END:VEVENT
END:VCALENDAR