BEGIN:VCALENDAR
VERSION:2.0
PRODID:-//TEE - ECPv6.15.20//NONSGML v1.0//EN
CALSCALE:GREGORIAN
METHOD:PUBLISH
X-WR-CALNAME:TEE
X-ORIGINAL-URL:https://web.tee.gr
X-WR-CALDESC:Events for TEE
REFRESH-INTERVAL;VALUE=DURATION:PT1H
X-Robots-Tag:noindex
X-PUBLISHED-TTL:PT1H
BEGIN:VTIMEZONE
TZID:Europe/Athens
BEGIN:DAYLIGHT
TZOFFSETFROM:+0200
TZOFFSETTO:+0300
TZNAME:EEST
DTSTART:20120325T010000
END:DAYLIGHT
BEGIN:STANDARD
TZOFFSETFROM:+0300
TZOFFSETTO:+0200
TZNAME:EET
DTSTART:20121028T010000
END:STANDARD
BEGIN:DAYLIGHT
TZOFFSETFROM:+0200
TZOFFSETTO:+0300
TZNAME:EEST
DTSTART:20130331T010000
END:DAYLIGHT
BEGIN:STANDARD
TZOFFSETFROM:+0300
TZOFFSETTO:+0200
TZNAME:EET
DTSTART:20131027T010000
END:STANDARD
BEGIN:DAYLIGHT
TZOFFSETFROM:+0200
TZOFFSETTO:+0300
TZNAME:EEST
DTSTART:20140330T010000
END:DAYLIGHT
BEGIN:STANDARD
TZOFFSETFROM:+0300
TZOFFSETTO:+0200
TZNAME:EET
DTSTART:20141026T010000
END:STANDARD
END:VTIMEZONE
BEGIN:VEVENT
DTSTART;TZID=Europe/Athens:20131017T090000
DTEND;TZID=Europe/Athens:20131018T180000
DTSTAMP:20260422T184702
CREATED:20131001T055844Z
LAST-MODIFIED:20131001T055844Z
UID:10000889-1382000400-1382119200@web.tee.gr
SUMMARY:Συνέδριο για την Έρευνα στις Μεταφορές στην Ελλάδα
DESCRIPTION:Ο Σύλλογος Ελλήνων Συγκοινωνιολόγων (Σ.Ε.Σ.) και το Ινστιτούτο Βιώσιμης Κινητικότητας και Δικτύων Μεταφορών (I.MET.) του Εθνικού Κέντρου Έρευνας και Τεχνολογικής Ανάπτυξης (Ε.Κ.Ε.Τ.Α.) διοργανώνουν -στις 17 και 18 Οκτωβρίου 2013- το «6o Συνέδριο για την Έρευνα στις Μεταφορές στην Ελλάδα» με  θέμα: «Ενέργεια – Περιβάλλον – Οικονομία»\, το οποίο θα διεξαχθεί στη Θεσσαλονίκη στο κτίριο του Τεχνικού Επιμελητηρίου Ελλάδος —Τμήμα Κεντρικής Μακεδονίας (Μ. Αλεξάνδρου 49). Κύριοι στόχοι του συνεδρίου είναι η παρουσίαση των πρόσφατων ερευνητικών αποτελεσμάτων στον τομέα των μεταφορών\, η εξέταση των σύγχρονων εξελίξεων και η ανταλλαγή απόψεων σε θέματα έρευνας για τις μεταφορές\, σε εθνικό και διεθνές επίπεδο. \nΘεματικές ενότητες:  \n·       – Ενέργεια \n·       – Περιβάλλον \n·       – Οικονομία \nΠληροφορίες και εγγραφές στην ιστοσελίδα του συνεδρίου: www.ictr.gr
URL:https://web.tee.gr/event/sunedrio-gia-tin-ereuna-stis-metafores-stin-ellada/
LOCATION:Kτίριο ΤΕΕ —Τμ. Κεντρικής Μακεδονίας\, Μ. Αλεξάνδρου 49\, ΘΕΣΣΑΛΟΝΙΚΗ
END:VEVENT
BEGIN:VEVENT
DTSTART;TZID=Europe/Athens:20131026T090000
DTEND;TZID=Europe/Athens:20131027T180000
DTSTAMP:20260422T184702
CREATED:20130926T153252Z
LAST-MODIFIED:20130926T153252Z
UID:10001271-1382778000-1382896800@web.tee.gr
SUMMARY:Συνέδριο για τις εγκαταστάσεις επεξεργασίας νερού
DESCRIPTION:Οι εγκαταστάσεις επεξεργασίας νερού και υγρών αποβλήτων μικρής κλίμακας\, είναι το αντικείμενο του συνεδρίου που θα πραγματοποιηθεί στο Βόλο στις 26 και 27 Οκτωβρίου 2013\, υπό την αιγίδα του Υπουργείου Περιβάλλοντος\, Ενέργειας και Κλιματικής Αλλαγής.  \nTο συνέδριο συνδιοργανώνουν το Τμήμα Μηχανικών Χωροταξίας\, Πολεοδομίας και Περιφερειακής Ανάπτυξης του Πανεπιστημίου Θεσσαλίας\, το Τμήμα Χημείας του ΑΠΘ\, το Τμήμα Τεχνολογίας Τροφίμων του Τεχνολογικού Εκπαιδευτικού Ιδρύματος Θεσσαλονίκης\, με τη συνεργασία του Περιφερειακού Τμήμα Μαγνησίας του ΤΕΕ\, του Περιφερειακού Τμήματος Κεντρικής και Δυτικής Θεσσαλίας ΤΕΕ και της Ένωσης Δημοτικών Επιχειρήσεων  Ύδρευσης –Αποχέτευσης. \nΚύριος στόχος της επιστημονικής εκδήλωσης είναι να παρουσιάσει τις καλύτερες τεχνολογίες σχετικά με την επεξεργασία πόσιμου νερού και υγρών αποβλήτων\, με έμφαση στους μικρούς δήμους\, τις κοινότητες και τους οικισμούς καθώς και ξενοδοχειακές και βιομηχανικές μονάδες\, βασισμένες σε κριτήρια περιβαλλοντικά\, οικονομικά\, τεχνολογικά και κοινωνικά. \nΒασικές θεματικές ενότητες: \n-Μικρές μονάδες κατεργασίας υγρών αποβλήτων \n-Φυσικά συστήματα κατεργασίας υγρών αποβλήτων \n-Αποκεντρωμένα συστήματα επεξεργασίας υγρών αποβλήτων \n-Επεξεργασία πόσιμου νερού σε μικρές και αποκεντρωμένες μονάδες \n-Διαχείριση ιλύος σε μικρές μονάδες \n-Αστικά και βιομηχανικά υγρά απόβλητα \n-Έλεγχος οικοτοξικότητας υγρών αποβλήτων \n-Ανακύκλωση\, επαναχρησιμοποίηση & ανάκτηση επεξεργασμένου νερού \n-Ποιότητα νερών \n-Τεχνικο-οικονομικές παράμετροι \nΠληροφορίες στα τηλέφωνα: 24210/74282 και 6973/328909 (Βασιλική Μανάκου). \nΠληροφορίες: Τηλ: 2106492451-2\, e-mail: cest2013@gnest.org\, www.swat4.prd.uth.gr
URL:https://web.tee.gr/event/synedrio-gia-tis-egkatastaseis-epeksergasias-nerou/
LOCATION:Unnamed Venue\, ΒΟΛΟΣ
END:VEVENT
END:VCALENDAR