BEGIN:VCALENDAR
VERSION:2.0
PRODID:-//TEE - ECPv6.15.20//NONSGML v1.0//EN
CALSCALE:GREGORIAN
METHOD:PUBLISH
X-ORIGINAL-URL:https://web.tee.gr
X-WR-CALDESC:Events for TEE
REFRESH-INTERVAL;VALUE=DURATION:PT1H
X-Robots-Tag:noindex
X-PUBLISHED-TTL:PT1H
BEGIN:VTIMEZONE
TZID:Europe/Athens
BEGIN:DAYLIGHT
TZOFFSETFROM:+0200
TZOFFSETTO:+0300
TZNAME:EEST
DTSTART:20140330T010000
END:DAYLIGHT
BEGIN:STANDARD
TZOFFSETFROM:+0300
TZOFFSETTO:+0200
TZNAME:EET
DTSTART:20141026T010000
END:STANDARD
BEGIN:DAYLIGHT
TZOFFSETFROM:+0200
TZOFFSETTO:+0300
TZNAME:EEST
DTSTART:20150329T010000
END:DAYLIGHT
BEGIN:STANDARD
TZOFFSETFROM:+0300
TZOFFSETTO:+0200
TZNAME:EET
DTSTART:20151025T010000
END:STANDARD
BEGIN:DAYLIGHT
TZOFFSETFROM:+0200
TZOFFSETTO:+0300
TZNAME:EEST
DTSTART:20160327T010000
END:DAYLIGHT
BEGIN:STANDARD
TZOFFSETFROM:+0300
TZOFFSETTO:+0200
TZNAME:EET
DTSTART:20161030T010000
END:STANDARD
END:VTIMEZONE
BEGIN:VEVENT
DTSTART;VALUE=DATE:20150403
DTEND;VALUE=DATE:20150406
DTSTAMP:20260421T144557
CREATED:20150330T105553Z
LAST-MODIFIED:20150330T105553Z
UID:10000035-1428019200-1428278399@web.tee.gr
SUMMARY:Συνέδριο Φοιτητών Ηλεκτρολόγων Μηχανικών και Μηχανικών Υπολογιστών
DESCRIPTION:Το Πανελλήνιο Συνέδριο Φοιτητών Ηλεκτρολόγων Μηχανικών και Μηχανικών Υπολογιστών (ΣΦΗΜΜΥ) θα διεξαχθεί 3 – 5 Απριλίου 2015\, στο Συνεδριακό και Πολιτιστικό Κέντρο του Πανεπιστημίου Πατρών. \nΣτόχος του συνεδρίου είναι να συγκεντρώσει τους φοιτητές όλων των τμημάτων Ηλεκτρολόγων Μηχανικών\, Μηχανικών Υπολογιστών\, αλλά και Πληροφορικής\, ώστε να ενημερωθούν σχετικά με τις νέες τεχνολογικές εξελίξεις καθώς και τις νέες προκλήσεις της αγοράς εργασίας. \nΤο ΣΦΗΜΜΥ 8 διοργανώνεται από εξήντα (60) φοιτήτριες και φοιτητές των τμημάτων Ηλεκτρολόγων Μηχανικών & Τεχνολογίας Υπολογιστών (Η.Μ.Τ.Υ.) και Μηχανικών Ηλεκτρονικών Υπολογιστών & Πληροφορικής (Μ.Η.Υ.Π.) του Πανεπιστημίου Πατρών\, έχει λάβει την επίσημη στήριξη της Πρυτανείας και της Κοσμητείας της Πολυτεχνικής Σχολής\, καθώς και των δύο τμημάτων του πανεπιστημίου.
URL:https://web.tee.gr/event/synedrio-foititon-ilectrologon-mhxanikon/
LOCATION:Συνεδριακό και Πολιτιστικό Κέντρο του Πανεπιστημίου Πατρών\, Πάτρα
END:VEVENT
END:VCALENDAR