BEGIN:VCALENDAR
VERSION:2.0
PRODID:-//TEE - ECPv6.15.20//NONSGML v1.0//EN
CALSCALE:GREGORIAN
METHOD:PUBLISH
X-WR-CALNAME:TEE
X-ORIGINAL-URL:https://web.tee.gr
X-WR-CALDESC:Events for TEE
REFRESH-INTERVAL;VALUE=DURATION:PT1H
X-Robots-Tag:noindex
X-PUBLISHED-TTL:PT1H
BEGIN:VTIMEZONE
TZID:Europe/Athens
BEGIN:DAYLIGHT
TZOFFSETFROM:+0200
TZOFFSETTO:+0300
TZNAME:EEST
DTSTART:20120325T010000
END:DAYLIGHT
BEGIN:STANDARD
TZOFFSETFROM:+0300
TZOFFSETTO:+0200
TZNAME:EET
DTSTART:20121028T010000
END:STANDARD
BEGIN:DAYLIGHT
TZOFFSETFROM:+0200
TZOFFSETTO:+0300
TZNAME:EEST
DTSTART:20130331T010000
END:DAYLIGHT
BEGIN:STANDARD
TZOFFSETFROM:+0300
TZOFFSETTO:+0200
TZNAME:EET
DTSTART:20131027T010000
END:STANDARD
BEGIN:DAYLIGHT
TZOFFSETFROM:+0200
TZOFFSETTO:+0300
TZNAME:EEST
DTSTART:20140330T010000
END:DAYLIGHT
BEGIN:STANDARD
TZOFFSETFROM:+0300
TZOFFSETTO:+0200
TZNAME:EET
DTSTART:20141026T010000
END:STANDARD
END:VTIMEZONE
BEGIN:VEVENT
DTSTART;TZID=Europe/Athens:20130929T090000
DTEND;TZID=Europe/Athens:20131002T180000
DTSTAMP:20260424T004630
CREATED:20130926T092901Z
LAST-MODIFIED:20130926T092901Z
UID:10001189-1380445200-1380736800@web.tee.gr
SUMMARY:Διεθνές Συνέδριο PRES’13
DESCRIPTION:Διεθνές Συνέδριο με θέμα την Ολοκληρωμένη Προτυποποίηση\, Σχεδίαση  και Βελτιστοποίηση Παραγωγικών Διεργασιών για Εξοικονόμηση Ενέργειας και Μείωση Εκπομπών Ρύπων συνδιοργανώνεται από το Τμήμα Μηχανολόγων Μηχανικών του Αριστοτέλειου Πανεπιστήμιου Θεσσαλονίκης\, το Ινστιτούτο Χημικών Διεργασιών και Ενεργειακών Πόρων (ΙΔΕΠ)\, του Εθνικού Κέντρου Έρευνας και Τεχνολογικής Ανάπτυξης (ΕΚΕΤΑ) και την Ιταλική Ένωση Χημικών Μηχανικών (AIDIC). Το συνέδριο θα διεξαχθεί στο AmathusBeachHotel στην Ιξιά Ρόδου\, από τις 29 Σεπτεμβρίου έως 2 Οκτωβρίου 2013. \nΒασικός σκοπός του συνεδρίου PRES’13 είναι η ανασκόπηση των διεθνών επιστημονικών εξελίξεων καθώς και των αποτελεσμάτων βιομηχανικών πρακτικών στην ολοκλήρωση διεργασιών με στόχο την εξοικονόμηση ενέργειας και τη δραστική μείωση των εκπεμπόμενων ρύπων από βιομηχανίες διεργασιών και εγκαταστάσεις μετατροπής ενέργειας. \nΣυγκεκριμένα θέματα αποτελούν οι ανανεώσιμες πηγές ενέργειας\, η χρήση και μετατροπή βιομάζας\, η ελαχιστοποίηση βιομηχανικών αποβλήτων\, τεχνολογίες εξοικονόμησης ενέργειας και η βιώσιμη παραγωγή βιοκαυσίμων\, με έμφαση στη χρήση υπολογιστικών τεχνολογιών. \nΠληροφορίες:  τηλ.: 2310 -994229\, 498169\, e–mail: pres13@cperi.certh.gr
URL:https://web.tee.gr/event/sieunes-synedrio-pres13/
LOCATION:Amathus Beach Hotel\, ΙΞΙΑ\, ΡΟΔΟΣ
ATTACH;FMTTYPE=:
ORGANIZER;CN="%CE%A4%CE%BC.%CE%9C%CE%B7%CF%87/%CE%B3%CF%89%CE%BD %CE%9C%CE%B7%CF%87. %CE%91%CE%A0%CE%98%2C %CE%99%CE%94%CE%95%CE%A0 %CF%84%CE%BF%CF%85 %CE%95%CE%9A%CE%95%CE%A4%CE%91 %CE%BA%CE%B1%CE%B9 %CF%84%CE%B7%CE%BD AIDIC":MAILTO:pres13@cperi.certh.gr
END:VEVENT
END:VCALENDAR