BEGIN:VCALENDAR
VERSION:2.0
PRODID:-//TEE - ECPv6.15.20//NONSGML v1.0//EN
CALSCALE:GREGORIAN
METHOD:PUBLISH
X-WR-CALNAME:TEE
X-ORIGINAL-URL:https://web.tee.gr
X-WR-CALDESC:Events for TEE
REFRESH-INTERVAL;VALUE=DURATION:PT1H
X-Robots-Tag:noindex
X-PUBLISHED-TTL:PT1H
BEGIN:VTIMEZONE
TZID:Europe/Athens
BEGIN:DAYLIGHT
TZOFFSETFROM:+0200
TZOFFSETTO:+0300
TZNAME:EEST
DTSTART:20120325T010000
END:DAYLIGHT
BEGIN:STANDARD
TZOFFSETFROM:+0300
TZOFFSETTO:+0200
TZNAME:EET
DTSTART:20121028T010000
END:STANDARD
BEGIN:DAYLIGHT
TZOFFSETFROM:+0200
TZOFFSETTO:+0300
TZNAME:EEST
DTSTART:20130331T010000
END:DAYLIGHT
BEGIN:STANDARD
TZOFFSETFROM:+0300
TZOFFSETTO:+0200
TZNAME:EET
DTSTART:20131027T010000
END:STANDARD
BEGIN:DAYLIGHT
TZOFFSETFROM:+0200
TZOFFSETTO:+0300
TZNAME:EEST
DTSTART:20140330T010000
END:DAYLIGHT
BEGIN:STANDARD
TZOFFSETFROM:+0300
TZOFFSETTO:+0200
TZNAME:EET
DTSTART:20141026T010000
END:STANDARD
END:VTIMEZONE
BEGIN:VEVENT
DTSTART;TZID=Europe/Athens:20131021T173000
DTEND;TZID=Europe/Athens:20131021T210000
DTSTAMP:20260419T171628
CREATED:20131013T175219Z
LAST-MODIFIED:20131013T175219Z
UID:10000736-1382376600-1382389200@web.tee.gr
SUMMARY:Εσπερίδα για την οικονομική ηλεκτρική θέρμανση
DESCRIPTION:   Ο Πανελλήνιος Σύλλογος Διπλωματούχων  Μηχανολόγων – Ηλεκτρολόγων διοργανώνει τη Δευτέρα\, 21 Οκτωβρίου 2013 (17:30-21:00)\, στο ξενοδοχείο Τιτάνια\, εσπερίδα για την οικονομική ηλεκτρική θέρμανση. Οι εργασίες της εκδήλωσης θα ξεκινήσουν με χαιρετισμό του Προέδρου του ΠΣΔΜ-Η Τάσου Ευσταθίου και θα συνεχιστούν με την παρακάτω θεματολογία: \n–              Θερμικά Οικονομικά.  Κεντρική ή τοπική θέρμανση; Θερμιδικές τιμές πετρελαίου και φυσικού αερίου\, τιμολόγια χαμηλής τάσεως της ΔΕΔΔΗΕ και τιμή κιλοβατώρας ως συνάρτηση της καταναλώσεως τετραμήνου. Νυχτερινό τιμολόγιο. Η μέθοδος των βαθμοημερών για την εκτίμηση των ετησίων καταναλώσεων ενέργειας θερμάνσεως. Συμβολή της ηλεκτρικής θερμάνσεως στην αύξηση της τιμής της κιλοβατώρας λόγω μεταβολής χρεωστικής κλίμακας. Εξοικονόμηση πρωτογενούς ενέργειας. \nΕισηγητής: Απ. Ευθυμιάδης\, M–H. \n–              Τεχνολογίες αντλιών θερμότητας για θέρμανση – κλιματισμό με ή χωρίς ρυθμιστή στροφών. Ποιότητα θερμάνσεως και εποχιακός βαθμός αποδόσεως ως συνάρτηση των κλιματικών ζωνών της χώρας. Η ποιότητα θερμάνσεως σε λειτουργία υπό μερικό φορτίο και η συμβολή του ρυθμιστή στροφών (inverter) στην βελτίωση της θερμικής ανέσεως και της ενεργειακής αποδόσεως. Οικονομικότητα των αντλιών θερμότητας έναντι της θερμάνσεως με πετρέλαιο και φυσικό αέριο. \nΕισηγητές οι Μ-Η: Μιχ. Καράγεωργας\, Κων/να Καλιακούδη \n–              Γεωθερμικές αντλίες θερμότητας. Τεχνολογίες και τεχνικές\, γεωθερμικοί εναλλάκτες θερμότητας\, τυπικές εφαρμογές\, Εποχιακός ενεργειακός βαθμός αποδόσεως σε θέρμανση και ψύξη. Ανάλυση οικονομικής βιωσιμότητας εφαρμογών γεωθερμικών αντλιών θερμότητας έναντι της θερμάνσεως με πετρέλαιο και φυσικό αέριο. \nΕισηγητές οι: Μ. Καράγεωργας\, Κ. Καλιακούδη \n–              Θέρμανση δια ηλεκτρικών αντιστάσεων. Τεχνολογίες ηλεκτρικής θερμάνσεως (τεχνολογίες αντιστάσεων ή υπερύθρου ακτινοβολίας)\, εποχιακός βαθμός αποδόσεως ενέργειας\, Ανάλυση οικονομικής βιωσιμότητας. \nΕισηγητής: Νικ.Γαλάνης\, Μ-Η \nΘ ακολουθήσουν παρουσιάσεις χορηγών για ενεργειακή απόδοση\, τεχνική αξιοπιστία και οικονομική ανάλυση επιμέρους τεχνολογιών ηλεκτρικής θέρμανσης\, με εισηγητές στελέχη εταιρειών και διπλωματούχους μηχανικούς. \nΗ εκδήλωση θα ολοκληρωθεί με συζήτηση και τοποθετήσεις συνέδρων. \nΠληροφορίες: Τηλ.: +3210 9212741 / 42 / 44\, ιστοσελίδα: www.psdmh.gr \, email: psdmh@otenet.gr
URL:https://web.tee.gr/event/hmerida-hlektrikh-uermansh/
LOCATION:Ξενοδοχείο Τιτάνια\, ΑΘΗΝΑ
ORGANIZER;CN="%CE%A0%CE%B1%CE%BD%CE%B5%CE%BB%CE%BB%CE%AE%CE%BD%CE%B9%CE%BF%CF%82 %CE%A3%CF%8D%CE%BB%CE%BB%CE%BF%CE%B3%CE%BF%CF%82 %CE%94%CE%B9%CF%80%CE%BB%CF%89%CE%BC%CE%B1%CF%84%CE%BF%CF%8D%CF%87%CF%89%CE%BD  %CE%9C%CE%B7%CF%87%CE%B1%CE%BD%CE%BF%CE%BB%CF%8C%CE%B3%CF%89%CE%BD %E2%80%93 %CE%97%CE%BB%CE%B5%CE%BA%CF%84%CF%81%CE%BF%CE%BB%CF%8C%CE%B3%CF%89%CE%BD":MAILTO:psdmh@otenet.gr
END:VEVENT
BEGIN:VEVENT
DTSTART;TZID=Europe/Athens:20131030T170000
DTEND;TZID=Europe/Athens:20131030T200000
DTSTAMP:20260419T171628
CREATED:20131025T052846Z
LAST-MODIFIED:20131025T052846Z
UID:10000502-1383152400-1383163200@web.tee.gr
SUMMARY:Εσπερίδα στο Βόλο για τις δεξιότητες των εργατοτεχνιτών κτιριακού τομέα
DESCRIPTION:Οι συνεργάτες της πρωτοβουλίας Build Up Skills για την Ελλάδα\, διοργανώνουν εσπερίδα ενημέρωσης για την «Ενίσχυση των δεξιοτήτων των εργατοτεχνιτών του κτιριακού τομέα σε θέματα Ενεργειακής Αποδοτικότητας και Ανανεώσιμων Πηγών Ενέργειας» την Τετάρτη 30 Οκτωβρίου 2013\, ώρα 17.00\, στην Αίθουσα Εκδηλώσεων TEE/Περιφερειακού Τμήματος Μαγνησίας (2ας Νοεμβρίου/Ξενοφώντος\, Βόλος). \nΘεματολογία \nΗ ΠΡΩΤΟΒΟΥΛΙΑ BUILD UP SKILLS ΓΙΑ ΤΗΝ ΕΛΛΑΔΑ \n–          Στόχοι-Αποτελέσματα \n–          Εθνικοί Στόχοι 20-20-20\, Ανάλυση υφιστάμενης κατάστασης \n–          Εθνική Πλατφόρμα Επαγγελματικών Προσόντων \nΟ ΕΘΝΙΚΟΣ ΟΔΙΚΟΣ ΧΑΡΤΗΣ ΠΡΟΣΟΝΤΩΝ \n– Στόχοι-Μεθοδολογία Ανάπτυξης \n– Μέτρα – Προτεραιότητες – Πλάνο Δράσης \nΔρ. Χαράλαμπος Μαλαματένιος\, Υπεύθυνος Τμήματος Εκπαίδευσης του ΚΑΠΕ\, Συντονιστής του έργου BUS-GR \nΣΤΡΟΓΓΥΛΟ ΤΡΑΠΕΖΙ –ΤΟΠΟΘΕΤΗΣΕΙΣ- ΣΥΖΗΤΗΣΗ \nΣυντονιστής: Δρ. Χαράλαμπος Μαλαματένιος \nΣυμμετέχοντες: \nΓιώργος Γεροβασίλης\, ΠΜ\, Εκπρόσωπος TEE \nΑθανάσιος Παπαδημόπουλος\, Πρόεδρος Εργατικού Κέντρου Βόλου \nΕυστάθιος Πλαστάρας\, ΓΓ Επιμελητηρίου Μαγνησίας\, μέλος ΓΣΕΒΕΕ \nΠΛΗΡΟΦΟΡΙΕΣ: Γραμματεία ΤΕΕ / Τμήμα Μαγνησίας\, 24210 26575\, tee_vol@tee.gr
URL:https://web.tee.gr/event/esperida-bolos/
LOCATION:ΒΟΛΟΣ
END:VEVENT
BEGIN:VEVENT
DTSTART;TZID=Europe/Athens:20131030T180000
DTEND;TZID=Europe/Athens:20131030T203000
DTSTAMP:20260419T171628
CREATED:20131008T054425Z
LAST-MODIFIED:20131008T054425Z
UID:10000657-1383156000-1383165000@web.tee.gr
SUMMARY:Εσπερίδα: «Εκπαιδευτικά Εργαλεία για Αειφόρα Κτίρια»
DESCRIPTION:O Σύλλογος Αρχιτεκτόνων Διπλωματούχων Ανωτάτων Σχολών – Πανελλήνια Ένωση Αρχιτεκτόνων (ΣΑΔΑΣ-ΠΕΑ) διοργανώνει -σε συνεργασία με το ΤΕΕ και το Ελληνικό  Τμήμα της UIA- εσπερίδα για την παρουσίαση του προγράμματος με θέμα: «Εκπαιδευτικά Εργαλεία για Αειφόρα Κτίρια». Η εκδήλωση θα διεξαχθεί την Τετάρτη 30 Οκτωβρίου 2013\, ώρα 6.00 μμ\, στην αίθουσα εκδηλώσεων ΤΕΕ (Νίκης 4\, 1ος όροφος).
URL:https://web.tee.gr/event/esperida-2/
LOCATION:Αίθουσα εκδηλώσεων ΤΕΕ\, Νίκης 4\, Αθήνα
END:VEVENT
END:VCALENDAR