BEGIN:VCALENDAR
VERSION:2.0
PRODID:-//TEE - ECPv6.15.20//NONSGML v1.0//EN
CALSCALE:GREGORIAN
METHOD:PUBLISH
X-WR-CALNAME:TEE
X-ORIGINAL-URL:https://web.tee.gr
X-WR-CALDESC:Events for TEE
REFRESH-INTERVAL;VALUE=DURATION:PT1H
X-Robots-Tag:noindex
X-PUBLISHED-TTL:PT1H
BEGIN:VTIMEZONE
TZID:Europe/Athens
BEGIN:DAYLIGHT
TZOFFSETFROM:+0200
TZOFFSETTO:+0300
TZNAME:EEST
DTSTART:20120325T010000
END:DAYLIGHT
BEGIN:STANDARD
TZOFFSETFROM:+0300
TZOFFSETTO:+0200
TZNAME:EET
DTSTART:20121028T010000
END:STANDARD
BEGIN:DAYLIGHT
TZOFFSETFROM:+0200
TZOFFSETTO:+0300
TZNAME:EEST
DTSTART:20130331T010000
END:DAYLIGHT
BEGIN:STANDARD
TZOFFSETFROM:+0300
TZOFFSETTO:+0200
TZNAME:EET
DTSTART:20131027T010000
END:STANDARD
BEGIN:DAYLIGHT
TZOFFSETFROM:+0200
TZOFFSETTO:+0300
TZNAME:EEST
DTSTART:20140330T010000
END:DAYLIGHT
BEGIN:STANDARD
TZOFFSETFROM:+0300
TZOFFSETTO:+0200
TZNAME:EET
DTSTART:20141026T010000
END:STANDARD
END:VTIMEZONE
BEGIN:VEVENT
DTSTART;VALUE=DATE:20131109
DTEND;VALUE=DATE:20131110
DTSTAMP:20260423T032147
CREATED:20131001T003047Z
LAST-MODIFIED:20131001T003047Z
UID:10000888-1383955200-1384041599@web.tee.gr
SUMMARY:Διεθνές συνέδριο για την ενέργεια στα κτίρια
DESCRIPTION: Το Ελληνικό Παράρτημα της ASHRAE\, μετά την επιτυχημένη διοργάνωση του πρώτου διεθνούς συνεδρίου με τίτλο «Energy in Buildings» σε συνεργασία με το ΤΕΕ\, διοργανώνει για δεύτερη συνεχή χρονιά επιστημονική εκδήλωση με διεθνείς συμμετοχές\, η οποία και θα πραγματοποιηθεί στις 9 Νοεμβρίου 2013\, στο ξενοδοχείο Ledra Marriott\, με τίτλο «Energy in Buildings 2013».   \nΘεματολογία \nΕνεργειακή συμπεριφορά κτηρίων \nΑρχιτεκτονική κτηρίων\, διαχείριση υλικών & ενέργεια \nΦωτισμός και τεχνικός φωτισμός \nΠοιότητα εσωτερικού περιβάλλοντος \nΗλιακός κλιματισμός και νέες τεχνολογίες \nΌπως υπογραμμίζεται σε σχετική ανακοίνωση\, η ενεργειακή κρίση των τελευταίων δεκαετιών έχει επιφέρει σημαντικές αλλαγές στην οικονομία\, καθώς και στην καθημερινότητα των ανθρώπων σε παγκόσμια κλίμακα. Η εξοικονόμηση ενέργειας στα κτίρια αποτελεί τον πιο πρόσφορο και αποτελεσματικό τρόπο αντιμετώπισης της ενεργειακής και περιβαλλοντικής κρίσης της εποχής μας\, οδηγώντας στην βιωσιμότητα και την αειφορία. Η βελτίωση του ενεργειακού αποτυπώματος ενός κτιρίου και κατ’ επέκταση η μείωση του κόστους ιδιοκτησίας του είναι άρρηκτα συνδεδεμένη με το σχεδιασμό\, τη χρήση υλικών\, την κατασκευή και τη λειτουργία του εξοπλισμού του καθ’ όλη τη διάρκεια του κύκλου ζωής του. \nΗ επιστημονική εκδήλωση απευθύνεται σε μηχανικούς όλων των ειδικοτήτων\, επαγγελματίες\, επιχειρήσεις\, φορείς\, οργανισμούς\, φοιτητές. Μέρος των εσόδων θα διατεθεί για την ενεργειακή αναβάθμιση των σπιτιών φιλοξενίας στο Χαμόγελο του Παιδιού. Πληροφορίες: www.ashrae.gr\, email: hellenic.chapter@ashrae.gr
URL:https://web.tee.gr/event/energeia-ktiria/
LOCATION:Ξενοδοχείο Ledra Marriott\, ΑΘΗΝΑ
ORGANIZER;CN="%CE%95%CE%BB%CE%BB%CE%B7%CE%BD%CE%B9%CE%BA%CF%8C %CE%A0%CE%B1%CF%81%CE%AC%CF%81%CF%84%CE%B7%CE%BC%CE%B1 %CF%84%CE%B7%CF%82 ASHRAE":MAILTO:hellenic.chapter@ashrae.gr
END:VEVENT
END:VCALENDAR