BEGIN:VCALENDAR
VERSION:2.0
PRODID:-//TEE - ECPv6.15.20//NONSGML v1.0//EN
CALSCALE:GREGORIAN
METHOD:PUBLISH
X-ORIGINAL-URL:https://web.tee.gr
X-WR-CALDESC:Events for TEE
REFRESH-INTERVAL;VALUE=DURATION:PT1H
X-Robots-Tag:noindex
X-PUBLISHED-TTL:PT1H
BEGIN:VTIMEZONE
TZID:Europe/Athens
BEGIN:DAYLIGHT
TZOFFSETFROM:+0200
TZOFFSETTO:+0300
TZNAME:EEST
DTSTART:20120325T010000
END:DAYLIGHT
BEGIN:STANDARD
TZOFFSETFROM:+0300
TZOFFSETTO:+0200
TZNAME:EET
DTSTART:20121028T010000
END:STANDARD
BEGIN:DAYLIGHT
TZOFFSETFROM:+0200
TZOFFSETTO:+0300
TZNAME:EEST
DTSTART:20130331T010000
END:DAYLIGHT
BEGIN:STANDARD
TZOFFSETFROM:+0300
TZOFFSETTO:+0200
TZNAME:EET
DTSTART:20131027T010000
END:STANDARD
BEGIN:DAYLIGHT
TZOFFSETFROM:+0200
TZOFFSETTO:+0300
TZNAME:EEST
DTSTART:20140330T010000
END:DAYLIGHT
BEGIN:STANDARD
TZOFFSETFROM:+0300
TZOFFSETTO:+0200
TZNAME:EET
DTSTART:20141026T010000
END:STANDARD
END:VTIMEZONE
BEGIN:VEVENT
DTSTART;TZID=Europe/Athens:20131005T000000
DTEND;TZID=Europe/Athens:20131005T150000
DTSTAMP:20260420T074445
CREATED:20131002T015308Z
LAST-MODIFIED:20131002T015308Z
UID:10000891-1380931200-1380985200@web.tee.gr
SUMMARY:Ενημερωτική εκδήλωση για το Ν. 4178/2013 στη Κοζάνη
DESCRIPTION:Το ερχόμενο Σάββατο 5 Οκτωβρίου 2013 και ώρα 12:00 το μεσημέρι\, το Υ.ΠΕ.ΚΑ. σε συνεργασία με το Τεχνικό Επιμελητήριο Ελλάδας/Τμήμα Δυτικής Μακεδονίας\, διοργανώνουν ενημερωτική εκδήλωση σχετικά με την αντιμετώπιση της αυθαίρετης δόμησης\, στο πλαίσιο εφαρμογής του νέου Νόμου Ν. 4178/2013. Η εκδήλωση θα πραγματοποιηθεί στο Αμφιθέατρο «Κωνσταντίνος Καραμανλής» του κτιρίου της Περιφέρειας Δυτικής Μακεδονίας στην Κοζάνη (περιοχή Ζ.Ε.Π.).  Στην εκδήλωση θα συμμετάσχουν: \n–      ο Αναπληρωτής Υπουργός  ΠΕ.Κ.Α. Σ. Καλαφάτης  \n–      ο Γενικός Γραμματέας Χωροταξίας & Αστικού Περιβάλλοντος του Υ.ΠΕ.Κ.Α.\, Σ. Αλεξιάδης  \n–      Ε. Γαρδίκη Προϊσταμένη τμήματος Α’ της Διεύθυνσης Οικοδομικού Κτιριολογικού Κανονισμού και \n–      Κ. Καρατσώλης Νομικός Συνεργάτης Τ.Ε.Ε. και μέλος νομοπαρασκευαστικών επιτροπών ΥΠΟΜΕΔΙ και ΥΠΕΚΑ. \nΌπως ανακοινώθηκε\, υπάρχει η δυνατότητα υποβολής σχετικών ερωτημάτων μέχρι το μεσημέρι της Παρασκευής 4 Οκτωβρίου 2013 (ηλεκτρονικά στο e-mail: tee_koz@tee.gr)\, προκειμένου να γίνει η επεξεργασία και η ομαδοποίησή τους από τη συσταθείσα Επιτροπή αυθαιρέτων του Τ.Ε.Ε./Τ.Δ.Μ.\, προκεμένου να δοθούν προς απάντηση στους εισηγητές – στελέχη του υπουργείου.
URL:https://web.tee.gr/event/ekdhlvsh-kozanh/
LOCATION:Αμφιθέατρο «Κωνσταντίνος Καραμανλής» του κτιρίου της Περιφ. Δυτ.  Μακ/νίας\, ΚΟΖΑΝΗ
ORGANIZER;CN="%CE%A5.%CE%A0%CE%95.%CE%9A%CE%91. %CE%BA%CE%B1%CE%B9 %CE%A4%CE%B5%CF%87%CE%BD%CE%B9%CE%BA%CF%8C %CE%95%CF%80%CE%B9%CE%BC%CE%B5%CE%BB%CE%B7%CF%84%CE%AE%CF%81%CE%B9%CE%BF %CE%95%CE%BB%CE%BB%CE%AC%CE%B4%CE%B1%CF%82/%CE%A4%CE%BC%CE%AE%CE%BC%CE%B1 %CE%94%CF%85%CF%84%CE%B9%CE%BA%CE%AE%CF%82 %CE%9C%CE%B1%CE%BA%CE%B5%CE%B4%CE%BF%CE%BD%CE%AF%CE%B1%CF%82":MAILTO:tee_koz@tee.gr
END:VEVENT
BEGIN:VEVENT
DTSTART;TZID=Europe/Athens:20131007T160000
DTEND;TZID=Europe/Athens:20131007T210000
DTSTAMP:20260420T074445
CREATED:20131001T000431Z
LAST-MODIFIED:20131001T000431Z
UID:10001038-1381161600-1381179600@web.tee.gr
SUMMARY:Εκδήλωση για τη Βιοποικιλότητα
DESCRIPTION:Το Υπουργείο Περιβάλλοντος\, Ενέργειας και Κλιματικής Αλλαγής\, σε συνεργασία με το Δήμο Αθηναίων και την Εναλλακτική κοινότητα «Πελίτι»\, διοργανώνουν στο Μουσείο Ακρόπολης\, τη Δευτέρα 7 Οκτωβρίου 2013 και ώρα 16:00\, εκδήλωση με θέμα «Βιοποικιλότητα – Ντόπιες Ποικιλίες» και στόχο τη διατήρηση της βιοποικιλότητας μέσω της προστασίας των ενδημικών ειδών και του αβελτίωτου πολλαπλασιαστικού υλικού τους.Στην εκδήλωση θα δώσουν το παρών εκπρόσωποι της πολιτικής ηγεσίας του ΥΠΕΚΑ και του Δήμου Αθηναίων. Εισηγήσεις θα πραγματοποιήσουν\, μεταξύ άλλων\, η κορυφαία περιβαλλοντολόγος\, συγγραφέας και φιλόσοφος Vandana Shiva\, εκπροσωπώντας το παγκόσμιο κίνημα για την ελευθερία των σπόρων (http://seedfreedom.in) και η Iga Niznik\, εκπρόσωπος της «Κιβωτού του Νώε» (http://www.arche-noah.at). Τις διεθνείς προσκεκλημένες θα πλαισιώσει το πάνελ των ομιλητών που αποτελείται από τους: Χριστίνα Μπαριτάκη (ΥΠΕΚΑ)\, Δημήτρη Κυριακάκη (Δήμος Αθηναίων)\, Μάρκο Καφούρο (Ένωση Συνεταιρισμών Θηραϊκών προϊόντων)\, Παναγιώτη  Μανίκη (Κέντρο Φυσικής Καλλιέργειας) και Παναγιώτη Σαϊνατούδη (Εναλλακτική Κοινότητα «Πελίτι» www.peliti.gr) ο οποίος και θα συντονίσει τη συζήτηση.Η είσοδος στην εκδήλωση είναι ελεύθερη (εγγραφές μέσω email στη διεύθυνση: seedfreedom@prv.ypeka.gr).
URL:https://web.tee.gr/event/ekdhlvsh-biopikoilothta/
LOCATION:Μουσείο Ακρόπολης\, ΑΘΗΝΑ
ORGANIZER;CN="%CE%A5%CE%A0%CE%95%CE%9A%CE%91%2C %CE%94%CE%AE%CE%BC%CE%BF%CF%82 %CE%91%CE%B8%CE%B7%CE%BD%CE%B1%CE%AF%CF%89%CE%BD%2C '%CE%A0%CE%B5%CE%BB%CE%AF%CF%84%CE%B9'":MAILTO:seedfreedom@prv.ypeka.gr
END:VEVENT
END:VCALENDAR