BEGIN:VCALENDAR
VERSION:2.0
PRODID:-//TEE - ECPv6.15.20//NONSGML v1.0//EN
CALSCALE:GREGORIAN
METHOD:PUBLISH
X-WR-CALNAME:TEE
X-ORIGINAL-URL:https://web.tee.gr
X-WR-CALDESC:Events for TEE
REFRESH-INTERVAL;VALUE=DURATION:PT1H
X-Robots-Tag:noindex
X-PUBLISHED-TTL:PT1H
BEGIN:VTIMEZONE
TZID:Europe/Athens
BEGIN:DAYLIGHT
TZOFFSETFROM:+0200
TZOFFSETTO:+0300
TZNAME:EEST
DTSTART:20210328T010000
END:DAYLIGHT
BEGIN:STANDARD
TZOFFSETFROM:+0300
TZOFFSETTO:+0200
TZNAME:EET
DTSTART:20211031T010000
END:STANDARD
BEGIN:DAYLIGHT
TZOFFSETFROM:+0200
TZOFFSETTO:+0300
TZNAME:EEST
DTSTART:20220327T010000
END:DAYLIGHT
BEGIN:STANDARD
TZOFFSETFROM:+0300
TZOFFSETTO:+0200
TZNAME:EET
DTSTART:20221030T010000
END:STANDARD
BEGIN:DAYLIGHT
TZOFFSETFROM:+0200
TZOFFSETTO:+0300
TZNAME:EEST
DTSTART:20230326T010000
END:DAYLIGHT
BEGIN:STANDARD
TZOFFSETFROM:+0300
TZOFFSETTO:+0200
TZNAME:EET
DTSTART:20231029T010000
END:STANDARD
END:VTIMEZONE
BEGIN:VEVENT
DTSTART;TZID=Europe/Athens:20220110T080000
DTEND;TZID=Europe/Athens:20220121T170000
DTSTAMP:20260422T134147
CREATED:20211230T071705Z
LAST-MODIFIED:20211230T071719Z
UID:10002682-1641801600-1642784400@web.tee.gr
SUMMARY:S. O. S. Climate Waterfront Workshop
DESCRIPTION:Εργαστήριο αστικού σχεδιασμού με τίτλο S. O. S. Climate Waterfront  θα λάβει χώρα στις 10-21 Ιανουαρίου 2022 στη Θεσσαλονίκη από το Τμήμα Αρχιτεκτόνων του ΑΠΘ και την Αναπτυξιακή ΜΕΙΖΟΝΟΣ ΑΣΤΙΚΗΣ ΘΕΣΣΑΛΟΝΙΚΗΣ A.E με την συμμετοχή ευρωπαϊκών πανεπιστημίων και ιδρυμάτων. \nΤα αστικά παραλιακά μέτωπα αντιμετωπίζουν νέες προκλήσεις με την κλιματική αλλαγή και οι επιπτώσεις της αυξάνονται με πρωτοφανή ρυθμό\, γεγονός που απαιτεί προσαρμογή και στρατηγικό σχεδιασμό των ευάλωτων περιοχών. Το πρόβλημα επηρεάζει τους πολίτες\, το περιβάλλον και την τοπική οικονομία. Το S.O.S. – Sustainable Open Solutions- for European urban waterfronts είναι ένα διεπιστημονικό έργο που στοχεύει στην διερεύνηση των παραθαλάσσιων μετώπων στην Ευρώπη που έρχονται αντιμέτωπα την κλιματική αλλαγή. Το έργο περιλαμβάνει διαφορετικούς επιστημονικούς  κλάδους για τη δημιουργία νέων στρατηγικών για βιώσιμες λύσεις σχετικά με τις υποδομές και τον πολεοδομικό σχεδιασμό στην Ευρώπη. Το έργο στοχεύει στην ανάπτυξη νέων λύσεων που προκύπτουν από τις σημερινές ανάγκες και τις προβλέψεις για το εγγύς μέλλον και συσχετίζει ιστορικά και γεωγραφικά αρχεία συγκεκριμένων παραλιακών τμημάτων  για τη δημιουργία προτύπων ανάπτυξης\, την τροφοδότηση αλγορίθμων και την ενσωμάτωση της υποστήριξης της τεχνητής νοημοσύνης για τον σχεδιασμό μελλοντικών πιθανών σεναρίων. \nΕστιάζοντας σε μια τοποθεσία στο ΝΑ άκρο του παραλιακού μετώπου της Θεσσαλονίκης\, το εργαστήριο συγκεντρώνει ακαδημαϊκούς\, δημόσιες αρχές\, ενδιαφερόμενους φορείς και φοιτητές αρχιτεκτονικής για δύο εβδομάδες έντονης συζήτησης\, στρατηγικού και λεπτομερούς πολεοδομικού σχεδιασμού\, επικεντρώνοντας στην ανάπτυξη λύσεων ανοιχτού τύπου από τις τοπικές συνθήκες και μπορούν να εφαρμοστούν στα ευρύτερα προβλήματα που αντιμετωπίζονται σήμερα στο πλαίσιο των Ευρωπαϊκών Παραλιακών Μετώπων. \nΤο εργαστήριο απευθύνεται σε προπτυχιακούς φοιτητές αρχιτεκτονικής\, Ελληνικών και ξένων Πανεπιστημίων\, οι οποίοι έχουν ολοκληρώσει: 1) το τέταρτο έτος προπτυχιακών σπουδών ή 2) επαρκή τμήματα του προγράμματος σπουδών τους σχετικά με θέματα Πολεοδομικού Σχεδιασμού\, Αστικού Σχεδιασμού και Περιβαλλοντικού Σχεδιασμού. Δικαίωμα υποβολής αίτησης έχουν και μεταπτυχιακοί φοιτητές που επικεντρώνονται στα προαναφερθέντα συναφή πεδία. \nΗ εγγραφή στο εργαστήριο\, γίνεται με αποστολή email στην κα Δώρα Ιορδανίδου στο diordan@arch.auth.gr με τα πλήρη στοιχεία επικοινωνίας (όνομα\, email\, αριθμό τηλεφώνου)\, ένα σύντομο βιογραφικό (μέγιστο 500 λέξεις) και ένα αντίγραφο του ακαδημαϊκού μητρώου. Μετά από διαδικασία επιλογής\, οι συμμετέχοντες φοιτητές θα λάβουν περαιτέρω οδηγίες. \n 
URL:https://web.tee.gr/event/s-o-s-climate-waterfront-workshop/
CATEGORIES:Άλλοι φορείς
END:VEVENT
END:VCALENDAR