BEGIN:VCALENDAR
VERSION:2.0
PRODID:-//TEE - ECPv6.15.20//NONSGML v1.0//EN
CALSCALE:GREGORIAN
METHOD:PUBLISH
X-ORIGINAL-URL:https://web.tee.gr
X-WR-CALDESC:Events for TEE
REFRESH-INTERVAL;VALUE=DURATION:PT1H
X-Robots-Tag:noindex
X-PUBLISHED-TTL:PT1H
BEGIN:VTIMEZONE
TZID:Europe/Athens
BEGIN:DAYLIGHT
TZOFFSETFROM:+0200
TZOFFSETTO:+0300
TZNAME:EEST
DTSTART:20210328T010000
END:DAYLIGHT
BEGIN:STANDARD
TZOFFSETFROM:+0300
TZOFFSETTO:+0200
TZNAME:EET
DTSTART:20211031T010000
END:STANDARD
BEGIN:DAYLIGHT
TZOFFSETFROM:+0200
TZOFFSETTO:+0300
TZNAME:EEST
DTSTART:20220327T010000
END:DAYLIGHT
BEGIN:STANDARD
TZOFFSETFROM:+0300
TZOFFSETTO:+0200
TZNAME:EET
DTSTART:20221030T010000
END:STANDARD
BEGIN:DAYLIGHT
TZOFFSETFROM:+0200
TZOFFSETTO:+0300
TZNAME:EEST
DTSTART:20230326T010000
END:DAYLIGHT
BEGIN:STANDARD
TZOFFSETFROM:+0300
TZOFFSETTO:+0200
TZNAME:EET
DTSTART:20231029T010000
END:STANDARD
END:VTIMEZONE
BEGIN:VEVENT
DTSTART;TZID=Europe/Athens:20220124T173000
DTEND;TZID=Europe/Athens:20220124T210000
DTSTAMP:20260422T232826
CREATED:20220124T081604Z
LAST-MODIFIED:20220124T081604Z
UID:10002690-1643045400-1643058000@web.tee.gr
SUMMARY:Διαδικτυακή ημερίδα για την τοπική αυτοδιοίκηση και τη διά βίου μάθηση
DESCRIPTION:Διαδικτυακή ημερίδα με θέμα «Τοπική Αυτοδιοίκηση και Διά Βίου Μάθηση: η συμβολή των πόλεων που μαθαίνουν» θα πραγματοποιηθεί από τον Δήμο Λαρισαίων και τον Δήμο Κορινθίων τη Δευτέρα 24 Ιανουαρίου 2022\, στις 17:45 – 21:15 στο πλαίσιο της Διεθνούς «Ημέρας εκπαίδευσης» και του εορτασμού των 70 χρόνων από την ίδρυση του Ινστιτούτου Διά Βίου Μάθησης της UNESCO. \nΕίναι η πρώτη φορά που δύο ελληνικές «πόλεις που μαθαίνουν» υλοποιούν μια ανάλογη εκδήλωση με στόχο\, πέραν της ανάδειξης αποτελεσματικών μεθοδολογιών και καλών πρακτικών\, να ενθαρρύνει τον διάλογο σχετικά με τις προοπτικές ανάπτυξης της διά βίου μάθησης στην τοπική αυτοδιοίκηση αξιοποιώντας την εμπειρία των Πόλεων που Μαθαίνουν και να ενισχύσει τη δικτύωση μεταξύ των ελληνικών Πόλεων που Μαθαίνουν\, καθώς και τη σύνδεσή τους με συναφείς με τη διά βίου μάθηση φορείς του δημόσιου και ιδιωτικού τομέα. \nΗ ημερίδα απευθύνεται σε στελέχη της δημόσιας διοίκησης και φορέων της εκπαίδευσης ενηλίκων και Διά Βίου Μάθησης\, εκπαιδευτικούς\, εκπαιδευτικούς\, εκπαιδευτές και εκπαιδευόμενους όλων των βαθμίδων και όλων των μορφών εκπαίδευσης\, καθώς και σε ενεργούς πολίτες που αξιοποιούν κάθε μορφή μάθησης. \nΣτην εκδήλωση συμμετέχουν ο συντονιστής του παγκόσμιου Δικτύου των «Πόλεων που Μαθαίνουν» της UNESCO κ. Ra I Valdes-Cotera\, ο πρόεδρος της ΚΕΔΕ και δήμαρχος Τρικκαίων κ. Δ\, Παπαστεργίου\, εκπρόσωποι της τοπικής αυτοδιοίκησης\, φορέων και Ελληνικών Πόλεων που Μαθαίνουν\, πανεπιστημιακοί από το πεδίο της Διά Βίου Μάθησης. Χαιρετισμό θα απευθύνουν ο κ. Γ. Βούτσινο5 – γενικός γραμματέας Επαγγελματικής Εκπαίδευσης\, Κατάρτισης και Διά Βίου Μάθησης του Υπουργείου Παιδείας και Θρησκευμάτων\, η πρόεδρος της Ελληνικής Εθνικής Επιτροπής για την UNESCO κ. Α. Τζιτζικώστα\, ο δήμαρχος Κορινθίων κ. Β. Νανόπουλος\, ο δήμαρχος Λαρισαίων κ. Α. Καλογιάννης\, και ο κ. Σ. Σπυρίδων διευθύνων σύμβουλος της ΕΕΤΑΑ. Η εκδήλωση θα πραγματοποιηθεί διαδικτυακά μέσω πλατφόρμας.\nΠληροφορίες: Δήμος Λαρισαίων: e-mail: learning-city@larissa.gov.gr\, τηλ.: 2410-680.249 – 2410680.250 Δήμος Κορινθίων: e-mail: gbag@otenet.gr
URL:https://web.tee.gr/event/diadiktyaki-imerida-gia-tin-topiki-aytodioikisi-kai-ti/
CATEGORIES:Άλλοι φορείς
END:VEVENT
END:VCALENDAR