BEGIN:VCALENDAR
VERSION:2.0
PRODID:-//TEE - ECPv6.15.20//NONSGML v1.0//EN
CALSCALE:GREGORIAN
METHOD:PUBLISH
X-ORIGINAL-URL:https://web.tee.gr
X-WR-CALDESC:Events for TEE
REFRESH-INTERVAL;VALUE=DURATION:PT1H
X-Robots-Tag:noindex
X-PUBLISHED-TTL:PT1H
BEGIN:VTIMEZONE
TZID:Europe/Helsinki
BEGIN:DAYLIGHT
TZOFFSETFROM:+0200
TZOFFSETTO:+0300
TZNAME:EEST
DTSTART:20150329T010000
END:DAYLIGHT
BEGIN:STANDARD
TZOFFSETFROM:+0300
TZOFFSETTO:+0200
TZNAME:EET
DTSTART:20151025T010000
END:STANDARD
BEGIN:DAYLIGHT
TZOFFSETFROM:+0200
TZOFFSETTO:+0300
TZNAME:EEST
DTSTART:20160327T010000
END:DAYLIGHT
BEGIN:STANDARD
TZOFFSETFROM:+0300
TZOFFSETTO:+0200
TZNAME:EET
DTSTART:20161030T010000
END:STANDARD
BEGIN:DAYLIGHT
TZOFFSETFROM:+0200
TZOFFSETTO:+0300
TZNAME:EEST
DTSTART:20170326T010000
END:DAYLIGHT
BEGIN:STANDARD
TZOFFSETFROM:+0300
TZOFFSETTO:+0200
TZNAME:EET
DTSTART:20171029T010000
END:STANDARD
END:VTIMEZONE
BEGIN:VEVENT
DTSTART;VALUE=DATE:20160915
DTEND;VALUE=DATE:20160918
DTSTAMP:20260419T193921
CREATED:20160912T044625Z
LAST-MODIFIED:20160912T123116Z
UID:10001749-1473897600-1474156799@web.tee.gr
SUMMARY:Συνέδριο: «Οικονομικές και Νομικές Παράμετροι του Ελληνικού Τουρισμού»
DESCRIPTION:To 4o πανελλήνιο συνέδριο με θέμα: «Οικονομικές και Νομικές Παράμετροι του Ελληνικού Τουρισμού» θα πραγματοποιηθεί από τις 15 έως τις 17 Σεπτεμβρίου 2016\, στο Μαλλιαροπούλειο Δημοτικό Θέατρο\, στην Τρίπολη. Το συνέδριο συνδιοργανώνουν το Εθνικό & Καποδιστριακό Πανεπιστήμιο Αθηνών\, το Αριστοτέλειο Πανεπιστήμιο Θεσσαλονίκης\, το Πανεπιστήμιο Αιγαίου\, το Πανεπιστήμιο Πελοποννήσου\, ο Δικηγορικός Σύλλογος Τρίπολης\, η Ένωσης Αστικολόγων και η Ένωση Ξενοδοχείων Αρκαδίας. \nΠληροφορίες: Δήμητρα Ψυχογιού (τηλ.: 2710230128\, 2710230123\, e-mail: dpsihog@uop.gr)
URL:https://web.tee.gr/event/sinedrioikonomikes-ke-nomikes-parametri-tou-ellinikou-tourismou/
LOCATION:Μαλλιαροπούλειο Δημοτικό Θέατρο\, Τρίπολη\, Ελλάδα
CATEGORIES:Άλλοι φορείς
END:VEVENT
END:VCALENDAR