BEGIN:VCALENDAR
VERSION:2.0
PRODID:-//TEE - ECPv6.15.20//NONSGML v1.0//EN
CALSCALE:GREGORIAN
METHOD:PUBLISH
X-WR-CALNAME:TEE
X-ORIGINAL-URL:https://web.tee.gr
X-WR-CALDESC:Events for TEE
REFRESH-INTERVAL;VALUE=DURATION:PT1H
X-Robots-Tag:noindex
X-PUBLISHED-TTL:PT1H
BEGIN:VTIMEZONE
TZID:Europe/Helsinki
BEGIN:DAYLIGHT
TZOFFSETFROM:+0200
TZOFFSETTO:+0300
TZNAME:EEST
DTSTART:20150329T010000
END:DAYLIGHT
BEGIN:STANDARD
TZOFFSETFROM:+0300
TZOFFSETTO:+0200
TZNAME:EET
DTSTART:20151025T010000
END:STANDARD
BEGIN:DAYLIGHT
TZOFFSETFROM:+0200
TZOFFSETTO:+0300
TZNAME:EEST
DTSTART:20160327T010000
END:DAYLIGHT
BEGIN:STANDARD
TZOFFSETFROM:+0300
TZOFFSETTO:+0200
TZNAME:EET
DTSTART:20161030T010000
END:STANDARD
BEGIN:DAYLIGHT
TZOFFSETFROM:+0200
TZOFFSETTO:+0300
TZNAME:EEST
DTSTART:20170326T010000
END:DAYLIGHT
BEGIN:STANDARD
TZOFFSETFROM:+0300
TZOFFSETTO:+0200
TZNAME:EET
DTSTART:20171029T010000
END:STANDARD
END:VTIMEZONE
BEGIN:VEVENT
DTSTART;VALUE=DATE:20161003
DTEND;VALUE=DATE:20161005
DTSTAMP:20260419T181650
CREATED:20160406T040829Z
LAST-MODIFIED:20160406T040829Z
UID:10001680-1475452800-1475625599@web.tee.gr
SUMMARY:Πανελλήνιο Συνέδριο Ακουστικής
DESCRIPTION:Το Ελληνικό Ινστιτούτο Ακουστικής (ΕΛ. ΙΝ.Α.) και το Ανώτατο Εκπαιδευτικό Ίδρυμα Πειραιά Τεχνολογικού Τομέα διοργανώνουν το πανελλήνιο συνέδριο «ΑΚΟΥΣΤΙΚΗ 2016»\, που θα διεξαχθεί στις 3 και 4 Οκτωβρίου\, στο Αιγάλεω Αττικής. Απευθύνεται σε όλους τους επιστήμονες που δραστηριοποιούνται στην Ελλάδα\, ασχολούνται με την ακουστική και επιθυμούν να παρουσιάσουν τα αποτελέσματα της ερευνητικής τους εργασίας. \nΤο συνέδριο είναι ανοικτό και σε όσους επιθυμούν απλά να πληροφορηθούν για τις σύγχρονες εξελίξεις στον τομέα της ακουστικής στην Ελλάδα και όχι μόνο. \nΘεματικές ενότητες: \n– Γενική\, Θεωρητική & Εφαρμοσμένη ακουστική (General Acoustics) \n– Υπολογιστική ακουστική (Computational Acoustics) \n– Ψηφιακή επεξεργασία ήχου (Digital Acoustic Signal Processing) \n– Επεξεργασία ομιλίας & λόγου (Speech processing) \n– Έλεγχος θορύβων & δονήσεων (Noise & Vibration Control) \n– Περιβαλλοντική ακουστική \n– Ηχορύπανση (Environmental Acoustics & Noise pollution) \n– Ηλεκτροακουστική (Electroacoustics) \n– Κτιριακή-αρχιτεκτονική ακουστική (Building-Architectural Acoustics) \n– Μουσική ακουστική (Μusical Acoustics) \n– Υποβρύχια ακουστική (Underwater Acoustics) \n– Εκπαίδευση και Ακουστική \n– Ατμοσφαιρική ακουστική (Aeroacoustics) \n– Ψυχοακουστική (Psychoacoustics) \n– Υπέρηχοι και εφαρμογές (Ultrasonics) \n– Μη καταστροφικοί έλεγχοι με ακουστικά μέσα (Nondestructive testing using acoustic means) \n– Ακουστικές μετρήσεις και όργανα (Acoustical measurements and instrumentation) \n– Ακουστική εκπομπή (Acoustic emission) \n– Βιοακουστική (Bioacoustics) \n– Ακουστική Οικολογία (Acoustic Ecology) \n– Ηχοτοπία (Soundscapes) \n– Ήχος για ηλεκτρονικά παιχνίδια (Audio for Games) \n– Εφαρμογές ήχου για άτομα με αναπηρίες – βαρήκοοι\, αμβλύωπες και τυφλοί. (Audioapplications for persons with disabilities: hard of hearing\, partially sighted and blind.)  \nΠληροφορίες:  \nΤηλ.: 210 5381514\, e-mail: acoustics2016@helina.gr\,  \nιστοσελίδα: http://conferences.helina.gr/2016/gr/
URL:https://web.tee.gr/event/panellinio-sinedrio-akoustikis/
LOCATION:Συνεδριακό Κέντρο του Α.Ε.Ι. Πειραιά Τ.Τ\, Αθήνα\, Αιγάλεω\, Ελλάδα
CATEGORIES:Άλλοι φορείς
END:VEVENT
END:VCALENDAR