BEGIN:VCALENDAR
VERSION:2.0
PRODID:-//TEE - ECPv6.15.20//NONSGML v1.0//EN
CALSCALE:GREGORIAN
METHOD:PUBLISH
X-ORIGINAL-URL:https://web.tee.gr
X-WR-CALDESC:Events for TEE
REFRESH-INTERVAL;VALUE=DURATION:PT1H
X-Robots-Tag:noindex
X-PUBLISHED-TTL:PT1H
BEGIN:VTIMEZONE
TZID:Europe/Athens
BEGIN:DAYLIGHT
TZOFFSETFROM:+0200
TZOFFSETTO:+0300
TZNAME:EEST
DTSTART:20240331T010000
END:DAYLIGHT
BEGIN:STANDARD
TZOFFSETFROM:+0300
TZOFFSETTO:+0200
TZNAME:EET
DTSTART:20241027T010000
END:STANDARD
BEGIN:DAYLIGHT
TZOFFSETFROM:+0200
TZOFFSETTO:+0300
TZNAME:EEST
DTSTART:20250330T010000
END:DAYLIGHT
BEGIN:STANDARD
TZOFFSETFROM:+0300
TZOFFSETTO:+0200
TZNAME:EET
DTSTART:20251026T010000
END:STANDARD
BEGIN:DAYLIGHT
TZOFFSETFROM:+0200
TZOFFSETTO:+0300
TZNAME:EEST
DTSTART:20260329T010000
END:DAYLIGHT
BEGIN:STANDARD
TZOFFSETFROM:+0300
TZOFFSETTO:+0200
TZNAME:EET
DTSTART:20261025T010000
END:STANDARD
END:VTIMEZONE
BEGIN:VEVENT
DTSTART;TZID=Europe/Athens:20250219T103000
DTEND;TZID=Europe/Athens:20250219T150000
DTSTAMP:20260425T133902
CREATED:20250128T111308Z
LAST-MODIFIED:20250128T111308Z
UID:10003485-1739961000-1739977200@web.tee.gr
SUMMARY:Ημερίδα για τον Αντιπλημμυρικό Σχεδιασμό στην Αττική
DESCRIPTION:Η ΕΜΔΥΔΑΣ Αττικής\, σε συνεργασία με την Π.Ο. ΕΜΔΥΔΑΣ\, διοργανώνουν ημερίδα με θέμα «Αντιπλημμυρικός Σχεδιασμός στην Αττική: Το νερό έχει μνήμη»\, την Τετάρτη 19 Φεβρουαρίου 2025 στο Αμφιθέατρο του ΤΕΕ (Νίκης 4\, Σύνταγμα)\, 10:30 – 15:00. \nΣκοπός της ημερίδας είναι: \n▪ Η εξέταση του κατά πόσο θωρακισμένη είναι η Αττική απέναντι στα πλημμυρικά φαινόμενα. \n▪ Η ανάγκη προτεραιοποίησης και κεντρικού σχεδιασμού της αντιπλημμυρικής προστασίας από την Πολιτεία. \n▪ Η επικαιροποίηση του εν εξελίξει χωροταξικού σχεδιασμού και των πλημμυρικών χαρτών με βάση τα νέα δεδομένα που προέκυψαν από τις καταστροφές. \n▪ Η αξιοποίηση του συνόλου του επιστημονικού δυναμικού της χώρας για τη στελέχωση των εμπλεκόμενων υπηρεσιών σε όλα τα επίπεδα Διοίκησης – Μηχανικοί να αποφασίζουν για τα Τεχνικά θέματα. \n▪ Η καταγραφή και οριοθέτηση όλων των ρεμάτων και\, σε περίπτωση διευθέτησης\, η πρόταξη σύγχρονων μεθόδων διευθέτησης με διατήρηση των φυσικών διαδρομών και των πλημμυρικών ζωνών. \n▪ Η ανάδειξη των διαχρονικών ευθυνών της Πολιτείας για την πολυνομία\, την υποχρηματοδότηση και την ελλιπή στελέχωση \n▪ Η ενημέρωση και επιμόρφωση των συναδέλφων μας από αρμόδιους επιστήμονες \nΗ Ημερίδα θα μεταδοθεί ζωντανά\, θα μαγνητοσκοπηθεί και θα είναι διαθέσιμη στο κανάλι της ΠΟ ΕΜΔΥΔΑΣ στο Youtube.
URL:https://web.tee.gr/event/imerida-gia-ton-antiplimmyriko-schediasmo-stin-attiki/
LOCATION:Aίθουσα εκδηλώσεων ΤΕΕ\, Nίκης 4\, Αθήνα\, Ελλάδα
CATEGORIES:Άλλοι φορείς
END:VEVENT
END:VCALENDAR