BEGIN:VCALENDAR
VERSION:2.0
PRODID:-//TEE - ECPv6.15.20//NONSGML v1.0//EN
CALSCALE:GREGORIAN
METHOD:PUBLISH
X-WR-CALNAME:TEE
X-ORIGINAL-URL:https://web.tee.gr
X-WR-CALDESC:Events for TEE
REFRESH-INTERVAL;VALUE=DURATION:PT1H
X-Robots-Tag:noindex
X-PUBLISHED-TTL:PT1H
BEGIN:VTIMEZONE
TZID:Europe/Helsinki
BEGIN:DAYLIGHT
TZOFFSETFROM:+0200
TZOFFSETTO:+0300
TZNAME:EEST
DTSTART:20150329T010000
END:DAYLIGHT
BEGIN:STANDARD
TZOFFSETFROM:+0300
TZOFFSETTO:+0200
TZNAME:EET
DTSTART:20151025T010000
END:STANDARD
BEGIN:DAYLIGHT
TZOFFSETFROM:+0200
TZOFFSETTO:+0300
TZNAME:EEST
DTSTART:20160327T010000
END:DAYLIGHT
BEGIN:STANDARD
TZOFFSETFROM:+0300
TZOFFSETTO:+0200
TZNAME:EET
DTSTART:20161030T010000
END:STANDARD
BEGIN:DAYLIGHT
TZOFFSETFROM:+0200
TZOFFSETTO:+0300
TZNAME:EEST
DTSTART:20170326T010000
END:DAYLIGHT
BEGIN:STANDARD
TZOFFSETFROM:+0300
TZOFFSETTO:+0200
TZNAME:EET
DTSTART:20171029T010000
END:STANDARD
END:VTIMEZONE
BEGIN:VEVENT
DTSTART;VALUE=DATE:20161118
DTEND;VALUE=DATE:20161120
DTSTAMP:20260419T165246
CREATED:20161115T073539Z
LAST-MODIFIED:20161115T073830Z
UID:10001781-1479427200-1479599999@web.tee.gr
SUMMARY:Διημερίδα: «Ειδικά Θέματα Έρευνας και Εφαρμογών στα Αναστηλωτικά έργα της Ακρόπολης»
DESCRIPTION:Διημερίδα με θέμα «Ειδικά Θέματα Έρευνας και Εφαρμογών στα Αναστηλωτικά έργα της Ακρόπολης την Περίοδο 2010-2015» πραγματοποιούν στις 18 και 19 Νοεμβρίου 2016\, στο αμφιθέατρο του Μουσείου Ακρόπολης\, η Επιτροπή Συντηρήσεως Μνημείων Ακροπόλεως (ΕΣΜΑ) και η Υπηρεσία Συντήρησης Μνημείων Ακρόπολης (ΥΣΜΑ). \nΣτόχος της διημερίδας είναι να παρουσιαστούν εξειδικευμένες μελέτες έρευνας στους τομείς της αρχιτεκτονικής\, της δομικής αποκατάστασης και της συντήρησης επιφανείας\, αλλά και ειδικότερα προβλήματα τεχνολογίας και εφαρμογών που εξετάστηκαν κατά την εξέλιξη των αναστηλωτικών προγραμμάτων στα μνημεία της Ακρόπολης\, την περίοδο 2010-2015. Η διοργάνωση δεν έχει χαρακτήρα απολογισμού των ολοκληρωμένων έργων και δεν θα θέσει υπό συζήτηση προτάσεις αποκατάστασης μελλοντικών προγραμμάτων\, θέματα που αποτελούν αντικείμενο των διεθνών συναντήσεων για την αποκατάσταση των μνημείων της Ακρόπολης. \nΘα γίνουν 28 ανακοινώσεις από τον πρόεδρο της ΕΣΜΑ και 33 υπηρετούντες και υπηρετήσαντες υπαλλήλους της ΥΣΜΑ\, κατά την περίοδο 2010-2015\, που αναπτύσσονται σε 6 συνεδρίες. Οι εργασίες θα ξεκινήσουν το πρωί της Παρασκευής\, με χαιρετισμό της γενικής γραμματέως Πολιτισμού\, Μαρίας Ανδρεαδάκη-Βλαζάκη\, του προέδρου του Μουσείου Ακρόπολης\, Δημήτρη Παντερμαλή και της προϊσταμένης της Εφορείας Αρχαιοτήτων Αθηνών\, Ελένης Μπάνου. Στις συνεδρίες θα προεδρεύσουν τα μέλη της ΕΣΜΑ. \nΗ 1η συνεδρία θα ξεκινήσει με την ομιλία του προέδρου της ΕΣΜΑ\, ομότιμου καθηγητή\, Μανόλη Κορρέ και θα συνεχιστεί με θέματα αρχιτεκτονικής και οικοδομικής του Παρθενώνα. Η 2η συνεδρία αφορά σε θέματα δομικής αποκατάστασης\, επίσης στον Παρθενώνα. Η 3η αφορά σε θέματα μελετών σχετικά με τα Προπύλαια\, το Ερέχθειο και τα Τείχη. Στην 4η συνεδρία θα παρουσιαστούν θέματα σχετικά με την συντήρηση της επιφάνειας σε όλα τα μνημεία της Ακρόπολης και στην 5η θέματα αρχαιολογικής έρευνας\, τεκμηρίωσης των εργασιών και ενημέρωσης του κοινού. Στην 6η συνεδρία θα γίνει συνοπτικός απολογισμός του πρόσφατου αναστηλωτικού έργου από τη διευθύντρια της ΥΣΜΑ\, Βασιλικής Ελευθερίου\, θα παρουσιαστούν οι προτάσεις για το επόμενο αναστηλωτικό πρόγραμμα και θα ακολουθήσει η σύνοψη και τα συμπεράσματα της επιστημονικής συνάντησης. \nΠαράλληλα\, ΕΣΜΑ και ΥΣΜΑ\, σε συνεργασία με το Μουσείο Ελληνικής Λαϊκής Τέχνης\, διοργανώνουν έκθεση φωτογραφίας με τίτλο «Εγγραφές στη Μνήμη: Ανακαλώντας στιγμές από την αναστήλωση των Προπυλαίων» στον πολυχώρο της έκθεσης «Άνθρωποι και Εργαλεία» του Μουσείου Ελληνικής Λαϊκής Τέχνης (οδός Πανός 19\, Πλάκα). Στην έκθεση\, που θα διαρκέσει από 18 Νοεμβρίου έως 9 Δεκεμβρίου 2016\, θα παρουσιαστεί αρχειακό υλικό από το έργο αποκατάστασης των Προπυλαίων\, με κεντρικό θεματικό άξονα τη συμβολή του ανθρώπινου παράγοντα στο αναστηλωτικό έργο που επιτελέστηκε στο μνημείο.
URL:https://web.tee.gr/event/diimerida-idika-themata-erevnas-ke-efarmogon-sta-anastilotika-erga-tis-akropolis/
LOCATION:Αμφιθέατρο Μουσείου Ακρόπολης
CATEGORIES:Άλλοι φορείς
END:VEVENT
END:VCALENDAR