BEGIN:VCALENDAR
VERSION:2.0
PRODID:-//TEE - ECPv6.15.20//NONSGML v1.0//EN
CALSCALE:GREGORIAN
METHOD:PUBLISH
X-ORIGINAL-URL:https://web.tee.gr
X-WR-CALDESC:Events for TEE
REFRESH-INTERVAL;VALUE=DURATION:PT1H
X-Robots-Tag:noindex
X-PUBLISHED-TTL:PT1H
BEGIN:VTIMEZONE
TZID:Europe/Athens
BEGIN:DAYLIGHT
TZOFFSETFROM:+0200
TZOFFSETTO:+0300
TZNAME:EEST
DTSTART:20250330T010000
END:DAYLIGHT
BEGIN:STANDARD
TZOFFSETFROM:+0300
TZOFFSETTO:+0200
TZNAME:EET
DTSTART:20251026T010000
END:STANDARD
BEGIN:DAYLIGHT
TZOFFSETFROM:+0200
TZOFFSETTO:+0300
TZNAME:EEST
DTSTART:20260329T010000
END:DAYLIGHT
BEGIN:STANDARD
TZOFFSETFROM:+0300
TZOFFSETTO:+0200
TZNAME:EET
DTSTART:20261025T010000
END:STANDARD
BEGIN:DAYLIGHT
TZOFFSETFROM:+0200
TZOFFSETTO:+0300
TZNAME:EEST
DTSTART:20270328T010000
END:DAYLIGHT
BEGIN:STANDARD
TZOFFSETFROM:+0300
TZOFFSETTO:+0200
TZNAME:EET
DTSTART:20271031T010000
END:STANDARD
END:VTIMEZONE
BEGIN:VEVENT
DTSTART;TZID=Europe/Athens:20260420T080000
DTEND;TZID=Europe/Athens:20260421T170000
DTSTAMP:20260424T183056
CREATED:20260420T092144Z
LAST-MODIFIED:20260420T092144Z
UID:10003918-1776672000-1776790800@web.tee.gr
SUMMARY:Διημερίδα για τα Τομεακά Προγράμματα ΕΣΠΑ 2021-2027
DESCRIPTION:Η Διημερίδα με τίτλο «Τομεακά Προγράμματα ΕΣΠΑ 2021-2027: Πρόοδος που μετριέται\, Μέλλον που χτίζεται»\, διοργανώνεται από την Γενική Γραμματεία Διαχείρισης Τομεακών Προγραμμάτων ΕΤΠΑ\, ΤΣ & ΕΚΤ+\, σε συνεργασία με την Ειδική Υπηρεσία Δίκαιης Αναπτυξιακής Μετάβασης\, και θα πραγματοποιηθεί στο Ζάππειο Μέγαρο στις 20-21 Απριλίου 2026. \nΗ Διημερίδα αποτελεί μια σημαντική ευκαιρία για την ανάπτυξη επιστημονικού διαλόγου με φορείς που συμβάλλουν στην υλοποίηση των Προγραμμάτων\, με στόχο την αποτύπωση της πλήρους ενεργοποίησης των συγχρηματοδοτούμενων δράσεων του ΕΣΠΑ 2021–2027\, καθώς και τη συζήτηση του σχεδιασμού των επόμενων βημάτων. \nΓια περισσότερες πληροφορίες σχετικά με το πρόγραμμα και τη δήλωση συμμετοχής\, μπορείτε να επισκεφθείτε τον ακόλουθο σύνδεσμο:\nhttps://21-27.antagonistikotita.gr/proodos-pou-metrietai-mellon-poy-chtizetai/#home
URL:https://web.tee.gr/event/diimerida-gia-ta-tomeaka-programmata-espa-2021-2027/
LOCATION:Ζάππειο Μέγαρο
CATEGORIES:Άλλοι φορείς
END:VEVENT
END:VCALENDAR