BEGIN:VCALENDAR
VERSION:2.0
PRODID:-//TEE - ECPv6.15.20//NONSGML v1.0//EN
CALSCALE:GREGORIAN
METHOD:PUBLISH
X-WR-CALNAME:TEE
X-ORIGINAL-URL:https://web.tee.gr
X-WR-CALDESC:Events for TEE
REFRESH-INTERVAL;VALUE=DURATION:PT1H
X-Robots-Tag:noindex
X-PUBLISHED-TTL:PT1H
BEGIN:VTIMEZONE
TZID:Europe/Helsinki
BEGIN:DAYLIGHT
TZOFFSETFROM:+0200
TZOFFSETTO:+0300
TZNAME:EEST
DTSTART:20150329T010000
END:DAYLIGHT
BEGIN:STANDARD
TZOFFSETFROM:+0300
TZOFFSETTO:+0200
TZNAME:EET
DTSTART:20151025T010000
END:STANDARD
BEGIN:DAYLIGHT
TZOFFSETFROM:+0200
TZOFFSETTO:+0300
TZNAME:EEST
DTSTART:20160327T010000
END:DAYLIGHT
BEGIN:STANDARD
TZOFFSETFROM:+0300
TZOFFSETTO:+0200
TZNAME:EET
DTSTART:20161030T010000
END:STANDARD
BEGIN:DAYLIGHT
TZOFFSETFROM:+0200
TZOFFSETTO:+0300
TZNAME:EEST
DTSTART:20170326T010000
END:DAYLIGHT
BEGIN:STANDARD
TZOFFSETFROM:+0300
TZOFFSETTO:+0200
TZNAME:EET
DTSTART:20171029T010000
END:STANDARD
END:VTIMEZONE
BEGIN:VEVENT
DTSTART;VALUE=DATE:20160708
DTEND;VALUE=DATE:20160711
DTSTAMP:20260419T232227
CREATED:20160705T053402Z
LAST-MODIFIED:20160705T053402Z
UID:10000205-1467936000-1468195199@web.tee.gr
SUMMARY:Σεμινάριο: «Καινοτομία και Επιχειρηματικότητα σε Υποδομές\, Δίκτυα και Υπηρεσίες»
DESCRIPTION:Η Ομάδα INFOSTRAG του Εργαστηρίου Βιομηχανικής και Ενεργειακής Οικονομίας του ΕΜΠ πραγματοποιεί και φέτος σεμινάριο για την Κοινωνία της Πληροφορίας & την Οικονομία της Γνώσης\, στο πλαίσιο των ετήσιων σεμιναρίων που διοργανώνει το Ινστιτούτο Ιστορικών Ερευνών του Εθνικού Ιδρύματος Ερευνών (ΙIΕ/ΕΙΕ) στην Ερμούπολη της Σύρου.\n\nΤο σεμινάριο θα διεξαχθεί από τις 8 Ιουλίου έως τις 10 Ιουλίου 2016\, στην αίθουσα «Παρθενών» του Πανεπιστημίου Αιγαίου (κτίριο παλιού 1ου Γυμνασίου Σύρου).\n\nΤο σεμινάριο έχει τίτλο «Καινοτομία και Επιχειρηματικότητα σε Υποδομές\, Δίκτυα και Υπηρεσίες» και περιλαμβάνει τις παρακάτω θεματικές ενότητες:\n\n– 8 Ιουλίου 10:00 – 13:30: Έρευνα\, Καινοτομία και Ανάπτυξη στην Ελλάδα στο περιβάλλον της κρίσης:    Ευκαιρία ή πολυτέλεια;\n 18:00 – 21:30: Ένα νέο Στρατηγικό Πλαίσιο για την ανάπτυξη των Ευφυών Πόλεων.\n\n– 9 Ιουλίου 10:00 – 13:30: Αποδοτικότερη λειτουργία δικτύων\, υποδομών και υπηρεσιών στην τοπική αυτοδιοίκηση: Προοπτικές\, εμπόδια\, προκλήσεις\n18:00 – 21:30: Innovative Entrepreneurship: Promising New Ventures (θα διεξαχθεί στα αγγλικά).\nΚεντρική ομιλία από τον Johan Van den Bossche του βέλγικου οργανισμού SO Kwadraat\, που ασχολείται με την καθοδήγηση νέων επιχειρηματικών εγχειρημάτων. Παρουσίαση καινοτόμων επιχειρηματικών εγχειρημάτων.\n\n– 10 Ιουλίου 10:30 – 12:30: Συμπεράσματα του σεμιναρίου\n– Συζήτηση.\n\nΠληροφορίες: email: panag.panag82@gmail.com\,\nτηλ.: 2107723295\, 6977747049
URL:https://web.tee.gr/event/seminario-kenotomia-ke-epichirimatikotita-se-ipodomes-diktia-ke-ipiresies/
LOCATION:Αίθουσα «Παρθενών» Πανεπιστήμιο Αιγαίου\, Σύρος
CATEGORIES:Άλλοι φορείς
END:VEVENT
END:VCALENDAR