BEGIN:VCALENDAR
VERSION:2.0
PRODID:-//TEE - ECPv6.15.20//NONSGML v1.0//EN
CALSCALE:GREGORIAN
METHOD:PUBLISH
X-ORIGINAL-URL:https://web.tee.gr
X-WR-CALDESC:Events for TEE
REFRESH-INTERVAL;VALUE=DURATION:PT1H
X-Robots-Tag:noindex
X-PUBLISHED-TTL:PT1H
BEGIN:VTIMEZONE
TZID:Europe/Athens
BEGIN:DAYLIGHT
TZOFFSETFROM:+0200
TZOFFSETTO:+0300
TZNAME:EEST
DTSTART:20250330T010000
END:DAYLIGHT
BEGIN:STANDARD
TZOFFSETFROM:+0300
TZOFFSETTO:+0200
TZNAME:EET
DTSTART:20251026T010000
END:STANDARD
BEGIN:DAYLIGHT
TZOFFSETFROM:+0200
TZOFFSETTO:+0300
TZNAME:EEST
DTSTART:20260329T010000
END:DAYLIGHT
BEGIN:STANDARD
TZOFFSETFROM:+0300
TZOFFSETTO:+0200
TZNAME:EET
DTSTART:20261025T010000
END:STANDARD
BEGIN:DAYLIGHT
TZOFFSETFROM:+0200
TZOFFSETTO:+0300
TZNAME:EEST
DTSTART:20270328T010000
END:DAYLIGHT
BEGIN:STANDARD
TZOFFSETFROM:+0300
TZOFFSETTO:+0200
TZNAME:EET
DTSTART:20271031T010000
END:STANDARD
END:VTIMEZONE
BEGIN:VEVENT
DTSTART;TZID=Europe/Athens:20260404T080000
DTEND;TZID=Europe/Athens:20260405T170000
DTSTAMP:20260424T190210
CREATED:20260402T104741Z
LAST-MODIFIED:20260402T104741Z
UID:10003910-1775289600-1775408400@web.tee.gr
SUMMARY:13ο Open House Athens
DESCRIPTION:Το Open House για 13η χρονιά προγραμματίζει δωρεάν επισκέψεις σε εμβληματικούς χώρους της πρωτεύουσας\, στις 4 και 5 Απριλίου2026. \nΣτο πλαίσιο αυτού του δοκιμασμένου θεσμού\, που ξεκίνησε το 1992 από το Λονδίνο και πλέον υιοθετείται από 50 και πλέον πόλεις σε παγκόσμια κλίμακα\, η Αθήνα μετατρέπεται σε «ανοιχτό μουσείο»\, όπου τα ίδια τα κτίρια γίνονται τα εκθέματα. \nΠερισσότερα από 70 ιστορικά κτίρια με έντονο αρχιτεκτονικό και ιστορικό ενδιαφέρον ανοίγουν για 13η χρονιά τις πόρτες τους δωρεάν στους επισκέπτες\, με 600 εθελοντές να τους καθοδηγούν στις συναρπαστικές πληροφορίες και λεπτομέρειες της κατασκευής τους. \nΑνάμεσά τους εμβληματικοί χώροι όπως το Αρχείο Καβάφη -ιστορικό πανέμορφο διατηρητέο του 1910-\, το Μέγαρο Δουκίσσης Πλακεντίας\, που στεγάζει το Βυζαντινό και Χριστιανικό Μουσείο\, το Δημοτικό Θέατρο Πειραιά\, η νεοκλασική Ωνάσειος Βιβλιοθήκη\, το Μέγαρο Μελά στην πλατεία Κοτζιά και το Γαλλικό Ινστιτούτο Ελλάδας\, ενώ εκπροσωπείται επίσης η σύγχρονη βιομηχανική αισθητική από τα 10AM Lofts και τον πολυχώρο Piree που ανασχεδιάστηκε πλήρως μέσα στο 2025. \nΗ φετινή διοργάνωση\, υπό την επιμέλεια της αστικής μη κερδοσκοπικής εταιρείας Open House Greece\, εστιάζει στη θεματική «Emerging City – η πόλη που αναδύεται». Το ενδιαφέρον στρέφεται στη νέα γενιά αρχιτεκτόνων\, σε πρόσφατα ολοκληρωμένα έργα και σε καινοτόμες επαναχρήσεις παλιών χώρων που επαναπροσδιορίζουν και συνδιαμορφώνουν την εικόνα της πρωτεύουσας και οι επισκέπτες καλούνται να ανακαλύψουν πώς οι νέες τάσεις συνδιαλέγονται με το ιστορικό παρελθόν της πόλης – από τον νεοκλασικισμό έως τη μεταπολεμική πολυκατοικία που αποκρυστάλλωσε τον σύγχρονο τρόπο ζωής. \nΠληροφορίες: https://www.openhouseathens.gr/event/open-tours/
URL:https://web.tee.gr/event/13o-open-house-athens/
CATEGORIES:Άλλοι φορείς
END:VEVENT
END:VCALENDAR