BEGIN:VCALENDAR
VERSION:2.0
PRODID:-//TEE - ECPv6.15.20//NONSGML v1.0//EN
CALSCALE:GREGORIAN
METHOD:PUBLISH
X-WR-CALNAME:TEE
X-ORIGINAL-URL:https://web.tee.gr
X-WR-CALDESC:Events for TEE
REFRESH-INTERVAL;VALUE=DURATION:PT1H
X-Robots-Tag:noindex
X-PUBLISHED-TTL:PT1H
BEGIN:VTIMEZONE
TZID:Europe/Athens
BEGIN:DAYLIGHT
TZOFFSETFROM:+0200
TZOFFSETTO:+0300
TZNAME:EEST
DTSTART:20190331T010000
END:DAYLIGHT
BEGIN:STANDARD
TZOFFSETFROM:+0300
TZOFFSETTO:+0200
TZNAME:EET
DTSTART:20191027T010000
END:STANDARD
BEGIN:DAYLIGHT
TZOFFSETFROM:+0200
TZOFFSETTO:+0300
TZNAME:EEST
DTSTART:20200329T010000
END:DAYLIGHT
BEGIN:STANDARD
TZOFFSETFROM:+0300
TZOFFSETTO:+0200
TZNAME:EET
DTSTART:20201025T010000
END:STANDARD
BEGIN:DAYLIGHT
TZOFFSETFROM:+0200
TZOFFSETTO:+0300
TZNAME:EEST
DTSTART:20210328T010000
END:DAYLIGHT
BEGIN:STANDARD
TZOFFSETFROM:+0300
TZOFFSETTO:+0200
TZNAME:EET
DTSTART:20211031T010000
END:STANDARD
BEGIN:DAYLIGHT
TZOFFSETFROM:+0200
TZOFFSETTO:+0300
TZNAME:EEST
DTSTART:20220327T010000
END:DAYLIGHT
BEGIN:STANDARD
TZOFFSETFROM:+0300
TZOFFSETTO:+0200
TZNAME:EET
DTSTART:20221030T010000
END:STANDARD
BEGIN:DAYLIGHT
TZOFFSETFROM:+0200
TZOFFSETTO:+0300
TZNAME:EEST
DTSTART:20230326T010000
END:DAYLIGHT
BEGIN:STANDARD
TZOFFSETFROM:+0300
TZOFFSETTO:+0200
TZNAME:EET
DTSTART:20231029T010000
END:STANDARD
END:VTIMEZONE
BEGIN:VEVENT
DTSTART;TZID=Europe/Athens:20220208T170000
DTEND;TZID=Europe/Athens:20220208T180000
DTSTAMP:20260423T065256
CREATED:20220203T111053Z
LAST-MODIFIED:20220203T111945Z
UID:10002696-1644339600-1644343200@web.tee.gr
SUMMARY:Ομιλία Σχολή Πολιτικών Μηχανικών - ΕΜΠ
DESCRIPTION:Η Σχολή Πολιτικών Μηχανικών ΕΜΠ σας προσκαλεί σε ομιλία με τίτλο «Ένα εκπαιδευτικό μενού και ένας γύρος της βιβλιογραφίας της εκπαίδευσης για διδάσκοντες μηχανικούς» που θα δώσει η Αναπ. Καθηγήτρια Μαρίνα Πανταζίδου την Τρίτη\, 8 Φεβρουαρίου 2022\, 17:00-18:00\, στον σύνδεσμο: \nhttps://centralntua.webex.com/centralntua/j.php?MTID=md64747b22e04a1be5cf9c7450893683a \nΠερισσότερες Πληροφορίες \nhttp://www.civil.ntua.gr/news/2022/1/31/omilia/
URL:https://web.tee.gr/event/omilia-scholi-politikon-michanikon-emp/
CATEGORIES:Άλλοι φορείς
END:VEVENT
BEGIN:VEVENT
DTSTART;TZID=Europe/Athens:20200623T080000
DTEND;TZID=Europe/Athens:20200625T170000
DTSTAMP:20260423T065256
CREATED:20200618T062239Z
LAST-MODIFIED:20200618T062239Z
UID:10002438-1592899200-1593104400@web.tee.gr
SUMMARY:Διαδικτυακό συνέδριο της Σχολής Πολιτικών Μηχανικών ΕΜΠ
DESCRIPTION:  \nTo πρώτο διαδικτυακό συνδρομητικό διεθνές συνέδριο για την Εκπαίδευση Γεωτεχνικών Μηχανικών – GEE 2020\, με ελληνική διοργάνωση\, θα πραγματοποιηθεί από τις 23 ως τις 25 Ιουνίου 2020\, υπό την αιγίδα της Σχολής Πολιτικών Μηχανικών του Εθνικού Μετσόβιου Πολυτεχνείου\, της Ελληνικής Επιστημονικής Εταιρείας Εδαφομηχανικής και Γεωτεχνικής Μηχανικής και της αντίστοιχης διεθνούς εταιρείας\, και του Δήμου Αθηναίων. \nΤο συνέδριο GEE 2020 –όπως τονίζεται σε ανακοίνωση- φέρνει στον ίδιο χώρο ερευνητές από την εκπαίδευση και καθηγητές\, ερευνητές και μελετητές της πράξης από τη γεωτεχνική μηχανική. Οι στόχοι του συνεδρίου που κατεύθυναν τον σχεδιασμό του είναι: \n1) ενσωμάτωση εκπαιδευτικών ερευνητικών αποτελεσμάτων στην πολυτεχνειακή διδασκαλία\, \n2) δημοσιοποίηση εκπαιδευτικών συνεργασιών μεταξύ Πολυτεχνειακών Τμημάτων και Εταιρειών-Γραφείων Μελετών\, \n3) συστηματική εκπαίδευση νέων πανεπιστημιακών σε θέματα διδασκαλίας και μάθησης και\, \n4) χτίσιμο βάσεων για μελλοντικές συνεργασίες σε δύο συζητήσεις στρογγυλής τραπέζης στο τέλος της ημέρας στις 24 και 25 Ιουνίου. \nΓια τη μεγιστοποίηση της επιδραστικότητας του συνεδρίου\, η παρακολούθηση της πρώτης μέρας του συνεδρίου καθώς και της συζήτησης στρογγυλής τραπέζης στις 25/6 θα είναι ελεύθερη\, χωρίς να απαιτεί εγγραφή στο συνέδριο. \nΠληροφορίες: Μαρίνα Πανταζίδου\, Αναπληρώτρια Καθηγήτρια Σχολής Πολιτικών Μηχανικών ΕΜΠ\, Πρόεδρος Συνεδρίου GEE 2020 (mpanta@central.ntua.gr\, 697 22 38 014)\, www.gee2020.org
URL:https://web.tee.gr/event/diadiktyako-synedrio-tis-scholis-politikon-michanikon-emp/
CATEGORIES:Άλλοι φορείς
END:VEVENT
END:VCALENDAR