BEGIN:VCALENDAR
VERSION:2.0
PRODID:-//TEE - ECPv6.15.20//NONSGML v1.0//EN
CALSCALE:GREGORIAN
METHOD:PUBLISH
X-ORIGINAL-URL:https://web.tee.gr
X-WR-CALDESC:Events for TEE
REFRESH-INTERVAL;VALUE=DURATION:PT1H
X-Robots-Tag:noindex
X-PUBLISHED-TTL:PT1H
BEGIN:VTIMEZONE
TZID:Europe/Athens
BEGIN:DAYLIGHT
TZOFFSETFROM:+0200
TZOFFSETTO:+0300
TZNAME:EEST
DTSTART:20140330T010000
END:DAYLIGHT
BEGIN:STANDARD
TZOFFSETFROM:+0300
TZOFFSETTO:+0200
TZNAME:EET
DTSTART:20141026T010000
END:STANDARD
BEGIN:DAYLIGHT
TZOFFSETFROM:+0200
TZOFFSETTO:+0300
TZNAME:EEST
DTSTART:20150329T010000
END:DAYLIGHT
BEGIN:STANDARD
TZOFFSETFROM:+0300
TZOFFSETTO:+0200
TZNAME:EET
DTSTART:20151025T010000
END:STANDARD
BEGIN:DAYLIGHT
TZOFFSETFROM:+0200
TZOFFSETTO:+0300
TZNAME:EEST
DTSTART:20160327T010000
END:DAYLIGHT
BEGIN:STANDARD
TZOFFSETFROM:+0300
TZOFFSETTO:+0200
TZNAME:EET
DTSTART:20161030T010000
END:STANDARD
END:VTIMEZONE
BEGIN:VEVENT
DTSTART;VALUE=DATE:20151210
DTEND;VALUE=DATE:20151213
DTSTAMP:20260420T104903
CREATED:20151019T113628Z
LAST-MODIFIED:20151019T113628Z
UID:10000086-1449705600-1449964799@web.tee.gr
SUMMARY:Διεθνής Συνάντηση:  Στρατηγικές πράσινης υποδομής και φωτισμού
DESCRIPTION:Διεθνής Συνάντηση με θέμα: «Στρατηγικές πράσινης υποδομής και φωτισμού – Οικολογικές λύσεις για τις πόλεις και τις περιφέρει- ες» διοργανώνεται από τις 10 ως τις 12 Δεκεμβρίου 2015\, στην Αθήνα ( Οργανισμός Λιμένος Πειραιώς (ΟΛΠ) Ακτή Μιαούλη Πειραιάς )\, από τη SDMed Observation\, Planning & Eco-innovation\, σε συνεργασία με το Πάντειο Πανεπιστήμιο\, το Εργαστήριο SpaceAestheticsSustainability του ΤΕΙ Αθήνας και το Παρατηρητήριο Πολιτών για την Αειφόρο Ανάπτυξη\, ενώ τελεί υπό την αιγίδα της UNESCO. \nΘεματολογία: \n1η Ενότητα : Πράσινη υποδομή και οικοσυστημικές υπηρεσίες \n\nΠράσινη υποδομή : Σημασία\, σημερινή πραγματικότητα και προοπτικές\nΣτρατηγικές μετάβασης από την γκρι στην πράσινη υποδομή\nΠράσινη υποδομή και οικοσυστημικές υπηρεσίες\nΠράσινη υποδομή και διατήρηση της βιοποικιλότητας\nΟικολογικές λύσεις που προωθούν την «πράσινη υποδομή»\nΟδικές υποδομές και «πράσινη υποδομή»\nΘαλάσσιες και λιμενικές υποδομές και «πράσινη υποδομή»\, Dredging\nΠράσινη υποδομή και περιοχές “NATURA 2000”\nΧρήση «πράσινων υποδομών» για αντιπλημμυρική προστασία\nΕθνικές και περιφερειακές στρατηγικές πράσινης και γαλάζιας υποδομής\nΟικονομικά της πράσινης υποδομής – Συμπράξεις δημόσιου-ιδιωτικού τομέα\nΕπιχειρηματικότητα και βιοποικιλότητα : επιχειρηματικές ευκαιρίες μέσω του φυσικού κεφαλαίου\n\n2η Ενότητα : Πράσινες υποδομές και πόλη \n\nΔομημένο περιβάλλον/κτίρια και «πράσινη υποδομή»\nΑστική νησίδα θερμότητας και ενέργεια στην πόλη\nΦυτεμένες στέγες και φυτεμένοι κατακόρυφοι τοίχοι\nΠράσινη υποδομή και αστικός σχεδιασμός των υδάτινων πόρων\nΠράσινη υποδομή στις πόλεις : παρακολούθηση\, εφαρμογή\, αξιολόγηση και εργαλεία λήψης αποφάσεων\nΠράσινη υποδομή και προσαρμογή στην κλιματική αλλαγή\nΦωτοτοπία ( lightscapes) και νυκτοτοπία (nightscapes) στην πόλη – LED street lighting •Φως και ασφάλεια στην πόλη\n\n3η Ενότητα : Στρατηγικές και τεχνικές φωτισμού προς μιά «πράσινη υποδομή» \n\nΕνεργειακά αποδοτικός και χαμηλού κόστους φωτισμός\nΠράσινος Φωτισμός (green lighting)\, τεχνολογίες και καλές πρακτικές\nΚαινοτόμες εφαρμογές φωτισμού και τεχνολογιών φωτός.\nEπενδύσεις στην «πράσινη υποδομή» και στον «πράσινο φωτισμό».\nΦωτορρύπανση\, επιπτώσεις\, τρόποι μέτρησης και τεχνικές αντιμετώπισης\nΣχετικά Ευρωπαϊκά προγράμματα και τα αποτελέσματά τους.\nΚαινοτομίες «πράσινης υποδομής» στις οικογειτονιές\n\n4η Ενότητα : Πολιτιστική κληρονομιά\, αρχαιολογικοί χώροι και πράσινος φωτισμός \n\nΣχεδιασμός Φωτισμού αρχαιολογικών χώρων\nΦωτοτοπία ( lightscapes) και πολιτιστικοί/ αρχαιολογικοί χώροι\nLED και χαμηλού κόστους φωτισμός στους αρχαιολογικούς χώρους\nΦωτισμός και ανάδειξη έργων τέχνης\nΦωτισμός και μουσειακός χώρος\nΠαρουσίαση πραγματοποιημένων έργων αποκατάστασης και ανάδειξης αρχαιολογικών χώρων- Έμφαση στον φωτισμό.\n\nΠροθεσμία υποβολής περιλήψεων μέχρι 30 Οκτωβρίου 2015\,\nστο email: contact@sd-med.org \nΠληροφορίες: Τηλ/φαξ 210 9236206\, 210 9221066\, email: contact@sd-med.org  http://www.sd-med.org/en/
URL:https://web.tee.gr/event/diethnis-synantisi-stratigikes-prasinis-ypodomis-kai-fotismou/
LOCATION:Ίδρυμα Μιχάλης Κακογιάννης\, Πειραιώς 206\, Ταύρος\, Αθήνα\, Ελλάδα
END:VEVENT
END:VCALENDAR