BEGIN:VCALENDAR
VERSION:2.0
PRODID:-//TEE - ECPv6.15.20//NONSGML v1.0//EN
CALSCALE:GREGORIAN
METHOD:PUBLISH
X-WR-CALNAME:TEE
X-ORIGINAL-URL:https://web.tee.gr
X-WR-CALDESC:Events for TEE
REFRESH-INTERVAL;VALUE=DURATION:PT1H
X-Robots-Tag:noindex
X-PUBLISHED-TTL:PT1H
BEGIN:VTIMEZONE
TZID:Europe/Athens
BEGIN:DAYLIGHT
TZOFFSETFROM:+0200
TZOFFSETTO:+0300
TZNAME:EEST
DTSTART:20180325T010000
END:DAYLIGHT
BEGIN:STANDARD
TZOFFSETFROM:+0300
TZOFFSETTO:+0200
TZNAME:EET
DTSTART:20181028T010000
END:STANDARD
BEGIN:DAYLIGHT
TZOFFSETFROM:+0200
TZOFFSETTO:+0300
TZNAME:EEST
DTSTART:20190331T010000
END:DAYLIGHT
BEGIN:STANDARD
TZOFFSETFROM:+0300
TZOFFSETTO:+0200
TZNAME:EET
DTSTART:20191027T010000
END:STANDARD
BEGIN:DAYLIGHT
TZOFFSETFROM:+0200
TZOFFSETTO:+0300
TZNAME:EEST
DTSTART:20200329T010000
END:DAYLIGHT
BEGIN:STANDARD
TZOFFSETFROM:+0300
TZOFFSETTO:+0200
TZNAME:EET
DTSTART:20201025T010000
END:STANDARD
BEGIN:DAYLIGHT
TZOFFSETFROM:+0200
TZOFFSETTO:+0300
TZNAME:EEST
DTSTART:20210328T010000
END:DAYLIGHT
BEGIN:STANDARD
TZOFFSETFROM:+0300
TZOFFSETTO:+0200
TZNAME:EET
DTSTART:20211031T010000
END:STANDARD
BEGIN:DAYLIGHT
TZOFFSETFROM:+0200
TZOFFSETTO:+0300
TZNAME:EEST
DTSTART:20220327T010000
END:DAYLIGHT
BEGIN:STANDARD
TZOFFSETFROM:+0300
TZOFFSETTO:+0200
TZNAME:EET
DTSTART:20221030T010000
END:STANDARD
BEGIN:DAYLIGHT
TZOFFSETFROM:+0200
TZOFFSETTO:+0300
TZNAME:EEST
DTSTART:20230326T010000
END:DAYLIGHT
BEGIN:STANDARD
TZOFFSETFROM:+0300
TZOFFSETTO:+0200
TZNAME:EET
DTSTART:20231029T010000
END:STANDARD
BEGIN:DAYLIGHT
TZOFFSETFROM:+0200
TZOFFSETTO:+0300
TZNAME:EEST
DTSTART:20240331T010000
END:DAYLIGHT
BEGIN:STANDARD
TZOFFSETFROM:+0300
TZOFFSETTO:+0200
TZNAME:EET
DTSTART:20241027T010000
END:STANDARD
BEGIN:DAYLIGHT
TZOFFSETFROM:+0200
TZOFFSETTO:+0300
TZNAME:EEST
DTSTART:20250330T010000
END:DAYLIGHT
BEGIN:STANDARD
TZOFFSETFROM:+0300
TZOFFSETTO:+0200
TZNAME:EET
DTSTART:20251026T010000
END:STANDARD
BEGIN:DAYLIGHT
TZOFFSETFROM:+0200
TZOFFSETTO:+0300
TZNAME:EEST
DTSTART:20260329T010000
END:DAYLIGHT
BEGIN:STANDARD
TZOFFSETFROM:+0300
TZOFFSETTO:+0200
TZNAME:EET
DTSTART:20261025T010000
END:STANDARD
END:VTIMEZONE
BEGIN:VEVENT
DTSTART;TZID=Europe/Athens:20250121T090000
DTEND;TZID=Europe/Athens:20250121T170000
DTSTAMP:20260420T111005
CREATED:20250121T123207Z
LAST-MODIFIED:20250121T123259Z
UID:10003472-1737450000-1737478800@web.tee.gr
SUMMARY:Ημερίδα Συλλόγου Ελλήνων Συγκοινωνιολόγων
DESCRIPTION:Ο Σύλλογος Ελλήνων Συγκοινωνιολόγων (ΣΕΣ) και οι Επιστημονικές του Επιτροπές διοργανώνουν Ημερίδα με τίτλο: «Οι συγκοινωνιολόγοι συζητούν και προτείνουν: Υφιστάμενη κατάσταση και προοπτικές»\, η οποία θα πραγματοποιηθεί στις 27 Ιανουαρίου 2025\, ημέρα Δευτέρα και ώρα 09:00 στο Αμφιθέατρο του Υπουργείου Υποδομών και Μεταφορών (Αναστάσεως 2 και Τσιγάντε\, Παπάγου\, Αττική). \nΣτην εκδήλωση οι Επιστημονικές Επιτροπές του ΣΕΣ (Αστικής κινητικότητας\, Οδικών\, Σιδηροδρομικών\, Αεροπορικών\, Θαλάσσιων και Εμπορευματικών Μεταφορών) θα παρουσιάσουν τις επικαιροποιημένες Θέσεις του Συλλόγου ανά θεματική ενότητα με σκοπό να ακολουθήσει ένας γόνιμος διάλογος τόσο μεταξύ συγκοινωνιολόγων\, όσο μεταξύ της πολιτείας και άλλων θεσμικών φορέων. \nΕπιπλέον\, στην εκδήλωση θα γίνει ειδική αναφορά σε θέματα που αφορούν στις μετακινήσεις στην Αττική\, παρουσιάζοντας την υφιστάμενη κατάσταση\, αναλύοντας τις μελλοντικές απαιτήσεις και διερευνώντας τις προοπτικές ανάπτυξης και αναβάθμισης του μεταφορικού συστήματος\, προκειμένου να εξυπηρετεί σύγχρονες\, αξιόπιστες και ασφαλείς μετακινήσεις. \nΗ Ημερίδα είναι υπό την αιγίδα του Υπουργείου Υποδομών και Μεταφορών. \nΠερισσότερες πληροφορίες
URL:https://web.tee.gr/event/imerida-syllogoy-ellinon-sygkoinoniologon/
LOCATION:Αμφιθέατρο του Υπουργείου Υποδομών\,Μεταφορών και Δικτύων\, Αναστάσεως 2 και Τσιγάντε\, Παπάγου
CATEGORIES:Άλλοι φορείς
END:VEVENT
BEGIN:VEVENT
DTSTART;TZID=Europe/Athens:20190508T170000
DTEND;TZID=Europe/Athens:20190508T200000
DTSTAMP:20260420T111005
CREATED:20190506T124252Z
LAST-MODIFIED:20190507T124429Z
UID:10002285-1557334800-1557345600@web.tee.gr
SUMMARY:«Μικρο-κινητικότητα στις Ελληνικές Πόλεις: Τάσεις\, Ρυθμιστικό Πλαίσιο και Προοπτικές»  
DESCRIPTION:Ο Σύλλογος Ελλήνων Συγκοινωνιολόγων\, στο πλαίσιο  του Οδοιπορικού  με τίτλο: “Ασφαλείς και Έξυπνες Μετακινήσεις στη Δεκαετία 2020 – 2030”\, διοργανώνει εσπερίδα με θέμα:  «Μικρο-κινητικότητα στις Ελληνικές Πόλεις: Τάσεις\, Ρυθμιστικό Πλαίσιο και Προοπτικές». Η εκδήλωση θα πραγματοποιηθεί την Τετάρτη\, 8 Μαΐου 2019 και ώρα 17:00 στο Αμφιθέατρο του Τεχνικού Επιμελητηρίου Ελλάδος (Νίκης 4\, Αθήνα). H εσπερίδα πραγματοποιείται σε συνεργασία με τον Πανελλήνιο Σύλλογο Εκπαιδευτών Οδήγησης και τη Μονάδα Βιώσιμης Κινητικότητας ΕΜΠ. \n«Σήμερα\, η διεθνής και Ελληνική εμπειρία και η σχετική έρευνα ως προς τα χαρακτηριστικά και τις επιπτώσεις της μικροκινητικότητας τόσο στην οδική ασφάλεια\, όσο και στη λειτουργία του μεταφορικού συστήματος μιας πόλης είναι ακόμα περιορισμένη\, αναφέρεται σε ανακοίνωση. Έτσι\, δεν υπάρχει σαφής εικόνα για τη λειτουργία και ασφαλή κυκλοφορία των μέσων μικροκινητικότητας\, αλλά δυστυχώς ούτε και επίσημοι κανόνες (πχ άρθρα ΚΟΚ)\, οι οποίοι να οριοθετούν τη χρήση των μέσων μικροκινητικότητας. Τα νέα δεδομένα που θέτει η μικροκινητικότητα στις Ελληνικές πόλεις είναι σημαντικό να εξεταστούν και αναλυθούν και τα όποια προβλήματα να αντιμετωπιστούν και επιλυθούν με ορθολογικό και επιστημονικά τεκμηριωμένο τρόπο». \nΠληροφορίες: http://www.ses.gr/index.php/nea-kai-anakoinoseis/events/1072-2019-05-03-07-05-51.html
URL:https://web.tee.gr/event/mikro-kinitikotita-stis-ellinikes-poleis-taseis-rythmistiko-plaisio-kai-prooptikes/
LOCATION:Aίθουσα εκδηλώσεων ΤΕΕ\, Nίκης 4\, Αθήνα\, Ελλάδα
CATEGORIES:Άλλοι φορείς
END:VEVENT
END:VCALENDAR