BEGIN:VCALENDAR
VERSION:2.0
PRODID:-//TEE - ECPv6.15.20//NONSGML v1.0//EN
CALSCALE:GREGORIAN
METHOD:PUBLISH
X-WR-CALNAME:TEE
X-ORIGINAL-URL:https://web.tee.gr
X-WR-CALDESC:Events for TEE
REFRESH-INTERVAL;VALUE=DURATION:PT1H
X-Robots-Tag:noindex
X-PUBLISHED-TTL:PT1H
BEGIN:VTIMEZONE
TZID:Europe/Helsinki
BEGIN:DAYLIGHT
TZOFFSETFROM:+0200
TZOFFSETTO:+0300
TZNAME:EEST
DTSTART:20150329T010000
END:DAYLIGHT
BEGIN:STANDARD
TZOFFSETFROM:+0300
TZOFFSETTO:+0200
TZNAME:EET
DTSTART:20151025T010000
END:STANDARD
BEGIN:DAYLIGHT
TZOFFSETFROM:+0200
TZOFFSETTO:+0300
TZNAME:EEST
DTSTART:20160327T010000
END:DAYLIGHT
BEGIN:STANDARD
TZOFFSETFROM:+0300
TZOFFSETTO:+0200
TZNAME:EET
DTSTART:20161030T010000
END:STANDARD
BEGIN:DAYLIGHT
TZOFFSETFROM:+0200
TZOFFSETTO:+0300
TZNAME:EEST
DTSTART:20170326T010000
END:DAYLIGHT
BEGIN:STANDARD
TZOFFSETFROM:+0300
TZOFFSETTO:+0200
TZNAME:EET
DTSTART:20171029T010000
END:STANDARD
END:VTIMEZONE
BEGIN:VEVENT
DTSTART;TZID=Europe/Helsinki:20160630T093000
DTEND;TZID=Europe/Helsinki:20160630T150000
DTSTAMP:20260419T224751
CREATED:20160523T051310Z
LAST-MODIFIED:20160627T070555Z
UID:10001707-1467279000-1467298800@web.tee.gr
SUMMARY:ΤΕΕ-ημερίδα: «Η εφαρμογή του διαπιστευμένου εργαστηριακού ελέγχου για την υποστήριξη του δημοσίου συμφέροντος»
DESCRIPTION:Το Τεχνικό Επιμελητήριο Ελλάδας και η Ελληνική Ένωση Εργαστηρίων – HELLASLAB διοργανώνουν –στις 30 Ιουνίου 2016- ημερίδα\, με θέμα: «Η εφαρμογή του διαπιστευμένου εργαστηριακού ελέγχου για την υποστήριξη του δημοσίου συμφέροντος». Η εκδήλωση θα πραγματοποιηθεί στην Αθήνα (Αίθουσα Εκδηλώσεων του ΤΕΕ\, 1ος όροφος\, Νίκης 4\, Σύνταγμα). Ώρα έναρξης 9.30 π.μ. \nΠληροφορίες και δηλώσεις συμμετοχής: Τμήμα Τυποποίησης ΤΕΕ (τηλ.: 210-3225094\, 210-3291513\, ηλεκτρονικό ταχυδρομείο: standard@central.tee.gr). \n  \nΠρόγραμμα Ημερίδας
URL:https://web.tee.gr/event/tee-imerida-i-efarmogi-tou-diapistevmenou-ergastiriakou-elegchou-gia-tin-ipostirixi-tou-dimosiou-simferontos/
LOCATION:Aίθουσα εκδηλώσεων ΤΕΕ\, Nίκης 4\, Αθήνα\, Ελλάδα
END:VEVENT
END:VCALENDAR