BEGIN:VCALENDAR
VERSION:2.0
PRODID:-//TEE - ECPv6.15.20//NONSGML v1.0//EN
CALSCALE:GREGORIAN
METHOD:PUBLISH
X-WR-CALNAME:TEE
X-ORIGINAL-URL:https://web.tee.gr
X-WR-CALDESC:Events for TEE
REFRESH-INTERVAL;VALUE=DURATION:PT1H
X-Robots-Tag:noindex
X-PUBLISHED-TTL:PT1H
BEGIN:VTIMEZONE
TZID:Europe/Athens
BEGIN:DAYLIGHT
TZOFFSETFROM:+0200
TZOFFSETTO:+0300
TZNAME:EEST
DTSTART:20250330T010000
END:DAYLIGHT
BEGIN:STANDARD
TZOFFSETFROM:+0300
TZOFFSETTO:+0200
TZNAME:EET
DTSTART:20251026T010000
END:STANDARD
BEGIN:DAYLIGHT
TZOFFSETFROM:+0200
TZOFFSETTO:+0300
TZNAME:EEST
DTSTART:20260329T010000
END:DAYLIGHT
BEGIN:STANDARD
TZOFFSETFROM:+0300
TZOFFSETTO:+0200
TZNAME:EET
DTSTART:20261025T010000
END:STANDARD
BEGIN:DAYLIGHT
TZOFFSETFROM:+0200
TZOFFSETTO:+0300
TZNAME:EEST
DTSTART:20270328T010000
END:DAYLIGHT
BEGIN:STANDARD
TZOFFSETFROM:+0300
TZOFFSETTO:+0200
TZNAME:EET
DTSTART:20271031T010000
END:STANDARD
END:VTIMEZONE
BEGIN:VEVENT
DTSTART;TZID=Europe/Athens:20260429T160000
DTEND;TZID=Europe/Athens:20260429T210000
DTSTAMP:20260424T163244
CREATED:20260424T080932Z
LAST-MODIFIED:20260424T080932Z
UID:10003923-1777478400-1777496400@web.tee.gr
SUMMARY:Ημερίδα ΑΠΘ: Γυναίκες στην Αρχιτεκτονική 1960-2020
DESCRIPTION:Το Τμήμα Αρχιτεκτόνων Μηχανικών της Πολυτεχνικής Σχολής ΑΠΘ διοργανώνει Ημερίδα με τίτλο ΓΥΝΑΙΚΕΣ ΣΤΗΝ ΑΡΧΙΤΕΚΤΟΝΙΚΗ 1960-2020\,  την Τετάρτη 29 Απριλίου 2026 (16:00 – 21:00)\, στο Αμφιθέατρο «Παναγής Παναγιωτόπουλος» (ισόγειο κτηρίου Α΄\, Πολυτεχνική Σχολή ΑΠΘ). \nΗ εκδήλωση «Γυναίκες στην Αρχιτεκτονική 1960-2020» παρουσιάζει για πρώτη φορά στην Ελλάδα τη διεθνή εγκυκλοπαίδεια The Bloomsbury Global Encyclopedia of Women in Architecture 1960-2020\, προσφέροντας μια έγκυρη πηγή αναφοράς για τις γυναίκες αρχιτέκτονες και το έργο τους\, καθώς και για βασικούς όρους που αφορούν το φύλο και τα δικαιώματα των γυναικών στην αρχιτεκτονική\, μέσα σε ένα γεωγραφικό και ιστορικό πλαίσιο\, σημαντικές γυναίκες αρχιτέκτονες\, από πάνω από 135 χώρες\, περιλαμβάνονται σε λεπτομερείς βιογραφικές καταχωρήσεις. \nΤην εγκυκλοπαίδεια θα παρουσιάσουν διαδικτυακά οι επιμελήτριες της έκδοσης\, καθηγήτριες αρχιτεκτονικής\, Lori A. Brown και Karen Burns και δια ζώσης οι επιμελήτριες της ελληνικής συμμετοχής\, Σάσα Λαδά\, καθηγήτρια αρχιτεκτονικής\, και Κατερίνα Χατζηκωνσταντίνου\, ερευνήτρια. \nΗ Ημερίδα εστιάζει στην ελληνική συμμετοχή στην Εγκυκλοπαίδεια\, ξεκινώντας με εισηγητικό κείμενο για τις πρώτες αρχιτεκτόνισσες που φοίτησαν στην Ελλάδα κατά την περίοδο 1920-1960 και συνεχίζει με την παρουσίαση του έργου των δεκαεννέα αρχιτεκτονισσών που περιλαμβάνονται στην ελληνική συμμετοχή και δραστηριοποιήθηκαν στον ελληνικό χώρο κατά το διάστημα 1960-2020. \nΠερισσότερες πληροφορίες εδώ
URL:https://web.tee.gr/event/imerida-apth-gynaikes-stin-architektoniki-1960-2020/
LOCATION:Αμφιθέατρο «Παναγής Παναγιωτόπουλος»
CATEGORIES:Άλλοι φορείς
END:VEVENT
END:VCALENDAR