BEGIN:VCALENDAR
VERSION:2.0
PRODID:-//TEE - ECPv6.15.20//NONSGML v1.0//EN
CALSCALE:GREGORIAN
METHOD:PUBLISH
X-ORIGINAL-URL:https://web.tee.gr
X-WR-CALDESC:Events for TEE
REFRESH-INTERVAL;VALUE=DURATION:PT1H
X-Robots-Tag:noindex
X-PUBLISHED-TTL:PT1H
BEGIN:VTIMEZONE
TZID:Europe/Athens
BEGIN:DAYLIGHT
TZOFFSETFROM:+0200
TZOFFSETTO:+0300
TZNAME:EEST
DTSTART:20130331T010000
END:DAYLIGHT
BEGIN:STANDARD
TZOFFSETFROM:+0300
TZOFFSETTO:+0200
TZNAME:EET
DTSTART:20131027T010000
END:STANDARD
BEGIN:DAYLIGHT
TZOFFSETFROM:+0200
TZOFFSETTO:+0300
TZNAME:EEST
DTSTART:20140330T010000
END:DAYLIGHT
BEGIN:STANDARD
TZOFFSETFROM:+0300
TZOFFSETTO:+0200
TZNAME:EET
DTSTART:20141026T010000
END:STANDARD
BEGIN:DAYLIGHT
TZOFFSETFROM:+0200
TZOFFSETTO:+0300
TZNAME:EEST
DTSTART:20150329T010000
END:DAYLIGHT
BEGIN:STANDARD
TZOFFSETFROM:+0300
TZOFFSETTO:+0200
TZNAME:EET
DTSTART:20151025T010000
END:STANDARD
BEGIN:DAYLIGHT
TZOFFSETFROM:+0200
TZOFFSETTO:+0300
TZNAME:EEST
DTSTART:20160327T010000
END:DAYLIGHT
BEGIN:STANDARD
TZOFFSETFROM:+0300
TZOFFSETTO:+0200
TZNAME:EET
DTSTART:20161030T010000
END:STANDARD
BEGIN:DAYLIGHT
TZOFFSETFROM:+0200
TZOFFSETTO:+0300
TZNAME:EEST
DTSTART:20170326T010000
END:DAYLIGHT
BEGIN:STANDARD
TZOFFSETFROM:+0300
TZOFFSETTO:+0200
TZNAME:EET
DTSTART:20171029T010000
END:STANDARD
BEGIN:DAYLIGHT
TZOFFSETFROM:+0200
TZOFFSETTO:+0300
TZNAME:EEST
DTSTART:20180325T010000
END:DAYLIGHT
BEGIN:STANDARD
TZOFFSETFROM:+0300
TZOFFSETTO:+0200
TZNAME:EET
DTSTART:20181028T010000
END:STANDARD
BEGIN:DAYLIGHT
TZOFFSETFROM:+0200
TZOFFSETTO:+0300
TZNAME:EEST
DTSTART:20190331T010000
END:DAYLIGHT
BEGIN:STANDARD
TZOFFSETFROM:+0300
TZOFFSETTO:+0200
TZNAME:EET
DTSTART:20191027T010000
END:STANDARD
BEGIN:DAYLIGHT
TZOFFSETFROM:+0200
TZOFFSETTO:+0300
TZNAME:EEST
DTSTART:20200329T010000
END:DAYLIGHT
BEGIN:STANDARD
TZOFFSETFROM:+0300
TZOFFSETTO:+0200
TZNAME:EET
DTSTART:20201025T010000
END:STANDARD
BEGIN:DAYLIGHT
TZOFFSETFROM:+0200
TZOFFSETTO:+0300
TZNAME:EEST
DTSTART:20210328T010000
END:DAYLIGHT
BEGIN:STANDARD
TZOFFSETFROM:+0300
TZOFFSETTO:+0200
TZNAME:EET
DTSTART:20211031T010000
END:STANDARD
BEGIN:DAYLIGHT
TZOFFSETFROM:+0200
TZOFFSETTO:+0300
TZNAME:EEST
DTSTART:20220327T010000
END:DAYLIGHT
BEGIN:STANDARD
TZOFFSETFROM:+0300
TZOFFSETTO:+0200
TZNAME:EET
DTSTART:20221030T010000
END:STANDARD
BEGIN:DAYLIGHT
TZOFFSETFROM:+0200
TZOFFSETTO:+0300
TZNAME:EEST
DTSTART:20230326T010000
END:DAYLIGHT
BEGIN:STANDARD
TZOFFSETFROM:+0300
TZOFFSETTO:+0200
TZNAME:EET
DTSTART:20231029T010000
END:STANDARD
BEGIN:DAYLIGHT
TZOFFSETFROM:+0200
TZOFFSETTO:+0300
TZNAME:EEST
DTSTART:20240331T010000
END:DAYLIGHT
BEGIN:STANDARD
TZOFFSETFROM:+0300
TZOFFSETTO:+0200
TZNAME:EET
DTSTART:20241027T010000
END:STANDARD
BEGIN:DAYLIGHT
TZOFFSETFROM:+0200
TZOFFSETTO:+0300
TZNAME:EEST
DTSTART:20250330T010000
END:DAYLIGHT
BEGIN:STANDARD
TZOFFSETFROM:+0300
TZOFFSETTO:+0200
TZNAME:EET
DTSTART:20251026T010000
END:STANDARD
END:VTIMEZONE
BEGIN:VEVENT
DTSTART;TZID=Europe/Athens:20240514T100000
DTEND;TZID=Europe/Athens:20240514T170000
DTSTAMP:20260422T122517
CREATED:20240509T124425Z
LAST-MODIFIED:20240509T124746Z
UID:10003222-1715680800-1715706000@web.tee.gr
SUMMARY:Ημερίδα "Ενεργειακή Αποδοτικότητα στη Βιομηχανία"
DESCRIPTION:Ημερίδα “Ενεργειακή Αποδοτικότητα στη Βιομηχανία”\, διοργανώνεται από το Επιμελητήριο Κορινθίας σε συνεργασία με το Εθνικό Μετσόβιο Πολυτεχνείο και το Κέντρο Ανανεώσιμων Πηγών Ενέργειας\, την Τρίτη 14 Μαΐου 2024 και ώρα: 10:00 – 17:00 στο ΕΒΕΑ\, Ακαδημίας 7\, Τ.Κ. 10671\, Αθήνα – 6ος όροφος (αίθουσα Ερμής). \nΗ εκδήλωση αποτελεί μια πολύτιμη ευκαιρία ενημέρωσης για τις πρωτοποριακές πρακτικές και τις τεχνολογικές καινοτομίες που αφορούν τη βελτίωση της ενεργειακής απόδοσης στον βιομηχανικό τομέα. \nΔήλωση Συμμετοχής https://ec.europa.eu/eusurvey/runner/event_14052024 \nΠρόγραμμα ημερίδας: https://www.korinthiacc.gr/wp-content/uploads/2024/04/EVENT_3_LIFE_PROJECTS_EBEA_14_MAY_2024_Agenda_v0.15.pdf
URL:https://web.tee.gr/event/80917/
LOCATION:Αίθουσα Ερμής\, 6ος όροφος- ΕΒΕΑ\, Ακαδημίας 7\, ΑΘΗΝΑ\, Ελλάδα
CATEGORIES:Άλλοι φορείς
END:VEVENT
BEGIN:VEVENT
DTSTART;VALUE=DATE:20140225
DTEND;VALUE=DATE:20140226
DTSTAMP:20260422T122517
CREATED:20140211T060914Z
LAST-MODIFIED:20140211T060914Z
UID:10000002-1393286400-1393372799@web.tee.gr
SUMMARY:Συμπόσιο ΚΑΠΕ: "Αειφόρες κοινότητες στη ΝΑ Ευρώπη"
DESCRIPTION:Το Κέντρο Ανανεώσιμων Πηγών Ενέργειας (ΚΑΠΕ)\, διοργανώνει στις 25 Φεβρουαρίου 2014 στο ξενοδοχείο Athens Plaza\, συμπόσιο με θέμα «Αειφόρες κοινότητες στη ΝΑ Ευρώπη»\, στο πλαίσιο του έργου RΕ-SEEties\, που στοχεύει στην υποστήριξη των δήμων στη διαμόρφωση της πολιτικής και το στρατηγικό σχεδιασμό στους τομείς της εξοικονόμησης\, των ΑΠΕ και της αξιοποίησης των απορριμμάτων\,  \nΤο έργο\, στο οποίο συμμετέχουν δήμοι και ενεργειακά κέντρα από 8 χώρες της ΝΑΕ\, επεξεργάζεται δύο βασικά θέματα: την ενέργεια και τα απορρίμματα με ένα ολοκληρωμένο τρόπο. Υπογραμμίζει τις προκλήσεις της ενεργειακής κατανάλωσης και της παραγωγής απορριμμάτων\, τις αλληλεπιδράσεις τους και τις ευκαιρίες που προκύπτουν από αυτές. \nΤο έργο εστιάζει στην πλευρά της ζήτησης και διερευνά τους τρόπους με τους οποίους θα αλλάξουν τα καταναλωτικά πρότυπα και πως μέτρα πολιτικής μπορούν να υποστηρίξουν αλλαγές στη ζήτηση\, με πιλότους τις πόλεις που εφαρμόζουν καινοτόμες λύσεις\, εργαλεία και κίνητρα. \nΟι συμμετέχουσες στο έργο πόλεις είναι υπεύθυνες για το σχεδιασμό και την υλοποίηση στρατηγικών\, έχοντας ήδη τις βασικές ικανότητες σε θέματα πολιτικής και λήψης αποφάσεων. Σε αυτή τη διαδικασία υποστηρίζονται από μια ομάδα επιστημόνων με εξειδίκευση και εμπειρία σε τεχνικά θέματα αλλά και δύναμη σε θέματα διάδοσης στους τομείς των ΑΠΕ και της ΕΕ. \nΤο έργο RΕ-SEEties βρίσκεται στη μέση της διαδρομής του και είναι έτοιμο να ενσωματώσει τα μέχρι τώρα αποτελέσματα του στην τοπική\, εθνική αλλά και Ευρωπαϊκή πολιτική. \nΗ αποδοτική χρήση των πόρων είναι βασική προτεραιότητα στη στρατηγική της Ευρώπης για το 2020 και στην ατζέντα της περιοχής της Νοτιοανατολικής Ευρώπης. Η προοπτική υπερβολικής κατανάλωσης ενέργειας\, αλόγιστης παραγωγής απορριμμάτων όπως επίσης και έλλειψης μέτρων συντονισμού και ευαισθητοποίησης σχετικά με την αποδοτικότερη χρήση των πόρων\, συμβάλλουν σε αυτήν την κατεύθυνση. Οι πόλεις έχουν σημαντικό ρόλο να διαδραματίσουν σε αυτόν τον τομέα. Οι περιφέρειες της Ευρώπης και της ΝΑ περιοχής της\, θα μπορέσουν να αντιμετωπίσουν τις προκλήσεις στην ενέργεια μόνο με συνδυασμένες διακρατικές δράσεις.
URL:https://web.tee.gr/event/%cf%83%cf%85%ce%bc%cf%80%cf%8c%cf%83%ce%b9%ce%bf-%ce%ba%ce%b1%cf%80%ce%b5-%ce%b1%ce%b5%ce%b9%cf%86%cf%8c%cf%81%ce%b5%cf%82-%ce%ba%ce%bf%ce%b9%ce%bd%cf%8c%cf%84%ce%b7%cf%84%ce%b5%cf%82-%cf%83%cf%84/
LOCATION:Ξενοδοχείο Athens Plaza
END:VEVENT
END:VCALENDAR