BEGIN:VCALENDAR
VERSION:2.0
PRODID:-//TEE - ECPv6.15.20//NONSGML v1.0//EN
CALSCALE:GREGORIAN
METHOD:PUBLISH
X-ORIGINAL-URL:https://web.tee.gr
X-WR-CALDESC:Events for TEE
REFRESH-INTERVAL;VALUE=DURATION:PT1H
X-Robots-Tag:noindex
X-PUBLISHED-TTL:PT1H
BEGIN:VTIMEZONE
TZID:Europe/Athens
BEGIN:DAYLIGHT
TZOFFSETFROM:+0200
TZOFFSETTO:+0300
TZNAME:EEST
DTSTART:20120325T010000
END:DAYLIGHT
BEGIN:STANDARD
TZOFFSETFROM:+0300
TZOFFSETTO:+0200
TZNAME:EET
DTSTART:20121028T010000
END:STANDARD
BEGIN:DAYLIGHT
TZOFFSETFROM:+0200
TZOFFSETTO:+0300
TZNAME:EEST
DTSTART:20130331T010000
END:DAYLIGHT
BEGIN:STANDARD
TZOFFSETFROM:+0300
TZOFFSETTO:+0200
TZNAME:EET
DTSTART:20131027T010000
END:STANDARD
BEGIN:DAYLIGHT
TZOFFSETFROM:+0200
TZOFFSETTO:+0300
TZNAME:EEST
DTSTART:20140330T010000
END:DAYLIGHT
BEGIN:STANDARD
TZOFFSETFROM:+0300
TZOFFSETTO:+0200
TZNAME:EET
DTSTART:20141026T010000
END:STANDARD
END:VTIMEZONE
BEGIN:VEVENT
DTSTART;TZID=Europe/Athens:20131101T170000
DTEND;TZID=Europe/Athens:20131101T200000
DTSTAMP:20260419T193058
CREATED:20131025T050323Z
LAST-MODIFIED:20131025T050323Z
UID:10000018-1383325200-1383336000@web.tee.gr
SUMMARY:Εσπερίδα στα Ιωάννινα για τις δεξιότητες των εργατοτεχνιτών κτιριακού τομέα
DESCRIPTION:  Οι συνεργάτες της πρωτοβουλίας Build Up Skills για την Ελλάδα\, διοργανώνουν εσπερίδα ενημέρωσης για την «Ενίσχυση των δεξιοτήτων των εργατοτεχνιτών του κτιριακού τομέα σε θέματα Ενεργειακής Αποδοτικότητας και Ανανεώσιμων Πηγών Ενέργειας» την Παρασκευή 1 Νοεμβρίου 2013 και ώρα 17.00\, στην Αίθουσα Εκδηλώσεων του Περιφερειακού Τμήματος Ηπείρου του ΤΕΕ (Αραβαντινού 6-8\, Ιωάννινα). \nΘεματολογία \nΗ ΠΡΩΤΟΒΟΥΛΙΑ BUILD UP SKILLS ΓΙΑ ΤΗΝ ΕΛΛΑΔΑ \n–          Στόχοι-Αποτελέσματα \n–          Εθνικοί Στόχοι 20-20-20\, Ανάλυση υφιστάμενης κατάστασης \n–          Εθνική Πλατφόρμα Επαγγελματικών Προσόντων \nΟ ΕΘΝΙΚΟΣ ΟΔΙΚΟΣ ΧΑΡΤΗΣ ΠΡΟΣΟΝΤΩΝ \n–          Στόχοι-Μεθοδολογία Ανάπτυξης \n–          Μέτρα – Προτεραιότητες – Πλάνο Δράσης \nΔρ. Χάρης Δούκας\, Εργαστήριο Συστημάτων Αποφάσεων και Διοίκησης\, ΕΜΠ \nΣΤΡΟΓΓΥΛΟ ΤΡΑΠΕΖΙ -ΤΟΠΟΘΕΤΗΣΕΙΣ -ΣΥΖΗΤΗΣΗ \nΣυντονιστής: Δρ Χάρης Δούκας \nΣυμμετέχοντες: \nΕκπρόσωπος ΤΕΕ/Τμήματος Ηπείρου \nΣπυρίδωνος Δημήτριος\, Προϊστ. Τμήματος Δια Βίου Μάθησης\, Παιδείας και Απασχόλησης\, Δ/νση Ανάπτυξης ΠΕ Ιωαννίνων\, Περιφέρεια Ηπείρου \nΝικόλαος Κατερτσίδης\, Εκπρόσωπος Τεχνολογικού Πάρκου Ηπείρου \nΑναστάσιος Γκάρτζιος\, ΓΓ Εργατικού Κέντρου Ιωαννίνων \nΓεώργιος Βακάλης\, Πρόεδρος Συνδέσμου Εργολάβων Ηλεκτρικών Έργων Ηπείρου \nΣΥΜΠΕΡΑΣΜΑΤΑ – ΛΗΞΗ ΗΜΕΡΙΔΑΣ \nΠΛΗΡΟΦΟΡΙΕΣ: κα Νούση Χαρούλα \, 26510 31323\, tee_ioan@tee.gr \nh t t p : / / g r e e c e . b u i l d u p s k i l l s .eu
URL:https://web.tee.gr/event/esperida-ivannina/
LOCATION:ΙΩΑΝΝΙΝΑ
END:VEVENT
END:VCALENDAR