BEGIN:VCALENDAR
VERSION:2.0
PRODID:-//TEE - ECPv6.15.20//NONSGML v1.0//EN
CALSCALE:GREGORIAN
METHOD:PUBLISH
X-ORIGINAL-URL:https://web.tee.gr
X-WR-CALDESC:Events for TEE
REFRESH-INTERVAL;VALUE=DURATION:PT1H
X-Robots-Tag:noindex
X-PUBLISHED-TTL:PT1H
BEGIN:VTIMEZONE
TZID:Europe/Helsinki
BEGIN:DAYLIGHT
TZOFFSETFROM:+0200
TZOFFSETTO:+0300
TZNAME:EEST
DTSTART:20150329T010000
END:DAYLIGHT
BEGIN:STANDARD
TZOFFSETFROM:+0300
TZOFFSETTO:+0200
TZNAME:EET
DTSTART:20151025T010000
END:STANDARD
BEGIN:DAYLIGHT
TZOFFSETFROM:+0200
TZOFFSETTO:+0300
TZNAME:EEST
DTSTART:20160327T010000
END:DAYLIGHT
BEGIN:STANDARD
TZOFFSETFROM:+0300
TZOFFSETTO:+0200
TZNAME:EET
DTSTART:20161030T010000
END:STANDARD
BEGIN:DAYLIGHT
TZOFFSETFROM:+0200
TZOFFSETTO:+0300
TZNAME:EEST
DTSTART:20170326T010000
END:DAYLIGHT
BEGIN:STANDARD
TZOFFSETFROM:+0300
TZOFFSETTO:+0200
TZNAME:EET
DTSTART:20171029T010000
END:STANDARD
END:VTIMEZONE
BEGIN:VEVENT
DTSTART;VALUE=DATE:20160728
DTEND;VALUE=DATE:20160731
DTSTAMP:20260419T224910
CREATED:20160722T051251Z
LAST-MODIFIED:20160722T051331Z
UID:10000210-1469664000-1469923199@web.tee.gr
SUMMARY:Ημερίδες για τις περιοχές Natura
DESCRIPTION:Ημερίδες στην πόλη του Ρεθύμνου στις 28 Ιουλίου 2016 και στο νησί της Γαύδου στις 30 Ιουλίου 2016 πραγματοποιεί το Πανεπιστήμιο Κρήτης\, σε συνεργασία με το Μουσείο Φυσικής Ιστορίας Κρήτης. \nΟι ημερίδες διοργανώνονται στο πλαίσιο του έργου LIFE Natura2000 Value Crete με τίτλο: “Περιοχές NATURA 2000: Ευκαιρία ή εμπόδιο για την ανάπτυξη;” και είναι ανοιχτές στο κοινό. \n• Η ημερίδα στο Ρέθυμνο θα πραγματοποιηθεί στο Σπίτι του Πολιτισμού\, στις 18:00. Η εκδήλωση περιλαμβάνει ομιλίες σχετικές με τις προστατευόμενες περιοχές NATURA 2000 σε εθνικό επίπεδο και συγκεκριμένα στην Κρήτη\, τα κοινωνικο-οικονομικά οφέλη που προσφέρει η φύση και η άγρια ζωή\, όπως επίσης και παρουσίαση διάφορων παραδοσιακών πρακτικών «εκμετάλλευσης» των συγκεκριμένων περιοχών\, π.χ. γεωργία\, κυνήγι και τουρισμός\, με στόχο τη διατήρηση της βιοποικιλότητας και του φυσικού περιβάλλοντος. \nΚατά τη διάρκεια των εργασιών θα γίνουν οι ομιλίες:\n– «Δίκτυο Προστατευόμενων Περιοχών NATURA 2000 στην Ευρωπαϊκή Ένωση\, την Ελλάδα και την Κρήτη»\n-«Κοινωνικο-οικονομικά οφέλη από το Φυσικό Περιβάλλον»\n-«Οικοτουρισμός στην περιοχές Natura 2000: ευκαιρίες\, δυνατότητες και προϋποθέσεις»\n-«Οικοσυστημικές Υπηρεσίες της Άγριας Ζωής» \nΘα ακολουθήσουν ερωτήσεις και ανοικτή συζήτηση. \n• Η ημερίδα στο Δήμο Γαύδου (Θέατρο Δ/ νσης Δασών Χανίων) στο Σαρακήνικο στις 20.00\, θα περιλαμβάνει τις ομιλίες:\n– «Δίκτυο Προστατευόμενων Περιοχών NATURA 2000 στην Ευρωπαϊκή Ένωση\, την Ελλάδα και την Κρήτη»\n– «Κοινωνικο-οικονομικά οφέλη από το Φυσικό Περιβάλλον»\n– «Προστασία και αναβάθμιση των τοπικών φυσικών πόρων\, βιολογική γεωργία και κτηνοτροφία»\n– «Οικοτουρισμός στην περιοχές Natura 2000: ευκαιρίες\, δυνατότητες και προϋποθέσεις»\n– «Οικοσυστημικές Υπηρεσίες της Άγριας Ζωής» Θα ακολουθήσουν ερωτήσεις και ανοικτή συζήτηση.
URL:https://web.tee.gr/event/imerides-perioxes-natura/
LOCATION:Ρέθυμνο\, Γαύδο - ΚΡΗΤΗ
CATEGORIES:Άλλοι φορείς
END:VEVENT
END:VCALENDAR