BEGIN:VCALENDAR
VERSION:2.0
PRODID:-//TEE - ECPv6.15.20//NONSGML v1.0//EN
CALSCALE:GREGORIAN
METHOD:PUBLISH
X-ORIGINAL-URL:https://web.tee.gr
X-WR-CALDESC:Events for TEE
REFRESH-INTERVAL;VALUE=DURATION:PT1H
X-Robots-Tag:noindex
X-PUBLISHED-TTL:PT1H
BEGIN:VTIMEZONE
TZID:Europe/Athens
BEGIN:DAYLIGHT
TZOFFSETFROM:+0200
TZOFFSETTO:+0300
TZNAME:EEST
DTSTART:20250330T010000
END:DAYLIGHT
BEGIN:STANDARD
TZOFFSETFROM:+0300
TZOFFSETTO:+0200
TZNAME:EET
DTSTART:20251026T010000
END:STANDARD
BEGIN:DAYLIGHT
TZOFFSETFROM:+0200
TZOFFSETTO:+0300
TZNAME:EEST
DTSTART:20260329T010000
END:DAYLIGHT
BEGIN:STANDARD
TZOFFSETFROM:+0300
TZOFFSETTO:+0200
TZNAME:EET
DTSTART:20261025T010000
END:STANDARD
BEGIN:DAYLIGHT
TZOFFSETFROM:+0200
TZOFFSETTO:+0300
TZNAME:EEST
DTSTART:20270328T010000
END:DAYLIGHT
BEGIN:STANDARD
TZOFFSETFROM:+0300
TZOFFSETTO:+0200
TZNAME:EET
DTSTART:20271031T010000
END:STANDARD
END:VTIMEZONE
BEGIN:VEVENT
DTSTART;TZID=Europe/Athens:20260425T190000
DTEND;TZID=Europe/Athens:20260425T210000
DTSTAMP:20260424T182447
CREATED:20260422T105905Z
LAST-MODIFIED:20260422T105905Z
UID:10003919-1777143600-1777150800@web.tee.gr
SUMMARY:Εκδήλωση ΠΟΜΙΔΑ
DESCRIPTION:Εν όψει των συνεχών εξελίξεων στη νομοθεσία που διέπει την ιδιωτική ακίνητη περιουσία\, ο Εμπορικός Σύλλογος Μυτιλήνης\, ο Σύλλογος Ιδιοκτητών Ακινήτων Λέσβου\, μέλος της ΠΟΜΙΔΑ\, το Περιφερειακό Τμήμα Βορειοανατολικού Αιγαίου του ΤΕΕ\, ο Δικηγορικός Σύλλογος Μυτιλήνης\, ο Σύλλογος Μεσιτών Λέσβου και το βιβλιοπωλείο BOOK & ART Μυτιλήνης\, συνδιοργανώνουν ενημερωτική εκδήλωση στην Αίθουσα Εκδηλώσεων της Γενικής Γραμματείας Νησιωτικής Πολιτικής\, οδός Μικράς Ασίας 2\, έναντι Δικαστικού Μεγάρου Μυτιλήνης\, το Σάββατο 25/4/2026  και ώρα  19.00. \nΣτην ίδια εκδήλωση θα παρουσιαστεί και το νέο βιβλίο των Στρ. Παραδιά και Ηλία Παπαγεωργιάδη με τίτλο «ΑΓΟΡΑΖΩ ΣΠΙΤΙ».
URL:https://web.tee.gr/event/ekdilosi-pomida/
LOCATION:Αίθουσα Εκδηλώσεων Γενικής Γραμματείας Νησιωτικής Πολιτικής\, Μικράς Ασίας 2\, Μυτιλήνη\, Greece
END:VEVENT
END:VCALENDAR