BEGIN:VCALENDAR
VERSION:2.0
PRODID:-//TEE - ECPv6.15.20//NONSGML v1.0//EN
CALSCALE:GREGORIAN
METHOD:PUBLISH
X-ORIGINAL-URL:https://web.tee.gr
X-WR-CALDESC:Events for TEE
REFRESH-INTERVAL;VALUE=DURATION:PT1H
X-Robots-Tag:noindex
X-PUBLISHED-TTL:PT1H
BEGIN:VTIMEZONE
TZID:Europe/Athens
BEGIN:DAYLIGHT
TZOFFSETFROM:+0200
TZOFFSETTO:+0300
TZNAME:EEST
DTSTART:20210328T010000
END:DAYLIGHT
BEGIN:STANDARD
TZOFFSETFROM:+0300
TZOFFSETTO:+0200
TZNAME:EET
DTSTART:20211031T010000
END:STANDARD
BEGIN:DAYLIGHT
TZOFFSETFROM:+0200
TZOFFSETTO:+0300
TZNAME:EEST
DTSTART:20220327T010000
END:DAYLIGHT
BEGIN:STANDARD
TZOFFSETFROM:+0300
TZOFFSETTO:+0200
TZNAME:EET
DTSTART:20221030T010000
END:STANDARD
BEGIN:DAYLIGHT
TZOFFSETFROM:+0200
TZOFFSETTO:+0300
TZNAME:EEST
DTSTART:20230326T010000
END:DAYLIGHT
BEGIN:STANDARD
TZOFFSETFROM:+0300
TZOFFSETTO:+0200
TZNAME:EET
DTSTART:20231029T010000
END:STANDARD
BEGIN:DAYLIGHT
TZOFFSETFROM:+0200
TZOFFSETTO:+0300
TZNAME:EEST
DTSTART:20240331T010000
END:DAYLIGHT
BEGIN:STANDARD
TZOFFSETFROM:+0300
TZOFFSETTO:+0200
TZNAME:EET
DTSTART:20241027T010000
END:STANDARD
BEGIN:DAYLIGHT
TZOFFSETFROM:+0200
TZOFFSETTO:+0300
TZNAME:EEST
DTSTART:20250330T010000
END:DAYLIGHT
BEGIN:STANDARD
TZOFFSETFROM:+0300
TZOFFSETTO:+0200
TZNAME:EET
DTSTART:20251026T010000
END:STANDARD
END:VTIMEZONE
BEGIN:VTIMEZONE
TZID:Europe/Helsinki
BEGIN:DAYLIGHT
TZOFFSETFROM:+0200
TZOFFSETTO:+0300
TZNAME:EEST
DTSTART:20160327T010000
END:DAYLIGHT
BEGIN:STANDARD
TZOFFSETFROM:+0300
TZOFFSETTO:+0200
TZNAME:EET
DTSTART:20161030T010000
END:STANDARD
BEGIN:DAYLIGHT
TZOFFSETFROM:+0200
TZOFFSETTO:+0300
TZNAME:EEST
DTSTART:20170326T010000
END:DAYLIGHT
BEGIN:STANDARD
TZOFFSETFROM:+0300
TZOFFSETTO:+0200
TZNAME:EET
DTSTART:20171029T010000
END:STANDARD
BEGIN:DAYLIGHT
TZOFFSETFROM:+0200
TZOFFSETTO:+0300
TZNAME:EEST
DTSTART:20180325T010000
END:DAYLIGHT
BEGIN:STANDARD
TZOFFSETFROM:+0300
TZOFFSETTO:+0200
TZNAME:EET
DTSTART:20181028T010000
END:STANDARD
BEGIN:DAYLIGHT
TZOFFSETFROM:+0200
TZOFFSETTO:+0300
TZNAME:EEST
DTSTART:20190331T010000
END:DAYLIGHT
BEGIN:STANDARD
TZOFFSETFROM:+0300
TZOFFSETTO:+0200
TZNAME:EET
DTSTART:20191027T010000
END:STANDARD
END:VTIMEZONE
BEGIN:VEVENT
DTSTART;TZID=Europe/Athens:20241106T080000
DTEND;TZID=Europe/Athens:20241106T170000
DTSTAMP:20260421T024412
CREATED:20241030T123848Z
LAST-MODIFIED:20241030T123848Z
UID:10003388-1730880000-1730912400@web.tee.gr
SUMMARY:EBI Conference για τον κλάδο των υποδομών
DESCRIPTION:Ο ΣΕΓΜ και η εταιρία BOUSSIAS συνδιοργανώνουν το EBI Conference\, στις 6 Νοεμβρίου 2024\, στο Αμφιθέατρο της OTEΑcademy!\nΗ μετάβαση του κλάδου των υποδομών και κατασκευών στη νέα εποχή ενέχει τόσο προκλήσεις όσο και ευκαιρίες. Η αξιοποίηση των προηγμένων τεχνολογιών αποτελεί κλειδί για το μετασχηματισμό του κλάδου. Η αλλαγή απαιτεί την υπέρβαση των παραδοσιακών μεθόδων και τρόπου σκέψης και επένδυση. Η νέα εποχή δίνει τη δυνατότητα να παραχθούν πιο λειτουργικά και φιλικά προς το περιβάλλον assets\, και η αποτελεσματική διαχείριση του περίπλοκου κανονιστικού πλαισίου αλλά και του κόστους σε κάθε στάδιο είναι ο παράγοντας κλειδί για την επιτυχία.\n\n \nΒασικά θέματα:\nΜηχανική γεφυρών\nΟδική και σιδηροδρομική μηχανική\nΒιώσιμη υποδομή\nΕκτίμηση κινδύνων (σεισμοί\, πλημμύρες\, πυρκαγιές\, τρομοκρατία)\nΈξυπνες γέφυρες (αναβάθμιση)\nΝέες κατασκευαστικές μέθοδοι στην πολιτική και δομική μηχανική\nΠροηγμένα δομικά υλικά\nΠράσινα/έξυπνα δομικά υλικά\nΤεχνολογία σκυροδέματος\nΕπισκευή και ενίσχυση/ενδυνάμωση\nΕπαναχρησιμοποίηση κτιρίων και υποδομών \nΠερισσότερα https://segm.gr/
URL:https://web.tee.gr/event/ebi-conference-gia-ton-klado-ton-ypodomon/
LOCATION:Αμφιθέατρο OTEAcademy
CATEGORIES:Άλλοι φορείς
END:VEVENT
BEGIN:VEVENT
DTSTART;TZID=Europe/Athens:20240919T080000
DTEND;TZID=Europe/Athens:20240919T170000
DTSTAMP:20260421T024412
CREATED:20240909T105803Z
LAST-MODIFIED:20240909T105803Z
UID:10003328-1726732800-1726765200@web.tee.gr
SUMMARY:Data & AI Conference
DESCRIPTION:Την Πέμπτη 19 Σεπτεμβρίου 2024\, στο Αμφιθέατρο OTEAcademy\, θα διεξαχθεί το συνέδριο Data & AI: From Data to Value. Το συνέδριο έχει ως στόχο να φέρει στο προσκήνιο την ανάγκη συνεργασίας του ανθρώπινου παράγοντα με την τεχνητή νοημοσύνη\, παρουσιάζοντας πληθώρα case studies βέλτιστης εφαρμογής του ΑΙ και αξιοποίησης των επιχειρηματικών δεδομένων\, εστιάζοντας σε αποτελεσματικές στρατηγικές μετατροπής των δεδομένων σε αξία που μπορούν να διαμορφώσουν ένα καλύτερο μέλλον για όλους μας. \nΓια τη μετάβαση στην εποχή του ΑΙ καίριο ρόλο διαδραματίζουν τα δεδομένα και η αξιοποίησή τους\, με την επίδραση τους να είναι πολυδιάστατη\, από την αξιοποίηση (και στοχευμένη καθοδήγηση) της τεχνητής νοημοσύνης και των αλγορίθμων της\, την απλοποίηση και βελτιστοποίηση των επιχειρηματικών λειτουργιών και διαδικασιών και τη βελτίωση των σχέσεων με τους πελάτες και τους συνεργάτες\, έως τη λήψη καλύτερων και ταχύτερων αποφάσεων\, την επίτευξη των επιχειρηματικών στόχων\, την αντιμετώπιση καθημερινών προβλημάτων και τη διαχείριση καίριων ζητημάτων για την ανάπτυξη και βιωσιμότητα κάθε οργανισμού. \nΘεματολογία \n\nAdding Value When Putting Data Technologies Together •Big Data Visualization •Data Product Development in the Age of AI •Data storytelling •Data Mesh: Deriving Value from Distributed/Decentralized Data •Data ROI:Is It Possible? •Defending the Data Attack Surface •Exploring the Data and Analytics Ecosystem •From Big to Smart Data •Generate more value by connecting data\, people\, and workflows •Get to know your unknown data •Pitfalls of Data Governance •Transform data into opportunities •Think Smarter\, Act Faster:Making better decisions with data •The Impact of Generative AI as a Game-Changer •The Data-Centric CIO\n\nΠληροφορίες: https://dataconference.boussiasevents.gr/
URL:https://web.tee.gr/event/data-amp-ai-conference/
LOCATION:Αμφιθέατρο OTEAcademy
CATEGORIES:Άλλοι φορείς
END:VEVENT
BEGIN:VEVENT
DTSTART;TZID=Europe/Athens:20230628T080000
DTEND;TZID=Europe/Athens:20230628T170000
DTSTAMP:20260421T024412
CREATED:20230616T083312Z
LAST-MODIFIED:20230616T093549Z
UID:10001450-1687939200-1687971600@web.tee.gr
SUMMARY:Occupational Safety in Construction Conference
DESCRIPTION:Το Occupational Safety in Construction Conference με τίτλο «Rebuilding Safety»έρχεται την Τετάρτη 28 Ιουνίου\, στο Αμφιθέατρο OTEAcademy\, με στόχο να αναδείξει νέες πρακτικές\, καινοτόμα εργαλεία και διαδικασίες\, που συμβάλουν στη δημιουργία ασφαλών συνθηκών εργασίας στα κατασκευαστικά έργα\, αναγνωρίζοντας την επικινδυνότητα των κατασκευαστικών εργασιών. Το συνέδριο διοργανώνει η BOUSSIAS με την επιστημονική υποστήριξη της ΣΑΜΑΡΑΣ & ΣΥΝΕΡΓΑΤΕΣ ΕΠΕ και με υπό την Αιγίδα του ΣΑΤΕ. \nΑπό τα ζητήματα που απασχολούν καθημερινά τους ανθρώπους του χώρου των κατασκευών\, τους επαγγελματίες της ασφάλειας και θα συζητηθούν στο συνέδριο είναι  η στρατηγική και οι στόχοι της Ευρωπαϊκής Επιτροπής για τα θέματα ασφάλειας στους χώρους εργασίας και το πλαίσιο της Ευρωπαϊκής Νομοθεσίας\, ο εκσυγχρονισμός της Ελληνικής νομοθεσίας για τα τεχνικά επαγγέλματα και τις άδειες χειριστών\, ώστε να ανταποκρίνεται στις σύγχρονες ανάγκες των κατασκευαστικών έργων και να συμβάλλει ουσιαστικά στη βελτίωση των συνθηκών ασφάλειας\, η αντιμετώπιση της  Πολιτείας  για το τεράστιο πρόβλημα με την έλλειψη εξειδικευμένου προσωπικού στα κατασκευαστικά έργα\, γεγονός που επηρεάζει καθοριστικά την πορεία των έργων αλλά και τη συχνότητα των εργατικών ατυχημάτων\, η πραγματική εικόνα για τον αριθμό και τις αιτίες των εργατικών ατυχημάτων στον χώρο των κατασκευών\, οι πολιτικές και διαδικασίες που σκοπεύουν να εφαρμόσουν οι μεγάλες κατασκευαστικές εταιρίες\, το safety management η εφαρμογή του ΒΙΜ\, οι μεγάλες προκλήσεις για την ασφάλεια σε σύνθετα κατασκευαστικά έργα με ιδιαίτερες απαιτήσεις\, όπως το Riviera Tower\, οι εγκαταστάσεις FSRU και οι μεγάλες μονάδες παραγωγής ενέργειας\, η  ευρωπαϊκή εμπειρία και οι καλές πρακτικές των προηγμένων χωρών \nΑνάμεσα στους ομιλητές θα είναι και οι: \n\nStefan OLSSON\, Deputy Director-General – Jobs\, Skills and Social Policies (EMPL.DDG1) – EU Commission Directorate-General for Employment\, Social Affairs and Inclusion – DG EMPL & Member of the Executive Committee at EU – OSHA. \nTimothy Tregenza\, Network manager at European Agency for Safety and Health at Work – EU OSHA\n\nΟι οποίοι θα μεταφέρουν το ευρωπαϊκό νομοθετικό πλαίσιο και τις σχετικές ρυθμίσεις\, καθώς και τη διεθνή εμπειρία και πρακτικές. \nΠρόγραμμα συνεδρίου: https://www.safetyinconstruction.gr/agenda/ \nΣυμμετοχές:  https://www.eventora.com/en/Events/safetyinconstruction-2023 . \nΓια περισσότερες πληροφορίες:  κα Δήμητρα Γαστεράτου\, Κ: 6986529605\, E: dgasteratou@boussias.com \n 
URL:https://web.tee.gr/event/occupational-safety-in-construction-conference/
LOCATION:Αμφιθέατρο OTEAcademy
CATEGORIES:Άλλοι φορείς
END:VEVENT
BEGIN:VEVENT
DTSTART;VALUE=DATE:20230404
DTEND;VALUE=DATE:20230405
DTSTAMP:20260421T024412
CREATED:20230309T122943Z
LAST-MODIFIED:20230309T122943Z
UID:10002908-1680566400-1680652799@web.tee.gr
SUMMARY:Συνέδριο Energy Efficiency in Buildings 2023
DESCRIPTION:Στην Αθήνα στις 4 Απριλίου\, στην OTEAcademy\, θα πραγματοποιηθεί το συνέδριο Energy Efficiency in Buildings 2023 από την BOUSSIAS EVENTS και τελεί υπό την αιγίδα του Υπουργείου Ανάπτυξης και Επενδύσεων\, του Υπουργείου Περιβάλλοντος και Ενέργειας\, του Υπουργείου Ψηφιακής Διακυβέρνησης και του Τεχνικού Επιμελητηρίου Ελλάδας. \nΑπό τον Σχεδιασμό Κτιρίων ως την Υλοποίηση\, τις Λειτουργίες και την Συντήρησή τους\, η Βελτίωση της Ενεργειακής Απόδοσης είναι η λύση στις συνεχόμενες κρίσεις και στην διαβίωση στα κτίρια του μέλλοντος. Σε αυτό το πλαίσιο\, στο Energy Efficiency in Buildings Conference 2023 θα δοθούν απαντήσεις σε καίρια ζητήματα \nΤο συνέδριο θα εκτυλιχθεί σε 3 θεματικές ενότητες με πάνελ συζήτησης και case studies. \nΑ) Ποιες είναι οι προϋποθέσεις για την ανάπτυξη Αειφόρων και «Έξυπνων» Κτιρίων στην Ελλάδα. Εμπειρίες και τάσεις από το εξωτερικό \nΒ) Καλές πρακτικές βελτιστοποίησης της ενεργειακής απόδοσης σε κτιριακές εγκαταστάσεις και υποδομές: χρηματοδοτικά εργαλεία\, καινοτόμος «Πράσινη» Χρηματοδότηση\, επενδυτικά σχήματα\, πιστοποιήσεις ενεργειακές και περιβαλλοντικές\, Σχεδιασμός\, Δομικά Υλικά\, κρατικά προγράμματα για την αναβάθμιση κτιρίων. \nΓ) Case studies κτιριακής αναβάθμισης ως μοχλός ανάπτυξης της αγοράς \nΠληροφορίες: https://www.energyefficiencyinbuildings.gr/
URL:https://web.tee.gr/event/synedrio-energy-efficiency-in-buildings-2023/
LOCATION:Αμφιθέατρο OTEAcademy
END:VEVENT
BEGIN:VEVENT
DTSTART;VALUE=DATE:20221213
DTEND;VALUE=DATE:20221214
DTSTAMP:20260421T024412
CREATED:20221114T122116Z
LAST-MODIFIED:20221114T124439Z
UID:10001312-1670889600-1670975999@web.tee.gr
SUMMARY:1ο Building Materials Forum
DESCRIPTION:Το 1ο Building Materials Forum της Ελληνικής αγοράς δομικών υλικών συνδιοργανώνουν η BOUSSIAS και το ΤΕΕ\, την Τρίτη 13 Δεκεμβρίου στο Αμφιθέατρο OTEAcademy. \n`Η Ομότιμη Καθηγήτρια ΕΜΠ και Μέλος Διοικούσας Επιτροπής ΤΕΕ κα Αντωνία Μοροπούλου ως Πρόεδρος της  Επιστημονικής Επιτροπής του Building Materials Forum\, σημειώνει: «« Η παραγωγή δομικών υλικών ξεπερνά περίπου το 1/3 της παραγωγής του ακαθάριστων προϊόντος της βιομηχανίας με χαρακτηριστικά καινοτομίας\, εφαρμόζοντας έρευνα που παράγεται στην Ελλάδα και καθιστώντας τη βιομηχανία ανταγωνιστική.  \nΗ πρόκληση που δημιουργεί η αύξηση τιμών δομικών υλικών καθώς και το περιβαλλοντικό τους αποτύπωμα\, που σε συνδυασμό με την ενεργειακή κρίση εντείνει το πρόβλημα\, μπορεί μόνο με την εισαγωγή της καινοτομίας να αντιμετωπιστεί. Η καινοτομία στηρίζει τον Κατασκευαστικό Κλάδο που παρά τη κρίση αποτελεί τη λοκομοτίβα της ανάπτυξης\, με συνεχώς κλιμακούμενα θετικά αποτελέσματα στη κατεύθυνση της αειφορίας» \nΟ κ. Γεώργιος Στασινός\, Πρόεδρος του ΤΕΕ\, θα παραβρεθεί στο κεντρικό Πάνελ Συζήτησης του BMF\, όπου θα συμμετέχουν  κορυφαία στελέχη της αγοράς του κατασκευαστικού κλάδου\, για να συζητήσουν τη διαρθρωτική κρίση στην αγορά δομικών υλικών και πώς η Καινοτομία\, η Αειφορία και η Αποδοτικότητα Κατασκευής\, λειτουργούν ως λύσεις μετριασμού των επιπτώσεων της κρίσης. \nΗ συμμετοχή για τους Ελεύθερους Επαγγελματίες Μηχανικούς κάθε ειδικότητας είναι δωρεάν! Κλείστε θέση τώρα εδώ: https://www.eventora.com/en/Events/buildingmaterialsconference-2022 \nΤο Συνέδριο τελεί υπό την Αιγίδα του Υπουργείου Ανάπτυξης και Επενδύσεων\, Υπουργείου Υποδομών και Μεταφορών\, του Εμπορικού και Βιομηχανικού Επιμελητηρίου Αθηνών και την Τιμητική Υποστήριξη των ΕΚΑΤ\, ΕΣΒΥΚ\, ΠΕΔΜΕΔΕ\, ΠΟΕΒΥ\, ΣΕΧΒ\, και του Institute of Coating Technologies \nΧορηγοί: ELVAL COLOUR\, ISOMAT\, KNAUF\, Χαλυβουργία Ελλάδος.
URL:https://web.tee.gr/event/1o-building-materials-forum/
LOCATION:Αμφιθέατρο OTEAcademy
END:VEVENT
BEGIN:VEVENT
DTSTART;VALUE=DATE:20221012
DTEND;VALUE=DATE:20221013
DTSTAMP:20260421T024412
CREATED:20221003T080559Z
LAST-MODIFIED:20221010T092755Z
UID:10002813-1665532800-1665619199@web.tee.gr
SUMMARY:3o Συνέδριο για το τεχνολογικό οικοσύστημα BIM
DESCRIPTION:Το 3ο Συνέδριο για το τεχνολογικό οικοσύστημα BIM (Building Information Modeling) που διοργανώνουν το ΤΕΕ και η εταιρεία Boussias θα πραγματοποιηθεί στις 12 Οκτωβρίου στο Αμφιθέατρο OTEAcademy. Σύμφωνα με σχετική ανακοίνωση\, ο Αντιπρύτανης ΕΜΠ\, Ευάγγελος Ι. Σαπουντζάκης και άλλοι κορυφαίοι ομιλητές θα παρουσιάσουν τις εξελίξεις στο ρυθμιστικό πλαίσιο\, στον μηχανισμό εκπαίδευσης\, τα πρότυπα και τα σχήματα πιστοποίησης ΒΙΜ\, την ετοιμότητα εφαρμογής καθώς και τον βαθμό ευελιξίας\, διαλειτουργικότητας και συνεργασίας μεταξύ των εμπλεκομένων μερών\, αλλά και τις λύσεις στο έλλειμμα επενδύσεων στην τεχνολογία και στην Ε&Α. \nΠαράλληλα\, θα παρουσιαστούν σημαντικά case studies στην Ελλάδα και το εξωτερικό: Το Ελληνικό με τη χρήση ΒΙΜ από τη Lamda Development\, το Αττικό Μετρό Γραμμή 4 από την ALSTOM\, οι σύμβουλοι ΒΙΜ EB/Architects\, και project managers Hill International\, η ANGLIAN Waters για τα μεγαλύτερα έργα διαχείρισης υδάτων με ΒΙΜ στη Μ. Βρετανία\, η AREP για την εταιρεία Γαλλικού Σιδηρόδρομου SNCF\, η IsZEB για τη διαχείριση με ΒΙΜ σε όλο το κύκλο του κτιρίου\, η TUV Hellas\, για τη πιστοποίηση προσώπων στη ΒΙΜ. \nΤο Συνέδριο τελεί υπό την Αιγίδα των Υπουργείων Ανάπτυξης & Επενδύσεων\, Περιβάλλοντος και Ενέργειας και Υποδομών και Μεταφορών και την Τιμητική Υποστήριξη των ΠΕΔΜΕΔΕ\, ΠΕΣΕΔΕ\, ΣΑΤΕ\, ΣΕΓΜ και ΣΤΕΑΤ. \nhttps://www.bimconference.gr/
URL:https://web.tee.gr/event/3o-synedrio-gia-to-technologiko-oikosystima-bim/
LOCATION:Αμφιθέατρο OTEAcademy
ATTACH;FMTTYPE=image/jpeg:https://web.tee.gr/wp-content/uploads/BIM.jpg
END:VEVENT
BEGIN:VEVENT
DTSTART;VALUE=DATE:20180627
DTEND;VALUE=DATE:20180628
DTSTAMP:20260421T024412
CREATED:20180222T075452Z
LAST-MODIFIED:20180222T075452Z
UID:10000521-1530057600-1530143999@web.tee.gr
SUMMARY:Energy Efficiency Conference 2018
DESCRIPTION:Το Energy Efficiency Conference 2018 με τίτλο: «Προκλήσεις & Ευκαιρίες Υπό το Νέο Νομοθετικό Πλαίσιο» θα πραγματοποιηθεί για 6η συνεχή χρονιά\, την Τετάρτη 27 Ιουνίου 2018\, στο αμφιθέατρο OTEAcademy στην Αθήνα. \nΌπως αναφέρεται σε ανακοίνωση\, η φετινή διοργάνωση  πρόκειται να καταδείξει πώς το νέο νομοθετικό πλαίσιο αναμένεται να επηρεάσει την παραγωγή\, διανομή και διαχείριση των ενεργειακών πόρων και κατά συνέπεια τη ζήτηση και κατανάλωσή τους από βιομηχανικούς και λιανικούς καταναλωτές\, έχοντας ως συνέπεια τη δημιουργία σημαντικών oφελών για όλα τα εμπλεκόμενα μέρη\, όπως τεχνικές εταιρείες\, ESCOs\, βιομηχανία\, δημόσια και ιδιωτικά κτίρια\, ξενοδοχεία\, εταιρείες μεταφορών και υποδομών. \nΣε αυτό το πλαίσιο\, επιμέρους θέματα που θα συζητηθούν είναι: αειφορικός βιομηχανικός σχεδιασμός\, smartgrids και αειφορικός κτιριακός σχεδιασμός\, ενεργειακές επιθεωρήσεις και πιστοποιήσεις\, χρήση καθαρών και εναλλακτικών πηγών ενέργειας\, πράσινες μεταφορές\, βιομηχανική και κτιριακή συντήρηση\, συστήματα και λογισμικά ενεργειακής διαχείρισης κ.ά. \nΤο συνέδριο θα συγκεντρώσει εμπειρογνώμονες\, διευθυντές παραγωγής και τεχνικούς διευθυντές\, μηχανικούς\, τεχνικούς\, συμβούλους\, επιθεωρητές\, υπεύθυνους ενεργειακής διαχείρισης\, στελέχη διεύθυνσης περιβάλλοντος & αειφόρου ανάπτυξης\, στελέχη διαχείρισης εγκαταστάσεων (facility managers)\, επιχειρηματίες\, εκπροσώπους ανάπτυξης ιδιοκτησίας ή οικοδομικής βιομηχανίας σε κτήρια με υψηλές ενεργειακές απαιτήσεις. \nΤο συνέδριο πραγματοποιείται με την υποστήριξη του Ελληνικού Ινστιτούτου Παθητικού Κτιρίου – ΕΙΠΑΚ\,  (http://www.eipak.org)\, του Συνδέσμου Ελληνικών Χημικών Βιομηχανιών – ΣΕΧΒ (http://haci.gr) (ΣΕΧΒ) και του Hellenic Association for Energy Economics – ΗΑΕΕ (https://www.haee.gr). \nΠληροφορίες: Μαρία Βασιλικούδη\, τηλ.: 210 6617 777 (εσωτ. 109)\, e: mvasilikoudi@boussias.com \, https: //energyefficiencyconference.boussiasconferences.gr/
URL:https://web.tee.gr/event/energy-efficiency-conference-2018/
LOCATION:Αμφιθέατρο OTEAcademy
CATEGORIES:Άλλοι φορείς
END:VEVENT
BEGIN:VEVENT
DTSTART;VALUE=DATE:20170929
DTEND;VALUE=DATE:20170930
DTSTAMP:20260421T024412
CREATED:20170919T063239Z
LAST-MODIFIED:20170919T063239Z
UID:10000421-1506643200-1506729599@web.tee.gr
SUMMARY:Energy Efficiency Conference 2017
DESCRIPTION:Εκδήλωση με τίτλο: Energy Efficiency Conference 2017\, θα διεξαχθεί στην Αθήνα (Αμφιθέατρο OTEAcademy)\,  στις 29 Σεπτεμβρίου 2017\,  με την υποστήριξη της Ελληνικής Εταιρείας Ενεργειακής Οικονομίας.  Στόχος\, η ανάδειξη των πιο αποτελεσματικών μεθόδων που εφαρμόστηκαν από κορυφαίες εταιρίες για να βελτιώσουν την ενεργειακή τους απόδοση\, σε πολλαπλούς τομείς και διαδικασίες (παραγωγή\, κτήρια\, εσωτερικές λειτουργίες\, υπηρεσίες). \nΘεματολογία: \n\nΒιοκλιματικός Σχεδιασμός\nΚτήρια σχεδόν Μηδενικής Ενεργειακής Κατανάλωσης\nΤο πρότυπο ISO 50001\nΕνεργειακή Αναβάθμιση Υφιστάμενων Κτηρίων ή Ενεργειακή Ανακαίνιση\nΕλληνικό Νομοθετικό Πλαίσιο και Ρόλος των ESCOs\nIoT (Internet of Things)\nΘερμομόνωση Κτηρίων\nΚλιματισμός\nΦωτισμός Κτηρίων\nΗ/Μ Εξοπλισμός\nΕνεργειακή Διαχείριση & Συστήματα\nΣυστήματα εκμετάλλευσης ΑΠΕ\nΕνεργειακός Ανασχεδιασμός Κτιρίων και Περιβάλλοντος Χώρου\nΕνεργειακές Επιθεωρήσεις\n\nΠληροφορίες: https://www.haee.gr/events/national-events/2017/energy-efficiency-conference-2017
URL:https://web.tee.gr/event/energy-efficiency-conference-2017/
LOCATION:Αμφιθέατρο OTEAcademy
CATEGORIES:Άλλοι φορείς
END:VEVENT
END:VCALENDAR