BEGIN:VCALENDAR
VERSION:2.0
PRODID:-//TEE - ECPv6.15.20//NONSGML v1.0//EN
CALSCALE:GREGORIAN
METHOD:PUBLISH
X-WR-CALNAME:TEE
X-ORIGINAL-URL:https://web.tee.gr
X-WR-CALDESC:Events for TEE
REFRESH-INTERVAL;VALUE=DURATION:PT1H
X-Robots-Tag:noindex
X-PUBLISHED-TTL:PT1H
BEGIN:VTIMEZONE
TZID:Europe/Helsinki
BEGIN:DAYLIGHT
TZOFFSETFROM:+0200
TZOFFSETTO:+0300
TZNAME:EEST
DTSTART:20150329T010000
END:DAYLIGHT
BEGIN:STANDARD
TZOFFSETFROM:+0300
TZOFFSETTO:+0200
TZNAME:EET
DTSTART:20151025T010000
END:STANDARD
BEGIN:DAYLIGHT
TZOFFSETFROM:+0200
TZOFFSETTO:+0300
TZNAME:EEST
DTSTART:20160327T010000
END:DAYLIGHT
BEGIN:STANDARD
TZOFFSETFROM:+0300
TZOFFSETTO:+0200
TZNAME:EET
DTSTART:20161030T010000
END:STANDARD
BEGIN:DAYLIGHT
TZOFFSETFROM:+0200
TZOFFSETTO:+0300
TZNAME:EEST
DTSTART:20170326T010000
END:DAYLIGHT
BEGIN:STANDARD
TZOFFSETFROM:+0300
TZOFFSETTO:+0200
TZNAME:EET
DTSTART:20171029T010000
END:STANDARD
END:VTIMEZONE
BEGIN:VEVENT
DTSTART;VALUE=DATE:20160923
DTEND;VALUE=DATE:20160924
DTSTAMP:20260419T195029
CREATED:20160802T054442Z
LAST-MODIFIED:20160802T055027Z
UID:10000218-1474588800-1474675199@web.tee.gr
SUMMARY:Ενημερωτικές ημερίδες της Ευρωπαϊκής Επιτροπής: «Έξυπνες πόλεις και κοινότητες»
DESCRIPTION:Η Ευρωπαϊκή Επιτροπή διοργανώνει -το μήνα Σεπτέμβριο\, στις Βρυξέλλες- τις παρακάτω ενημερωτικές ημερίδες: \n«Ενεργειακή Απόδοση»\, 19 Σεπτεμβρίου 2016 Το περιεχόμενο της ημερίδας είναι δομημένο σε 8 διαφορετικές περιόδους\, κάθε μία από τις οποίες παρέχει πολλές ευκαιρίες δικτύωσης\, καθώς και την παρουσίαση ήδη επιτυχημένων έργων. \nΗ ημερίδα θα:\n• παρέχει ενημέρωση σχετικά με την ευρωπαϊκή πολιτική για την ενεργειακή απόδοση.\n• παρουσιάσει τις προτεραιότητες για την ενεργειακή απόδοση της πρόσκλησης υποβολής προτάσεων του Horizon 2020 Energy Efficiency 2017.\n• παρέχει καθοδήγηση σχετικά με το πώς να γίνει η υποβολή αίτησης για χρηματοδότηση.\n• προσφέρει ειδικά εργαστήρια για κάθε τομέα χρηματοδότησης δίνοντας την ευκαιρία σε κάθε συμμετέχοντα να συναντηθεί με την ομάδα ενέργειας EASME και να λάβει απαντήσεις στις ερωτήσεις του.\n• δώσει την ευκαιρία στους συμμετέχοντες να δικτυωθούν και να βρουν άλλους εταίρους στο έργο τους. \nΤην ημερίδα αναμένεται να παρακολουθήσουν περισσότεροι από 700 συμμετέχοντες που προέρχονται από τις ενώσεις ΜΜΕ\, επιχειρήσεις\, ευρωπαϊκές και εθνικές επαγγελματικές ενώσεις\, εμπορικά επιμελητήρια\, ευρωπαϊκά θεσμικά όργανα\, πανεπιστήμια\, χρηματοπιστωτικά ιδρύματα\, κλπ \nΠληροφορίες και εγγραφές: https://ec.europa.eu/easme/en/horizon-2020-secure-clean-and-efficient-energy-infoday – \n«Έξυπνες πόλεις και κοινότητες» του Horizon 2020\, 23 Σεπτεμβρίου 2016 \nΠληροφορίες και εγγραφές: https://ec.europa.eu/inea/en/news-events/events/2016-information-day-horizon-2020-smart-cities-and-communities
URL:https://web.tee.gr/event/enimerotikes-imerides-tis-evropaikis-epitropis-exipnes-polis-ke-kinotites-2/
LOCATION:Ανώνυμος Χώρος Διεξαγωγής\, ΒΡΥΞΕΛΛΕΣ
CATEGORIES:Άλλοι φορείς
END:VEVENT
END:VCALENDAR