BEGIN:VCALENDAR
VERSION:2.0
PRODID:-//TEE - ECPv6.15.20//NONSGML v1.0//EN
CALSCALE:GREGORIAN
METHOD:PUBLISH
X-WR-CALNAME:TEE
X-ORIGINAL-URL:https://web.tee.gr
X-WR-CALDESC:Events for TEE
REFRESH-INTERVAL;VALUE=DURATION:PT1H
X-Robots-Tag:noindex
X-PUBLISHED-TTL:PT1H
BEGIN:VTIMEZONE
TZID:Europe/Athens
BEGIN:DAYLIGHT
TZOFFSETFROM:+0200
TZOFFSETTO:+0300
TZNAME:EEST
DTSTART:20120325T010000
END:DAYLIGHT
BEGIN:STANDARD
TZOFFSETFROM:+0300
TZOFFSETTO:+0200
TZNAME:EET
DTSTART:20121028T010000
END:STANDARD
BEGIN:DAYLIGHT
TZOFFSETFROM:+0200
TZOFFSETTO:+0300
TZNAME:EEST
DTSTART:20130331T010000
END:DAYLIGHT
BEGIN:STANDARD
TZOFFSETFROM:+0300
TZOFFSETTO:+0200
TZNAME:EET
DTSTART:20131027T010000
END:STANDARD
BEGIN:DAYLIGHT
TZOFFSETFROM:+0200
TZOFFSETTO:+0300
TZNAME:EEST
DTSTART:20140330T010000
END:DAYLIGHT
BEGIN:STANDARD
TZOFFSETFROM:+0300
TZOFFSETTO:+0200
TZNAME:EET
DTSTART:20141026T010000
END:STANDARD
END:VTIMEZONE
BEGIN:VEVENT
DTSTART;TZID=Europe/Athens:20131209T090000
DTEND;TZID=Europe/Athens:20131209T150000
DTSTAMP:20260419T184643
CREATED:20131204T123855Z
LAST-MODIFIED:20131204T123855Z
UID:10000349-1386579600-1386601200@web.tee.gr
SUMMARY:Ημερίδα για τα έξυπνα υλικά
DESCRIPTION:Ο Δήμος Αχαρνών\,το Ινστιτούτο Επιταχυντικών Συστημάτων και το Βιοτεχνικό Επιμελητήριο Αθηνών\, διοργανώνουν στις 9 Δεκεμβρίου 2013 ημερίδα με θέμα ‘Έξυπνα υλικά: Εξοικονόμηση ενέργειας και βελτίωση του αστικού μικροκλίματος»\, στην Αίθουσα Εκδηλώσεων του Δημαρχιακού Μεγάρου Αχαρνών (Φιλαδελφείας 87 και Μπόσδα). \nΟι εργασίες της εκδήλωσης θα ξεκινήσουν στις 9 π.μ. με χαιρετισμό του Δημάρχου Αχαρνών Σ. Ντούρου\, όπως και του καθ. του Πανεπιστημίου Αθηνών Μ. Σανταμούρη\, ενώ στη συνέχεια θα γίνουν οι ομιλίες: \n– «Το έργο ΜΑΙΝ: προώθηση έξυπνων υλικών στην περιοχή της Μεσογείου» \n– « Ο ρόλος των ψυχρών στεγών και των φυτεμένων δωμάτων στη βελτίωση του αστικού μικροκλίματος» \n– «Αξιολόγηση και πιστοποίηση ψυχρών υλικών» \n– «Ψυχρά υλικά για την αντιμετώπιση της αστικής θερμικής νησίδας» \n– «Η διεθνής εμπειρία για τη βελτίωση του αστικού μικροκλίματος» \n– «Αστικές βιοκλιματικές αναβαθμίσεις: ένα μοντέλο ανάπτυξης για τους ΟΤΑ» \n– «Η χρήση της τηλεπισκόπισης στη βελτίωση του αστικού μικροκλίματος». \nΠληροφορίες: main@acharnes.gr
URL:https://web.tee.gr/event/hmerida-ejypna-ylika/
LOCATION:ΑΧΑΡΝΑΙ
END:VEVENT
END:VCALENDAR