BEGIN:VCALENDAR
VERSION:2.0
PRODID:-//TEE - ECPv6.15.20//NONSGML v1.0//EN
CALSCALE:GREGORIAN
METHOD:PUBLISH
X-ORIGINAL-URL:https://web.tee.gr
X-WR-CALDESC:Events for TEE
REFRESH-INTERVAL;VALUE=DURATION:PT1H
X-Robots-Tag:noindex
X-PUBLISHED-TTL:PT1H
BEGIN:VTIMEZONE
TZID:Europe/Athens
BEGIN:DAYLIGHT
TZOFFSETFROM:+0200
TZOFFSETTO:+0300
TZNAME:EEST
DTSTART:20120325T010000
END:DAYLIGHT
BEGIN:STANDARD
TZOFFSETFROM:+0300
TZOFFSETTO:+0200
TZNAME:EET
DTSTART:20121028T010000
END:STANDARD
BEGIN:DAYLIGHT
TZOFFSETFROM:+0200
TZOFFSETTO:+0300
TZNAME:EEST
DTSTART:20130331T010000
END:DAYLIGHT
BEGIN:STANDARD
TZOFFSETFROM:+0300
TZOFFSETTO:+0200
TZNAME:EET
DTSTART:20131027T010000
END:STANDARD
BEGIN:DAYLIGHT
TZOFFSETFROM:+0200
TZOFFSETTO:+0300
TZNAME:EEST
DTSTART:20140330T010000
END:DAYLIGHT
BEGIN:STANDARD
TZOFFSETFROM:+0300
TZOFFSETTO:+0200
TZNAME:EET
DTSTART:20141026T010000
END:STANDARD
BEGIN:DAYLIGHT
TZOFFSETFROM:+0200
TZOFFSETTO:+0300
TZNAME:EEST
DTSTART:20150329T010000
END:DAYLIGHT
BEGIN:STANDARD
TZOFFSETFROM:+0300
TZOFFSETTO:+0200
TZNAME:EET
DTSTART:20151025T010000
END:STANDARD
BEGIN:DAYLIGHT
TZOFFSETFROM:+0200
TZOFFSETTO:+0300
TZNAME:EEST
DTSTART:20160327T010000
END:DAYLIGHT
BEGIN:STANDARD
TZOFFSETFROM:+0300
TZOFFSETTO:+0200
TZNAME:EET
DTSTART:20161030T010000
END:STANDARD
BEGIN:DAYLIGHT
TZOFFSETFROM:+0200
TZOFFSETTO:+0300
TZNAME:EEST
DTSTART:20170326T010000
END:DAYLIGHT
BEGIN:STANDARD
TZOFFSETFROM:+0300
TZOFFSETTO:+0200
TZNAME:EET
DTSTART:20171029T010000
END:STANDARD
BEGIN:DAYLIGHT
TZOFFSETFROM:+0200
TZOFFSETTO:+0300
TZNAME:EEST
DTSTART:20180325T010000
END:DAYLIGHT
BEGIN:STANDARD
TZOFFSETFROM:+0300
TZOFFSETTO:+0200
TZNAME:EET
DTSTART:20181028T010000
END:STANDARD
BEGIN:DAYLIGHT
TZOFFSETFROM:+0200
TZOFFSETTO:+0300
TZNAME:EEST
DTSTART:20190331T010000
END:DAYLIGHT
BEGIN:STANDARD
TZOFFSETFROM:+0300
TZOFFSETTO:+0200
TZNAME:EET
DTSTART:20191027T010000
END:STANDARD
BEGIN:DAYLIGHT
TZOFFSETFROM:+0200
TZOFFSETTO:+0300
TZNAME:EEST
DTSTART:20200329T010000
END:DAYLIGHT
BEGIN:STANDARD
TZOFFSETFROM:+0300
TZOFFSETTO:+0200
TZNAME:EET
DTSTART:20201025T010000
END:STANDARD
BEGIN:DAYLIGHT
TZOFFSETFROM:+0200
TZOFFSETTO:+0300
TZNAME:EEST
DTSTART:20210328T010000
END:DAYLIGHT
BEGIN:STANDARD
TZOFFSETFROM:+0300
TZOFFSETTO:+0200
TZNAME:EET
DTSTART:20211031T010000
END:STANDARD
BEGIN:DAYLIGHT
TZOFFSETFROM:+0200
TZOFFSETTO:+0300
TZNAME:EEST
DTSTART:20220327T010000
END:DAYLIGHT
BEGIN:STANDARD
TZOFFSETFROM:+0300
TZOFFSETTO:+0200
TZNAME:EET
DTSTART:20221030T010000
END:STANDARD
BEGIN:DAYLIGHT
TZOFFSETFROM:+0200
TZOFFSETTO:+0300
TZNAME:EEST
DTSTART:20230326T010000
END:DAYLIGHT
BEGIN:STANDARD
TZOFFSETFROM:+0300
TZOFFSETTO:+0200
TZNAME:EET
DTSTART:20231029T010000
END:STANDARD
BEGIN:DAYLIGHT
TZOFFSETFROM:+0200
TZOFFSETTO:+0300
TZNAME:EEST
DTSTART:20240331T010000
END:DAYLIGHT
BEGIN:STANDARD
TZOFFSETFROM:+0300
TZOFFSETTO:+0200
TZNAME:EET
DTSTART:20241027T010000
END:STANDARD
END:VTIMEZONE
BEGIN:VTIMEZONE
TZID:Europe/Helsinki
BEGIN:DAYLIGHT
TZOFFSETFROM:+0200
TZOFFSETTO:+0300
TZNAME:EEST
DTSTART:20150329T010000
END:DAYLIGHT
BEGIN:STANDARD
TZOFFSETFROM:+0300
TZOFFSETTO:+0200
TZNAME:EET
DTSTART:20151025T010000
END:STANDARD
BEGIN:DAYLIGHT
TZOFFSETFROM:+0200
TZOFFSETTO:+0300
TZNAME:EEST
DTSTART:20160327T010000
END:DAYLIGHT
BEGIN:STANDARD
TZOFFSETFROM:+0300
TZOFFSETTO:+0200
TZNAME:EET
DTSTART:20161030T010000
END:STANDARD
BEGIN:DAYLIGHT
TZOFFSETFROM:+0200
TZOFFSETTO:+0300
TZNAME:EEST
DTSTART:20170326T010000
END:DAYLIGHT
BEGIN:STANDARD
TZOFFSETFROM:+0300
TZOFFSETTO:+0200
TZNAME:EET
DTSTART:20171029T010000
END:STANDARD
BEGIN:DAYLIGHT
TZOFFSETFROM:+0200
TZOFFSETTO:+0300
TZNAME:EEST
DTSTART:20180325T010000
END:DAYLIGHT
BEGIN:STANDARD
TZOFFSETFROM:+0300
TZOFFSETTO:+0200
TZNAME:EET
DTSTART:20181028T010000
END:STANDARD
BEGIN:DAYLIGHT
TZOFFSETFROM:+0200
TZOFFSETTO:+0300
TZNAME:EEST
DTSTART:20190331T010000
END:DAYLIGHT
BEGIN:STANDARD
TZOFFSETFROM:+0300
TZOFFSETTO:+0200
TZNAME:EET
DTSTART:20191027T010000
END:STANDARD
END:VTIMEZONE
BEGIN:VEVENT
DTSTART;TZID=Europe/Athens:20230702T170000
DTEND;TZID=Europe/Athens:20230702T203000
DTSTAMP:20260426T012032
CREATED:20230628T074146Z
LAST-MODIFIED:20230628T074146Z
UID:10002988-1688317200-1688329800@web.tee.gr
SUMMARY:Εκδήλωση Light Up
DESCRIPTION:Το Ελληνικό Ινστιτούτο Αρχιτεκτονικής και το Πρόγραμμα Μεταπτυχιακών Σπουδών «Σχεδιασμός Φωτισμού»\, της Σχολής Εφαρμοσμένων Τεχνών και Βιώσιμου σχεδιασμού του Ε.Α.Π.\, διοργανώνουν την εκδήλωση Light Up\, την Κυριακή 2 Ιουλίου 2023\, στις 5:00μ.μ.\, στο Εθνικό Ίδρυμα Ερευνών (Βασ. Κωνσταντίνου 48). \nΔιάλογοι ανάμεσα σε αρχιτέκτονες και σχεδιαστές φωτισμού θα αναδείξουν τις ιδιαίτερες ποιότητες του φωτός\, εστιάζοντας στις ακόλουθες θεματικές: \nArchitectural Lighting Design \nΜόρφω Παπανικολάου – Αρχιτέκτονας IUAV \nΕλευθερία Ντεκώ – Lighting Designer\, Επίκουρη καθηγήτρια Σχολής Καλών Τεχνών Α.Π.Θ. \nLandscape Lighting Design \nΚωνσταντίνος Μωραΐτης – Ομότιμος Καθηγητής Σχολής Αρχιτεκτόνων Μηχανικών Ε.Μ.Π. \nΛάμπρος Δούλος – Αναπληρωτής Καθηγητής Σχολής Εφαρμοσμένων Τεχνών και Βιώσιμου Σχεδιασμού Ε.Α.Π. \nHuman Centric Lighting \nΣταύρος Γυφτόπουλος – Αρχιτέκτονας\, Καθηγητής Σχολής Αρχιτεκτόνων Μηχανικών Ε.Μ.Π. \nΆρης Τσαγκρασούλης – Καθηγητής Τμήματος Αρχιτεκτόνων Μηχανικών Π.Θ. \nΤις ομιλίες συντονίζουν οι \nΣτυλιανός Ζερεφός – Καθηγητής Σχολής Εφαρμοσμένων Τεχνών και Βιώσιμου Σχεδιασμού Ε.Α.Π. \nΚατερίνα Σκάλκου – Αρχιτέκτονας\, Συνεργαζόμενο Εκπαιδευτικό Προσωπικό Ε.Α.Π. \nΚωνσταντίνος Γρίβας – Αναπληρωτής Καθηγητή Αρχιτεκτονικού Σχεδιασμού\, Τ.Α.Μ. Π.Π. \nΘα ακολουθήσει η ανακοίνωση των αποτελεσμάτων του φοιτητικού διαγωνισμού Light Up και θα απονεμηθούν τα βραβεία στις προτάσεις που διακρίθηκαν: \nΑ’ ΒΡΑΒΕΙΟ: 1.000 € \nΒ’ ΒΡΑΒΕΙΟ: 600 € \nΓ’ ΒΡΑΒΕΙΟ: 400 € \nΌλες οι προτάσεις που συμμετείχαν στον διαγωνισμό θα παρουσιαστούν στο Foyer του Εθνικού Ιδρύματος Ερευνών και θα περιλαμβάνονται στο συνοδευτικό κατάλογο που διατίθεται από το Ελληνικό Ινστιτούτο Αρχιτεκτονικής. \nhttps://eia.gr/wp/wp-content/uploads/2023/06/light-Up-Programme-1.pdf \nhttps://eia.gr/
URL:https://web.tee.gr/event/ekdilosi-light-up/
LOCATION:Εθνικό Ίδρυμα Ερευνών\, Βασιλέως Κωνσταντίνου 48\, Αθήνα\, 11635
CATEGORIES:Άλλοι φορείς
END:VEVENT
BEGIN:VEVENT
DTSTART;TZID=Europe/Athens:20191107T093000
DTEND;TZID=Europe/Athens:20191107T143000
DTSTAMP:20260426T012032
CREATED:20191025T123300Z
LAST-MODIFIED:20191025T123442Z
UID:10002349-1573119000-1573137000@web.tee.gr
SUMMARY:Ημερίδα: «Ευκαιρίες σταδιοδρομίας για ερευνητές: Marie Skłodowska-Curie Actions»
DESCRIPTION:Το Εθνικό Κέντρο Τεκμηρίωσης και Ηλεκτρονικού Περιεχομένου (ΕΚΤ) διοργανώνει –στις 7 Νοεμβρίου 2019\, στο Εθνικό Ίδρυμα Ερευνών (Αμφιθέατρο Λ. Ζέρβα\, Βασ. Κωνσταντίνου 48\, Αθήνα)- ημερίδα με θέμα: «Ευκαιρίες σταδιοδρομίας για ερευνητές: Marie Skłodowska-Curie Actions».Οι εργασίες της εκδήλωσης θα ξεκινήσουν στις 9:30 πμ και θα διαρκέσουν ως τις 14:30. Όσοι διδακτορικοί ή μεταδιδακτορικοί ερευνητές παρακολουθήσουν την ημερίδα θα ενημερωθούν για: \n–   Ευκαιρίες χρηματοδότησης για κινητικότητα (Ερευνητικές υποτροφίες Marie Skłodowska-Curie\, Erasmus+).- Ευκαιρίες υποτροφιών από το Ελληνικό Ίδρυμα Έρευνας & Καινοτομίας ΕΛΙΔΕΚ και το Ίδρυμα Κρατικών Υποτροφιών.- Ευκαιρίες δικτύωσης με κορυφαίους ερευνητές από όλο τον κόσμο(Γέφυρες Γνώσης & Συνεργασίας) και εργαλεία αναζήτησης ευκαιριών σταδιοδρομίας (EURAXESS Greece).Όσοι εκπρόσωποι επιχειρήσεων με R&D δραστηριότητα\, Πανεπιστημίου ή Ερευνητικού Κέντρου παρακολουθήσουν τις εργασίες θα ενημερωθούν  για:-   Οφέλη συμμετοχής σε Εθνικά και Ευρωπαϊκά Προγράμματα Έρευνα και Καινοτομίας (Marie Skłodowska-Curie Actions\, Erasmus+\, ΕΛΙΔΕΚ).-   Ευκαιρίες διασύνδεσης με τους κορυφαίους οργανισμούς Έρευνας και Ανάπτυξης ανά την Ευρώπη.-   Πληροφορίες για εθνικές και ευρωπαϊκές πλατφόρμες δικτύωσης και εξεύρεσης εξειδικευμένου ανθρώπινου δυναμικού (Γέφυρες Γνώσης & Συνεργασίας\, Euraxess).  Η ημερίδα διοργανώνεται από το ΕΚΤ\, Εθνικό Σημείο Επαφής για το πρόγραμμα Ορίζοντας 2020\, σε συνεργασία με τη Γενική Γραμματεία Έρευνας και Τεχνολογίας (ΓΓΕΤ) και την Ευρωπαϊκή Επιτροπή (Εκτελεστικός Οργανισμός Έρευνας). \nΠληροφορίες: http://www.ekt.gr/el/events/program/23487
URL:https://web.tee.gr/event/imerida-eykairies-stadiodromias-gia-ereynites-marie-sklodowska-curie-actions/
LOCATION:Εθνικό Ίδρυμα Ερευνών\, Βασιλέως Κωνσταντίνου 48\, Αθήνα\, 11635
CATEGORIES:Άλλοι φορείς
END:VEVENT
BEGIN:VEVENT
DTSTART;TZID=Europe/Helsinki:20180531T080000
DTEND;TZID=Europe/Helsinki:20180601T170000
DTSTAMP:20260426T012032
CREATED:20180402T093447Z
LAST-MODIFIED:20180402T093623Z
UID:10002077-1527753600-1527872400@web.tee.gr
SUMMARY:Διεθνές Συνέδριο για την Ανοικτή Επιστημονική Επικοινωνία
DESCRIPTION:Το Εθνικό Κέντρο Τεκμηρίωσης (ΕΚΤ)\, συμμετέχοντας ενεργά στη συζήτηση που διεξάγεται σε ευρωπαϊκό επίπεδο για την Ανοικτή Πρόσβαση στις επιστημονικές δημοσιεύσεις και τα ερευνητικά αποτελέσματα\, διοργανώνει διεθνές συνέδριο για την ανοικτή επιστημονική επικοινωνία με τίτλο: “Open Scholarly Communication in Europe. Addressing the Coordination Challenge”\, την Πέμπτη 31 Μαΐου και την Παρασκευή 1 Ιουνίου 2018\, στο Εθνικό Ίδρυμα Ερευνών (Βασ. Κωνσταντίνου 48\, Αθήνα). To συνέδριο διοργανώνεται στο πλαίσιο του ευρωπαϊκού έργου OPERAS-D στο οποίο συμμετέχει το ΕΚΤ. \nΤο έργο OPERAS-D (Design for Open Access Publications in European Research Areas for Social Sciences and Humanities) έχει ως κύριο στόχο την ανάπτυξη της ευρωπαϊκής ηλεκτρονικής υποδομής για την Ανοικτή Πρόσβαση στις δημοσιεύσεις στις Ανθρωπιστικές και Κοινωνικές Επιστήμες (ΑΚΕ). Συντονιστής του OPERAS-D είναι το Centre National de la Recherche Scientifique (CNRS) και εταίροι το Εθνικό Κέντρο Τεκμηρίωσης\, το Open Access Publishing in European Networks (OAPEN)\, το Deutsche Geisteswissenschaftliche Institute im Ausland (DGIA) και το Knowledge Unlatched (KU). Και οι πέντε φορείς είναι μέλη του δικτύου OPERAS. \nΤο έργο\, το οποίο χρηματοδοτείται από το πρόγραμμα Ορίζοντας 2020\, ενισχύει τη δομή του δικτύου OPERAS\, ενός δίκτυο που δημιουργήθηκε το 2015\, από 16 φορείς με κεντρικό ρόλο στον τομέα των εκδόσεων Ανοικτής Πρόσβασης στις Ανθρωπιστικές και Κοινωνικές Επιστήμες (ΑΚΕ)\, με στόχο την εισαγωγή των αρχών της Ανοικτής Επιστήμης στις ΑΚΕ και τη διασφάλιση της αποτελεσματικής διάχυσης και πρόσβασης στα ερευνητικά αποτελέσματα. \n«Στο πλαίσιο αυτό\, το συνέδριο θα προσφέρει ένα πεδίο διαλόγου και ανταλλαγής απόψεων για τις εξελίξεις στο πεδίο της επιστημονικής επικοινωνίας στην Ευρώπη και τις αλλαγές που επιφέρει το παράδειγμα της Ανοικτής Επιστήμης\, αναφέρεται σε ανακοίνωση. Στο νέο αυτό μεταβαλλόμενο περιβάλλον\, η ακαδημαϊκή κοινότητα καλείται να αντιμετωπίσει την πρόκληση του αποτελεσματικού συντονισμού μεταξύ φορέων\, επιστημονικών κλάδων\, χωρών\, κατά τη μετάβαση στο παράδειγμα της Ανοικτής Επιστήμης\, δίνοντας ιδιαίτερη έμφαση στις Ανθρωπιστικές και Κοινωνικές Επιστήμες. Ομιλητές του Συνεδρίου είναι καταξιωμένες προσωπικότητες από την Ελλάδα\, την Ευρώπη\, τον Καναδά και τη Βραζιλία που δραστηριοποιούνται στον τομέα της Ανοικτής Επιστημονικής Επικοινωνίας (Open Scholarly Communication)». \nΓλώσσα εργασίας του συνεδρίου είναι τα αγγλικά. \nΠληροφορίες: http://www.ekt.gr/ \nΣημειώνεται ότι το συνέδριο θα μεταδίδεται ζωντανά στη διεύθυνση: http://media.ekt.gr/live.
URL:https://web.tee.gr/event/diethnes-synedrio-gia-tin-anoikti-epistimoniki-epikoinonia/
LOCATION:Εθνικό Ίδρυμα Ερευνών\, Βασιλέως Κωνσταντίνου 48\, Αθήνα\, 11635
CATEGORIES:Άλλοι φορείς
END:VEVENT
BEGIN:VEVENT
DTSTART;TZID=Europe/Helsinki:20180313T120000
DTEND;TZID=Europe/Helsinki:20180313T150000
DTSTAMP:20260426T012032
CREATED:20180309T083738Z
LAST-MODIFIED:20180309T083738Z
UID:10002063-1520942400-1520953200@web.tee.gr
SUMMARY:Διάλεξη της Yukiko Saito: «Seeing Colour in Homers Iliad»
DESCRIPTION:Στο πλαίσιο των σεμιναρίων του Τομέα Ελληνικής και Ρωμαϊκής Αρχαιότητας του Ινστιτούτου Ιστορικών Ερευνών\, θα πραγματοποιηθεί διάλεξη της Yukiko Saito\, επίτιμου μέλους του Τμήματος Αρχαιολογίας\, Κλασικών Σπουδών και Αιγυπτιολογίας του Πανεπιστημίου του Λίβερπουλ\, Ηνωμένο Βασίλειο\, Πανεπιστήμιο Kyoto Seika\, Ιαπωνία\, με θέμα: «Seeing Colour in Homers Iliad»\, που θα δοθεί στις 13 Μαρτίου 2018\, ώρα 12.00\, στο Εθνικό Ίδρυμα Ερευνών (Βασ. Κωνσταντίνου 48\, Αθήνα).
URL:https://web.tee.gr/event/dialexi-tis-yukiko-saito-seeing-colour-in-homers-iliad/
LOCATION:Εθνικό Ίδρυμα Ερευνών\, Βασιλέως Κωνσταντίνου 48\, Αθήνα\, 11635
CATEGORIES:Άλλοι φορείς
END:VEVENT
BEGIN:VEVENT
DTSTART;TZID=Europe/Helsinki:20180207T173000
DTEND;TZID=Europe/Helsinki:20180207T193000
DTSTAMP:20260426T012032
CREATED:20180126T130236Z
LAST-MODIFIED:20180126T130237Z
UID:10002032-1518024600-1518031800@web.tee.gr
SUMMARY:Η Φωνή του Δίσκου της Φαιστού
DESCRIPTION:Το Εθνικό Κέντρο Τεκμηρίωσης διοργανώνει -σε συνεργασία με το ΤΕΙ Κρήτης- την Τετάρτη 7 Φεβρουαρίου 2018 (17.30) στο Εθνικό Ίδρυμα Ερευνών (Αμφιθέατρο Λ. Ζέρβα\, Bασ. Κωνσταντίνου 48\, Αθήνα) εκδήλωση με τίτλο: «Η Φωνή του Δίσκου της Φαιστού». \nΌπως υπογραμμίζεται σε ανακοίνωση\, «ο Δίσκος της Φαιστού είναι μία από τις πιο πολυσυζητημένες επιγραφές στην  ιστορία της ανθρωπότητας.  Πολλά έχουν γραφτεί κι ακόμη περισσότερα ειπωθεί σε σχέση με αυτόν\, ωστόσο η επεξήγηση του παραμένει μέχρι και τις ημέρες μας ένα άλυτο μυστήριο. \nΟ δίσκος της Φαιστού έχει διάμετρο περίπου 16 εκ. με σημεία γραφής και στις δυο όψεις\, τα οποία ανέρχονται σε 242 και διαιρούνται σε 61 ομάδες. Υπάρχουν 45 διαφορετικού χαρακτήρα σημεία στο Δίσκο\, περισσότερα για να απαρτίσουν ένα αλφάβητο και λιγότερα για να αποτελέσουν μια πραγματική ιδεογραφική γραφή\, όπως συμβαίνει με τα κινέζικα.  Σε κάθε περίπτωση η γλώσσα του δίσκου\, που αποτελεί το πιο γνωστό δείγμα της «συλλαβικής μινωικής γραφής»\, είναι ακόμη απροσπέλαστη. \nΟ Δρ. Γκάρεθ Όουενς\, ειδικός σε θέματα μινωικής γραφής\, έχοντας αφοσιωθεί στη μελέτη του Δίσκου για δέκα χρόνια έχει προχωρήσει\, σε συνεργασία με τον καθηγητή Φωνητικής στην Οξφόρδη Τζον Κόουλμαν\, την «ανάγνωση» στο 99%.  Πλέον είναι σε θέση να μας «αποκαλύψει» τα μυστικά του Δίσκου της Φαιστού\, δίνοντας μια τεκμηριωμένη\, εμπεριστατωμένη και αξιόπιστη ερμηνεία του δίσκου. Με σεβασμό απέναντι στην ιστορία και επίγνωση του βάρους του εγχειρήματός του\, προχωράει ένα βήμα παραπέρα στην «ερμηνεία» του δίσκου\, μιλάει για την πεμπτουσία του και μας δίνει ίσως το «κλειδί» για την είσοδο στα άδυτα του μινωικού κόσμου». \nΗ είσοδος στην εκδήλωση είναι ελεύθερη\, αλλά απαιτείται εγγραφή στη διεύθυνση: http://www.ekt.gr/el/event-registration. \nΗ εκδήλωση θα μεταδίδεται ζωντανά στη διεύθυνση http://media.ekt.gr/live
URL:https://web.tee.gr/event/i-foni-tou-diskou-tis-festou/
LOCATION:Εθνικό Ίδρυμα Ερευνών\, Βασιλέως Κωνσταντίνου 48\, Αθήνα\, 11635
CATEGORIES:Άλλοι φορείς
END:VEVENT
BEGIN:VEVENT
DTSTART;TZID=Europe/Helsinki:20171213T080000
DTEND;TZID=Europe/Helsinki:20171213T170000
DTSTAMP:20260426T012032
CREATED:20171213T095930Z
LAST-MODIFIED:20171213T095930Z
UID:10002013-1513152000-1513184400@web.tee.gr
SUMMARY:Ημερίδα:"Η Ενέργεια στον Ορίζοντα 2020"
DESCRIPTION:Το Εθνικό Κέντρο Τεκμηρίωσης (ΕΚΤ)\, Εθνικό Σημείο Επαφής για το πρόγραμμα Ορίζοντας 2020 (Horizon 2020) της Ευρωπαϊκής Επιτροπής (ΕΕ)\, διοργανώνει στις 15 Ιανουαρίου 2018\, ημερίδα με θέμα: “Η Ενέργεια στον Ορίζοντα 2020”. Η εκδήλωση διοργανώνεται με την υποστήριξη της Ευρωπαϊκής Επιτροπής και της Γενικής Γραμματείας Έρευνας και Τεχνολογίας και θα πραγματοποιηθεί στο Εθνικό Ίδρυμα Ερευνών (Αμφιθέατρο Λ. Ζέρβας\, Βασ. Κωνσταντίνου 48\, Αθήνα). \nΣτόχος της εκδήλωσης -όπως υπογραμμίζεται σε ανακοίνωση- είναι η παρουσίαση των δυνατοτήτων χρηματοδότησης για τον τομέα της Ενέργειας μέσω του προγράμματος Ορίζοντας 2020. Με το πρόγραμμα Ορίζοντας 2020\, που αποτελεί το χρηματοδοτικό πλαίσιο της ΕΕ για την Έρευνα και την Καινοτομία κατά την περίοδο 2014-2020\, η ΕΕ επενδύει περαιτέρω στην Έρευνα και την Καινοτομία στον τομέα της Ενέργειας\, υποστηρίζοντας σχετικές δράσεις που προωθούν την ανάπτυξη στους τομείς της επιστήμης\, της βιομηχανίας και των κοινωνικών προκλήσεων. \nΕκπρόσωποι της Ευρωπαϊκής Επιτροπής θα παρουσιάσουν το πρόγραμμα “Ασφαλής\, καθαρή και αποδοτική ενέργεια” και τις νέες προκηρύξεις για το διάστημα 2018-2020. Ο Εθνικός Εκπρόσωπος του προγράμματος θα παρουσιάσει τις θέσεις της Ελλάδας για το συγκεκριμένο πρόγραμμα\, καθώς και στατιστικά στοιχεία για την ελληνική συμμετοχή στο πρόγραμμα “Ασφαλής\, καθαρή και αποδοτική ενέργεια” του Ορίζοντα 2020. Το Εθνικό Κέντρο Τεκμηρίωσης θα παρουσιάσει τις δράσεις και υπηρεσίες του ως Εθνικό Σημείο Επαφής για τον Ορίζοντα 2020 και συντονιστής του Enterprise Europe Network-Hellas. \nΣτατιστικά στοιχεία για την ελληνική συμμετοχή στις πρώτες προκηρύξεις της Κοινωνικής Πρόκλησης “Ασφαλής\, Καθαρή και Αποδοτική Ενέργεια” διατίθενται στην ιστοσελίδα http://metrics.ekt.gr/el/node/338 \nΗ εκδήλωση θα μεταδίδεται ζωντανά στη διεύθυνση http://media.ekt.gr/live \nΠληροφορίες: http://www.ekt.gr/el/events/21303\, schris@ekt.gr
URL:https://web.tee.gr/event/imeridai-energia-ston-orizonta-2020/
LOCATION:Εθνικό Ίδρυμα Ερευνών\, Βασιλέως Κωνσταντίνου 48\, Αθήνα\, 11635
CATEGORIES:Άλλοι φορείς
END:VEVENT
BEGIN:VEVENT
DTSTART;TZID=Europe/Helsinki:20171013T090000
DTEND;TZID=Europe/Helsinki:20171013T170000
DTSTAMP:20260426T012032
CREATED:20171006T044424Z
LAST-MODIFIED:20171006T044424Z
UID:10000434-1507885200-1507914000@web.tee.gr
SUMMARY:«Πρότυπα για Βιώσιμες και Έξυπνες πόλεις»
DESCRIPTION:  \nΕκδήλωση για την Παγκόσμια Ημέρα Προτύπων\, με θέμα: «Πρότυπα για Βιώσιμες και Έξυπνες πόλεις»\, διοργανώνει στις 13 Οκτωβρίου 2017 (9:00-17:00\, στο Εθνικό Ίδρυμα Ερευνών\, Βασιλέως Κωνσταντίνου 48\, Αθήνα) ο Ελληνικός Οργανισμός Τυποποίησης – ΕΛΟΤ. \nΟι εργασίες της εκδήλωσης θα ξεκινήσουν με χαιρετισμό του Χρήστου Σινάνη Αγκαζίρ\, Προέδρου του Εθνικού Συστήματος Υποδομών Ποιότητας (ΕΣΥΠ) και θα συνεχιστούν με τις ομιλίες: \n\nΔραστηριότητες Διεθνούς και Ευρωπαϊκής Τυποποίησης για τη διαχείριση της Βιωσιμότητας πόλεων\nΕθνικό Σχέδιο Βιώσιμης Ανάπτυξης για την εξυπηρέτηση των στόχων της Ατζέντας ΟΗΕ για το 2030\nΑνάγκες προσαρμογής στις εξελίξεις και ανάπτυξη ελληνικού προτύπου έξυπνης πόλης\nΕυφυΐα/Smartness σε υποδομές και πόρους ως κύριο χαρακτηριστικό των βιώσιμων πόλεων\nΈξυπνες πόλεις -Ευφυή συστήματα για τη βιωσιμότητα και την αποδοτική αξιοποίηση πόρων\nΑνάγκες για κοινή πρακτική έξυπνων πόλεων στην Ελλάδα\nΈξυπνες υποδομές και κτίρια\nΤηλεπικοινωνιακά δίκτυα και υπηρεσίες – Συμβολή τους στην ευφυΐα των πόλεων\nΣυμμετοχή\, διαβούλευση. Ευάλωτες ομάδες\, ανοικτότητα  και πρόσβαση χωρίς αποκλεισμούς σε χώρους\, υποδομές και υπηρεσίες\nΑσφάλεια και Ποιότητα ζωής στις πόλεις και σχετικοί δείκτες\nΧωρικός και αστικός σχεδιασμός\, δημόσιοι χώροι \,αστικό πράσινο και δημόσια κτίρια -Προτάσεις για δείκτες επιδόσεων\nΣυγκοινωνίες/μεταφορές στις πόλεις – Προτάσεις για δείκτες επιδόσεων\nΣχεδιασμός για μείωση της απόθεσης αποβλήτων στην κυκλική οικονομία\nΑνθεκτικότητα και διαχείριση κρίσεων\nΑνθεκτικότητα πόλεων – Εμπειρίες από τη συμμετοχή στο διεθνές Δίκτυο Ανθεκτικών πόλεων και σχετικά έργα του Δήμου Αθηναίων\nΕρευνητικά και προ-τυποποιητικά έργα. Αξιοποίηση προτύπων και τυποποίηση\nΕρευνητικά έργα HORIZON 2020 για έξυπνες πόλεις\nΕμπειρίες συμμετοχής σε προγράμματα HORIZON και ανάγκες αξιοποίησης προτύπων και τυποποίησης\n\nΣκοπός της εκδήλωσης \nΗ εκδήλωση αποσκοπεί στην παρουσίαση \n\nτων εξελίξεων της τυποποίησης για τις βιώσιμες πόλεις δηλαδή τις έξυπνες\, ανθεκτικές\, προσβάσιμες και ανοικτές πόλεις σε όλους χωρίς αποκλεισμούς\nτων προτάσεων για την αξιοποίηση και προσαρμογή των διεθνών προτύπων στις εγχώριες ανάγκες και την ανάπτυξη ελληνικού προτύπου έξυπνης πόλης\, και\nτων απόψεων και των σχετικών πρωτοβουλιών από πλευράς Δήμων/Τοπικής Αυτοδιοίκησης και Δημόσιας Διοίκησης και των Παρόχων δικτύων και έξυπνων υποδομών και υπηρεσιών π.χ. στις τηλεπικοινωνίες\, ΤΠΕ\, ενέργεια\, νερό και διαχείριση αποβλήτων.\n\nΠληροφορίες: Ευαγγελία Αλεξανδρή\, ealexandri@elot.gr\, 210 2120125\, Αναστασία Μπόρα\, ampora@elot.gr\, 210 2120115
URL:https://web.tee.gr/event/protypa-gia-viosimes-ke-exypnes-polis/
LOCATION:Εθνικό Ίδρυμα Ερευνών\, Βασιλέως Κωνσταντίνου 48\, Αθήνα\, 11635
CATEGORIES:Άλλοι φορείς
END:VEVENT
BEGIN:VEVENT
DTSTART;TZID=Europe/Helsinki:20170615T093000
DTEND;TZID=Europe/Helsinki:20170615T143000
DTSTAMP:20260426T012032
CREATED:20170609T104447Z
LAST-MODIFIED:20170609T104447Z
UID:10000383-1497519000-1497537000@web.tee.gr
SUMMARY:Ημερίδα: Ανοικτή Επιστήμη: Ζητήματα και Προοπτικές
DESCRIPTION:Οι προοπτικές της Ανοικτής Επιστήμης  \nΤο Εθνικό Κέντρο Τεκμηρίωσης (ΕΚΤ)\, διοργανώνει στις 15 Ιουνίου 2017 (9:30-14:30) ημερίδα με τίτλο: “Ανοικτή Επιστήμη: Ζητήματα και Προοπτικές” στο Εθνικό Ίδρυμα Ερευνών (Βασ. Κωνσταντίνου 48\, Αθήνα). \nΚατά τη διάρκεια της ημερίδας θα παρουσιαστούν οι τελευταίες εξελίξεις για την Ανοικτή Επιστήμη\, σε ευρωπαϊκό και εθνικό επίπεδο. Επίσης οι ερευνητές θα έχουν τη δυνατότητα να ενημερωθούν και να εξοικειωθούν με υπηρεσίες και εργαλεία που υποστηρίζουν την ανοικτή πρόσβαση σε δημοσιεύσεις και δεδομένα που παράγονται στο πλαίσιο της έρευνάς τους. \nΗ εκδήλωση διοργανώνεται με την υποστήριξη του ευρωπαϊκού έργου OpenAIRE (www.openaire.eu) το οποίο υποστηρίζει τη μετάβαση στην Ανοικτή Επιστήμη και την ενίσχυση του αντίκτυπου και της επανάχρησης των επιστημονικών δημοσιεύσεων και δεδομένων. \nΠληροφορίες: http://www.ekt.gr/el/events/20872. \nΗ εκδήλωση θα μεταδοθεί ζωντανά στη διεύθυνση: http://media.ekt.gr/live.
URL:https://web.tee.gr/event/imerida-anikti-epistimi-zitimata-ke-prooptikes/
LOCATION:Εθνικό Ίδρυμα Ερευνών\, Βασιλέως Κωνσταντίνου 48\, Αθήνα\, 11635
CATEGORIES:Άλλοι φορείς
END:VEVENT
BEGIN:VEVENT
DTSTART;TZID=Europe/Helsinki:20170315T090000
DTEND;TZID=Europe/Helsinki:20170315T143000
DTSTAMP:20260426T012032
CREATED:20170314T071913Z
LAST-MODIFIED:20170314T071922Z
UID:10001858-1489568400-1489588200@web.tee.gr
SUMMARY:Ημερίδα για τα 10 χρόνια του Ευρωπαϊκού Συμβουλίου Έρευνας (ERC)
DESCRIPTION:Ημερίδα για τα 10 χρόνια του Ευρωπαϊκού Συμβουλίου Έρευνας (ERC) διοργανώνει στις 15 Μαρτίου 2017 (09.00-14.30\, στην Αθήνα\, Εθνικό Ίδρυμα Ερευνών\, Bασ. Κωνσταντίνου 48)\, το Εθνικό Κέντρο Τεκμηρίωσης (ΕΚΤ)\, σε συνεργασία με τη Γενική Γραμματεία Έρευνας και Τεχνολογίας\, με την υποστήριξη της Ευρωπαϊκής Επιτροπής και του Ευρωπαϊκού Συμβουλίου Έρευνας. Το πρόγραμμα του ΕRC\, με προϋπολογισμό περίπου 13 δισ. ευρώ (2014-2020)\, υποστηρίζει την “έρευνα αιχμής” αποκλειστικά στη βάση της επιστημονικής αριστείας. \nΗ έρευνα μπορεί να διεξαχθεί σε οποιονδήποτε τομέα της επιστήμης ή της τεχνολογίας. Ενθαρρύνεται η διεπιστημονικότητα και χρηματοδοτείται η έρευνα η οποία\, αν και δεν σχετίζεται άμεσα με την αγορά\, βρίσκεται στην “πρώτη γραμμή” της δημιουργίας νέας γνώσης που είναι απαραίτητη για τις εφαρμογές του μέλλοντος. \nΗ είσοδος στην εκδήλωση είναι ελεύθερη\, αλλά απαιτείται online εγγραφή:\nhttp://www.ekt. gr/el/event-registration?event_id=1 \nΠληροφορίες: http://www.ekt.gr/el/events/20683
URL:https://web.tee.gr/event/imerida-gia-ta-10-chronia-tou-evropaikou-simvouliou-erevnas-erc/
LOCATION:Εθνικό Ίδρυμα Ερευνών\, Βασιλέως Κωνσταντίνου 48\, Αθήνα\, 11635
CATEGORIES:Άλλοι φορείς
END:VEVENT
BEGIN:VEVENT
DTSTART;VALUE=DATE:20170314
DTEND;VALUE=DATE:20170315
DTSTAMP:20260426T012032
CREATED:20170313T091649Z
LAST-MODIFIED:20170313T091649Z
UID:10001857-1489449600-1489535999@web.tee.gr
SUMMARY:Ημερίδα του ΕΚΤ- 20 χρόνια του ευρωπαϊκού προγράμματος MSCA
DESCRIPTION:Το Εθνικό Κέντρο Τεκμηρίωσης (ΕΚΤ) διοργανώνει στις 14 Μαρτίου 2017 (09.00-14.30) στην Αθήνα (Εθνικό Ίδρυμα Ερευνών\, Bασ. Κωνσταντίνου 48) εκδήλωση για τα 20 χρόνια του ευρωπαϊκού προγράμματος Marie Skłodowska Curie Actions (MSCA). Σημειώνεται ότι οι δράσεις Marie SklodowskaCurie\, με προϋπολογισμό περίπου 6 δισ. ευρώ (2014-2020)\, υποστηρίζουν την κινητικότητα των ερευνητών εντός και εκτός Ευρώπης\, τη μεταφορά τεχνογνωσίας και την προσέλκυση ή τον επαναπατρισμό των καλύτερων ερευνητών από άλλες χώρες στην Ευρώπη. Η έρευνα μπορεί να διεξαχθεί σε οποιονδήποτε τομέα της επιστήμης ή της τεχνολογίας. \nΗ ημερίδα διοργανώνεται σε συνεργασία με τη Γενική Γραμματεία Έρευνας και Τεχνολογίας και με την υποστήριξη της Ευρωπαϊκής Επιτροπής (Γενική Διεύθυνση Εκπαίδευσης\, Νεολαίας\, Αθλητισμού και Πολιτισμού). \nΗ είσοδος στην εκδήλωση είναι ελεύθερη\, αλλά απαιτείται online εγγραφή: http://www.ekt.gr/el/event-registration \nΠληροφορίες: http://www.ekt.gr/el/events/20679
URL:https://web.tee.gr/event/imerida-tou-ekt-20-chronia-tou-evropaikou-programmatos-msca/
LOCATION:Εθνικό Ίδρυμα Ερευνών\, Βασιλέως Κωνσταντίνου 48\, Αθήνα\, 11635
CATEGORIES:Άλλοι φορείς
END:VEVENT
BEGIN:VEVENT
DTSTART;VALUE=DATE:20160422
DTEND;VALUE=DATE:20160423
DTSTAMP:20260426T012032
CREATED:20160415T053450Z
LAST-MODIFIED:20160415T053620Z
UID:10000166-1461283200-1461369599@web.tee.gr
SUMMARY:Ημερίδα: Παρουσίαση των υποτροφιών του προγράμματος Marie Sklodowska Curie Actions (MSCA) του Ορίζοντα 2020
DESCRIPTION:Το Εθνικό Κέντρο Τεκμηρίωσης (ΕΚΤ)\, Εθνικό Σημείο Επαφής για τον Ορίζοντα 2020 (Horizon 2020) και ο Σύλλογος Υποτρόφων Marie Curie Ελλάδος (Greek Chapter of Μarie Curie Alumni Association) διοργανώνουν ημερίδα για την παρουσίαση των υποτροφιών του προγράμματος Marie Sklodowska Curie Actions (MSCA) του Oρίζοντα 2020 (Πρόγραμμα Πλαίσιο Έρευνας και Καινοτομίας της ΕΕ) και της σημασίας τους για τους ερευνητές. \nH εκδήλωση –που διοργανώνεται με την υποστήριξη της Γενικής Γραμματείας Έρευνας και Τεχνολογίας- θα πραγματοποιηθεί την Παρασκευή 22 Απριλίου 2016\, στην Αθήνα\, στο Εθνικό Ίδρυμα Ερευνών (Αμφιθέατρο Λ. Ζέρβας\, Βασ. Κωνσταντίνου 48).
URL:https://web.tee.gr/event/imerida-parousiasi-ton-ipotrofion-tou-programmatos-marie-sklodowska-curie-actions-msca-tou-orizonta-2020/
LOCATION:Εθνικό Ίδρυμα Ερευνών\, Βασιλέως Κωνσταντίνου 48\, Αθήνα\, 11635
CATEGORIES:Άλλοι φορείς
END:VEVENT
BEGIN:VEVENT
DTSTART;TZID=Europe/Athens:20131016T090000
DTEND;TZID=Europe/Athens:20131018T180000
DTSTAMP:20260426T012032
CREATED:20131001T001901Z
LAST-MODIFIED:20131001T001901Z
UID:10001114-1381914000-1382119200@web.tee.gr
SUMMARY:Διεθνές Συνέδριο για την Ανοικτή Πρόσβαση
DESCRIPTION: Το Εθνικό Κέντρο Τεκμηρίωσης (ΕΚΤ) διοργανώνει στην Αθήνα (16-18 Οκτωβρίου 2013) το διεθνές συνέδριο με θέμα: “Ανοικτή Πρόσβαση @ ΕΚΤ”\, το τρίτο κατά σειρά ενός κύκλου διεθνών συνεδρίων με αντικείμενο την Ανοικτή Πρόσβαση στην επιστημονική γνώση. Το συνέδριο\, που πραγματοποιείται από το 2008 στο Εθνικό Ίδρυμα Ερευνών (Βασ. Κωνσταντίνου 48)\, αποτελεί σημείο συνάντησης για ειδικούς σε θέματα Ανοικτής Πρόσβασης\, για εκπροσώπους φορέων που δραστηριοποιούνται στη χάραξη πολιτικών έρευνας\, για ερευνητές\, για φοιτητές\, καθώς και για όσους ενδιαφέρονται να ενημερωθούν για τις τρέχουσες εξελίξεις σχετικά με την Ανοικτή Πρόσβαση σε Ελλάδα και Ευρώπη. Το συνέδριο χωρίζεται σε δύο θεματικές ενότητες\, η πρώτη αφορά την Ανοικτή Πρόσβαση στην Ελλάδα και η δεύτερη είναι το τελικό συνέδριο του ευρωπαϊκού έργου MedOANet. \nΑνοικτή Πρόσβαση στην Ελλάδα\, 16 Οκτωβρίου. Η ενότητα αυτή εξετάζει τις τελευταίες τάσεις και εξελίξεις στην Ανοικτή Πρόσβαση στην Ελλάδα. Επικεντρώνεται στο έργο και σε σχετικές πρωτοβουλίες φορέων από την Ελλάδα με αντικείμενο τα ανοικτά δημόσια δεδομένα και τις εφαρμογές τους\, την ανοικτή διακυβέρνηση\, την ανοικτή εκπαίδευση και την ανοικτή έρευνα. Στην ενότητα αυτή γίνονται δεκτές περιλήψεις για παρουσιάσεις ή/και πόστερ που θα υποβληθούν σε διαδικασία αξιολόγησης. Η καταληκτική ημερομηνία υποβολής περιλήψεων είναι η 31η Ιουλίου. \nΤελικό συνέδριο του ευρωπαϊκού έργου MedOANet\, 17-18 Οκτωβρίου. Η δεύτερη ενότητα του συνεδρίου περιλαμβάνει το τελικό συνέδριο του ευρωπαϊκού έργου MedOANet (www.medoanet.eu). Το έργο συντονίζεται από το Εθνικό Κέντρο Τεκμηρίωσης και προωθεί την εφαρμογή εθνικών πολιτικών για την Ανοικτή Πρόσβαση ανάμεσα στα κράτη της Μεσογείου. Το τελικό συνέδριο του MedOANet θα παρουσιάσει τα αποτελέσματα του έργου\, εντάσσοντάς τα στο ευρύτερο ευρωπαϊκό πλαίσιο των πολιτικών για την Ανοικτή Πρόσβαση και θα αποτελέσει βήμα για συζήτηση της προόδου της εφαρμογής των πολιτικών για την Ανοικτή Πρόσβαση στην Ευρώπη. Ειδικότερα\, το συνέδριο του MedOANet θα εστιάσει στις καλές και αποτελεσματικές πρακτικές σχετικά με την εφαρμογή πολιτικών Ανοικτής Πρόσβασης από φορείς χρηματοδότησης και διεξαγωγής έρευνας στην Ευρώπη και αλλού στον κόσμο\, καθώς και στην συμβολή της Ανοικτής Πρόσβασης στον Ευρωπαϊκό Χώρο Έρευνας. Η είσοδος στο συνέδριο είναι ελεύθερη\, απαιτείται όμως online εγγραφή. Πληροφορίες: www.ekt.gr
URL:https://web.tee.gr/event/dieunes-synedrio-ekt/
LOCATION:Εθνικό Ίδρυμα Ερευνών\, Βασιλέως Κωνσταντίνου 48\, Αθήνα\, 11635
END:VEVENT
END:VCALENDAR