BEGIN:VCALENDAR
VERSION:2.0
PRODID:-//TEE - ECPv6.15.20//NONSGML v1.0//EN
CALSCALE:GREGORIAN
METHOD:PUBLISH
X-WR-CALNAME:TEE
X-ORIGINAL-URL:https://web.tee.gr
X-WR-CALDESC:Events for TEE
REFRESH-INTERVAL;VALUE=DURATION:PT1H
X-Robots-Tag:noindex
X-PUBLISHED-TTL:PT1H
BEGIN:VTIMEZONE
TZID:Europe/Athens
BEGIN:DAYLIGHT
TZOFFSETFROM:+0200
TZOFFSETTO:+0300
TZNAME:EEST
DTSTART:20120325T010000
END:DAYLIGHT
BEGIN:STANDARD
TZOFFSETFROM:+0300
TZOFFSETTO:+0200
TZNAME:EET
DTSTART:20121028T010000
END:STANDARD
BEGIN:DAYLIGHT
TZOFFSETFROM:+0200
TZOFFSETTO:+0300
TZNAME:EEST
DTSTART:20130331T010000
END:DAYLIGHT
BEGIN:STANDARD
TZOFFSETFROM:+0300
TZOFFSETTO:+0200
TZNAME:EET
DTSTART:20131027T010000
END:STANDARD
BEGIN:DAYLIGHT
TZOFFSETFROM:+0200
TZOFFSETTO:+0300
TZNAME:EEST
DTSTART:20140330T010000
END:DAYLIGHT
BEGIN:STANDARD
TZOFFSETFROM:+0300
TZOFFSETTO:+0200
TZNAME:EET
DTSTART:20141026T010000
END:STANDARD
END:VTIMEZONE
BEGIN:VEVENT
DTSTART;TZID=Europe/Athens:20131202T173000
DTEND;TZID=Europe/Athens:20131202T213000
DTSTAMP:20260419T175103
CREATED:20131114T160421Z
LAST-MODIFIED:20131114T160421Z
UID:10000428-1386005400-1386019800@web.tee.gr
SUMMARY:Εσπερίδα: "Η κεντρική θέρμανση του μέλλοντος"
DESCRIPTION:Εσπερίδα με θέμα: «Η κεντρική θέρμανσης του μέλλοντος» διοργανώνει ο Πανελλήνιος Σύλλογος Διπλωματούχων  Μηχανολόγων –Ηλεκτρολόγων στις 2 Δεκεμβρίου 2013\, στο ξενοδοχείο Τιτάνια. \nΚατά τη διάρκεια των εργασιών της επιστημονικής εκδήλωσης –που θα ξεκινήσουν στις 17:30 μ.μ.\, με χαιρετισμό του Προέδρου του Π.Σ.Δ.Μ.-Η Τάσου Ευσταθίου- θα αναπτυχθούν τα θέματα:  \n\nΟικονομικά της κεντρικής θερμάνσεως. Τιμές ενέργειες: το τέλος του πετρελαίου στην κεντρική θέρμανση; Μεθοδολογία οικονομικής αποτιμήσεως κύκλου ζωής.  Ενεργειακή προσομοίωση συνδυαστικών εγκαταστάσεων. Θερμο-οικονομική αξιολόγηση εναλλακτικών συστημάτων κεντρικής θερμάνσεως σε νέες και υφιστάμενες οικοδομές (λέβητες φυσικού αερίου και βιομάζας \, αντλίες θερμότητας\, ηλιοθερμικά συστήματα). Χρηματοδότηση έργων ανακαινίσεως κεντρικών θερμάνσεων.\n\nΕισηγητής : Απόστολος Ευθυμιάδης\, Δρ. Μηχ. \, Διπλ. Μηχ/γος-Ηλ/γος Μηχ.\, μέλος του Δ.Σ. του ΠΣΔΜ-Η. \n\nΗλιοθερμικά συστήματα COMBI για παραγωγή ζεστού νερού κεντρικής θερμάνσεως και ζεστού νερού χρήσεως (ΖΝΧ). Θερμοδοχεία αποθηκεύσεως και διαστρωματώσεως του παραγόμενου θερμού νερού με την ηλιοθερμική εγκατάσταση. Βοηθητικές πηγές θερμότητας : φυσικό αέριο\, πελέτα\, υγραέριο. Τεχνολογίες εξοικονομήσεως ενεργείας και καιρική αντιστάθμιση των ηλιοθερμικών συστημάτων. Αυτόματος έλεγχος της παραγωγής και ανακυκλοφορίας του ΖΝΧ.  Τηλεεπιτήρηση και τηλε–έλεγχος συστημάτων.  \n\nΕισηγητής : Γεώργιος Ανδριανός\, Διπλ. Ηλ/γος Μηχ.\, Εκπρόσωπος Ένωσης Ελληνικών Επιχειρήσεων Θέρμανσης Ενέργειας – ΕΝ.Ε.ΕΠΙ.Θ.Ε  \n  \n\nΤεχνολογίες αντλιών θερμότητας για κεντρική θέρμανση και κλιματισμό. Τυπικά παραδείγματα ανακαινίσεως εγκαταστάσεων  κεντρικής θερμάνσεως με αντλίες θερμότητας. Τυπικές διατάξεις αντλιών θερμότητας υποβοηθούμενες με άλλες πηγές ενέργειας (ηλιοθερμία\, φυσικό αέριο\, κλπ). Συστήματα χαμηλής θερμοκρασίας και ενεργειακή απόδοση. Τεχνολογίες εκπομπής θερμότητας (ενδοδαπέδιο\, πανέλα χαμηλών θερμοκρασιών\, στοιχεία με ανεμιστήρα).  Τεχνολογίες καιρικής αντισταθμίσεως της θερμοκρασίας νερού θερμάνσεως.\n\nΕισηγητής : Σωτήρης Κατσιμίχας\, Δρ\, Μηχ. Διπλ. Μηχ/γος Μηχ. ή άλλος εκπρόσωπος Ένωσης Ελληνικών Επιχειρήσεων Θέρμανσης Ενέργειας – ΕΝ.Ε.ΕΠΙ.Θ.Ε  \n  \n\nΚεντρική θέρμανση με συστήματα βιομάζας. Τιμές ενέργειας και τεχνολογίες λεβήτων ξύλου και πελέτας. Εγκαταστάσεις λεβήτων βιομάζας\, τροφοδοσία καυσίμου και εξαγωγή καυσαερίων. Απαιτήσεις αποδόσεως καύσεως και όρια εκπεμπόμενων ρύπων. Κτιριοδομικοί περιορισμοί.  Οικονομική βιωσιμότητα ανακαινίσεως εγκαταστάσεων κεντρικής θερμάνσεως με εισαγωγή της βιομάζας.  \n\nΕισηγητής : Νικόλαος Γαλάνης\, Δρ. Μηχ.\, Διπλ. Μηχανολόγος Μηχανικός. \n  \nΘ ακολουθήσει συζήτηση\, καθώς και τοποθετήσεις συνέδρων. \nΠληροφορίες: Τηλ.: 210 9212741 / 42 / 44\, ιστοσελίδα: www.psdmh.gr\, email: psdmh@otenet.gr
URL:https://web.tee.gr/event/esperida-kentrikh-uermansh/
LOCATION:Ξενοδοχείο Τιτάνια\, ΑΘΗΝΑ
END:VEVENT
END:VCALENDAR